BEGIN:VCALENDAR
VERSION:2.0
PRODID:-//Always Race Day - ECPv6.15.20//NONSGML v1.0//EN
CALSCALE:GREGORIAN
METHOD:PUBLISH
X-ORIGINAL-URL:https://alwaysraceday.com
X-WR-CALDESC:Events for Always Race Day
REFRESH-INTERVAL;VALUE=DURATION:PT1H
X-Robots-Tag:noindex
X-PUBLISHED-TTL:PT1H
BEGIN:VTIMEZONE
TZID:America/Chicago
BEGIN:DAYLIGHT
TZOFFSETFROM:-0600
TZOFFSETTO:-0500
TZNAME:CDT
DTSTART:20220313T080000
END:DAYLIGHT
BEGIN:STANDARD
TZOFFSETFROM:-0500
TZOFFSETTO:-0600
TZNAME:CST
DTSTART:20221106T070000
END:STANDARD
BEGIN:DAYLIGHT
TZOFFSETFROM:-0600
TZOFFSETTO:-0500
TZNAME:CDT
DTSTART:20230312T080000
END:DAYLIGHT
BEGIN:STANDARD
TZOFFSETFROM:-0500
TZOFFSETTO:-0600
TZNAME:CST
DTSTART:20231105T070000
END:STANDARD
BEGIN:DAYLIGHT
TZOFFSETFROM:-0600
TZOFFSETTO:-0500
TZNAME:CDT
DTSTART:20240310T080000
END:DAYLIGHT
BEGIN:STANDARD
TZOFFSETFROM:-0500
TZOFFSETTO:-0600
TZNAME:CST
DTSTART:20241103T070000
END:STANDARD
END:VTIMEZONE
BEGIN:VEVENT
DTSTART;TZID=America/Chicago:20230624T200000
DTEND;TZID=America/Chicago:20230624T200000
DTSTAMP:20260423T111101
CREATED:20230412T191953Z
LAST-MODIFIED:20230412T191953Z
UID:16149-1687636800-1687636800@alwaysraceday.com
SUMMARY:ARCA Menards Series @ Elko
DESCRIPTION:Elko Speedway | Fox Sports 2
URL:https://alwaysraceday.com/schedule/arca-menards-series-elko-2/
CATEGORIES:Asphalt
ATTACH;FMTTYPE=image/png:https://alwaysraceday.com/wp-content/uploads/2023/04/ARCA_Menards_Series_Logo.svg.png
END:VEVENT
BEGIN:VEVENT
DTSTART;TZID=America/Chicago:20230624T153000
DTEND;TZID=America/Chicago:20230624T153000
DTSTAMP:20260423T111101
CREATED:20230301T161100Z
LAST-MODIFIED:20230301T161100Z
UID:15786-1687620600-1687620600@alwaysraceday.com
SUMMARY:NASCAR Xfinity Series @ Nashville
DESCRIPTION:Nashville Superspeedway | USA Network
URL:https://alwaysraceday.com/schedule/nascar-xfinity-series-nashville-3/
CATEGORIES:Asphalt
ATTACH;FMTTYPE=image/jpeg:https://alwaysraceday.com/wp-content/uploads/2023/02/NASCAR-Xfinity-Series-purple-logo-2022-NXS.jpg
END:VEVENT
BEGIN:VEVENT
DTSTART;TZID=America/Chicago:20230623T190000
DTEND;TZID=America/Chicago:20230623T190000
DTSTAMP:20260423T111101
CREATED:20230301T160902Z
LAST-MODIFIED:20230301T160902Z
UID:15784-1687546800-1687546800@alwaysraceday.com
SUMMARY:NASCAR Truck Series @ Nashville
DESCRIPTION:Nashville Superspeedway | Fox Sports 1
URL:https://alwaysraceday.com/schedule/nascar-truck-series-nashville-2/
CATEGORIES:Asphalt
ATTACH;FMTTYPE=image/webp:https://alwaysraceday.com/wp-content/uploads/2023/02/nascar-craftsman-truck-series-logo-1.webp
END:VEVENT
BEGIN:VEVENT
DTSTART;TZID=America/Chicago:20230623T180000
DTEND;TZID=America/Chicago:20230623T180000
DTSTAMP:20260423T111101
CREATED:20230612T152407Z
LAST-MODIFIED:20230612T152407Z
UID:16621-1687543200-1687543200@alwaysraceday.com
SUMMARY:USAC Silver Crown @ Madison (Pavement)
DESCRIPTION:Madison International Speedway | FloRacing
URL:https://alwaysraceday.com/schedule/usac-silver-crown-madison-pavement/
CATEGORIES:Asphalt,Dirt
ATTACH;FMTTYPE=image/png:https://alwaysraceday.com/wp-content/uploads/2023/06/2019_Silver_Crown_Black_200x145.png
END:VEVENT
BEGIN:VEVENT
DTSTART;TZID=America/Chicago:20230618T110000
DTEND;TZID=America/Chicago:20230618T110000
DTSTAMP:20260423T111101
CREATED:20221021T180525Z
LAST-MODIFIED:20221021T180525Z
UID:14036-1687086000-1687086000@alwaysraceday.com
SUMMARY:IndyCar @ Road America
DESCRIPTION:Road America | USA Network
URL:https://alwaysraceday.com/schedule/indycar-road-america-2/
CATEGORIES:Asphalt
ATTACH;FMTTYPE=image/png:https://alwaysraceday.com/wp-content/uploads/2022/10/IndyCar_Series_logo.svg.png
END:VEVENT
BEGIN:VEVENT
DTSTART;TZID=America/Chicago:20230617T190000
DTEND;TZID=America/Chicago:20230617T190000
DTSTAMP:20260423T111101
CREATED:20230412T191825Z
LAST-MODIFIED:20230412T191825Z
UID:16147-1687028400-1687028400@alwaysraceday.com
SUMMARY:ARCA Menards Series @ Berlin
DESCRIPTION:Berlin Raceway | Fox Sports 1
URL:https://alwaysraceday.com/schedule/arca-menards-series-berlin-2/
CATEGORIES:Asphalt
ATTACH;FMTTYPE=image/png:https://alwaysraceday.com/wp-content/uploads/2023/04/ARCA_Menards_Series_Logo.svg.png
END:VEVENT
BEGIN:VEVENT
DTSTART;TZID=America/Chicago:20230611T143000
DTEND;TZID=America/Chicago:20230611T143000
DTSTAMP:20260423T111101
CREATED:20221213T220819Z
LAST-MODIFIED:20221213T220819Z
UID:14868-1686493800-1686493800@alwaysraceday.com
SUMMARY:NASCAR Cup Series Toyota / Save Mart 350 @ Sonoma
DESCRIPTION:Sonoma Raceway | FOX
URL:https://alwaysraceday.com/schedule/nascar-cup-series-toyota-save-mart-350-sonoma/
CATEGORIES:Asphalt
ATTACH;FMTTYPE=image/png:https://alwaysraceday.com/wp-content/uploads/2022/12/NASCAR_Cup_Series_logo.svg.png
END:VEVENT
BEGIN:VEVENT
DTSTART;TZID=America/Chicago:20230610T190000
DTEND;TZID=America/Chicago:20230610T190000
DTSTAMP:20260423T111101
CREATED:20230301T160643Z
LAST-MODIFIED:20230301T160643Z
UID:15782-1686423600-1686423600@alwaysraceday.com
SUMMARY:NASCAR Xfinity Series @ Sonoma
DESCRIPTION:Sonoma Raceway | Fox Sports 1
URL:https://alwaysraceday.com/schedule/nascar-xfinity-series-sonoma/
CATEGORIES:Asphalt
ATTACH;FMTTYPE=image/jpeg:https://alwaysraceday.com/wp-content/uploads/2023/02/NASCAR-Xfinity-Series-purple-logo-2022-NXS.jpg
END:VEVENT
BEGIN:VEVENT
DTSTART;TZID=America/Chicago:20230609T173000
DTEND;TZID=America/Chicago:20230609T173000
DTSTAMP:20260423T111101
CREATED:20230412T191631Z
LAST-MODIFIED:20230412T191631Z
UID:16145-1686331800-1686331800@alwaysraceday.com
SUMMARY:ARCA West General Tire 200 @ Sonoma
DESCRIPTION:Sonoma Raceway | FloRacing
URL:https://alwaysraceday.com/schedule/arca-west-general-tire-200-sonoma/
CATEGORIES:Asphalt
ATTACH;FMTTYPE=image/png:https://alwaysraceday.com/wp-content/uploads/2023/04/AMS_West_2020_Ver_1.png
END:VEVENT
BEGIN:VEVENT
DTSTART;TZID=America/Chicago:20230604T143000
DTEND;TZID=America/Chicago:20230604T143000
DTSTAMP:20260423T111101
CREATED:20221213T220659Z
LAST-MODIFIED:20221213T220659Z
UID:14865-1685889000-1685889000@alwaysraceday.com
SUMMARY:NASCAR Cup Series Enjoy Illinois 300 @ Gateway
DESCRIPTION:World Wide Technology Raceway at Gateway | Fox Sports 1
URL:https://alwaysraceday.com/schedule/nascar-cup-series-enjoy-illinois-300-gateway/
CATEGORIES:Asphalt
ATTACH;FMTTYPE=image/png:https://alwaysraceday.com/wp-content/uploads/2022/12/NASCAR_Cup_Series_logo.svg.png
END:VEVENT
BEGIN:VEVENT
DTSTART;TZID=America/Chicago:20230604T140000
DTEND;TZID=America/Chicago:20230604T140000
DTSTAMP:20260423T111101
CREATED:20221021T175519Z
LAST-MODIFIED:20221021T175519Z
UID:14034-1685887200-1685887200@alwaysraceday.com
SUMMARY:IndyCar @ Streets of Detroit
DESCRIPTION:Streets of Detroit | NBC
URL:https://alwaysraceday.com/schedule/indycar-streets-of-detroit-2/
CATEGORIES:Asphalt
ATTACH;FMTTYPE=image/png:https://alwaysraceday.com/wp-content/uploads/2022/10/IndyCar_Series_logo.svg.png
END:VEVENT
BEGIN:VEVENT
DTSTART;TZID=America/Chicago:20230603T153000
DTEND;TZID=America/Chicago:20230603T153000
DTSTAMP:20260423T111101
CREATED:20230301T155926Z
LAST-MODIFIED:20230301T155926Z
UID:15778-1685806200-1685806200@alwaysraceday.com
SUMMARY:NASCAR Xfinity Series @ Portland
DESCRIPTION:Portland International Raceway | Fox Sports 1
URL:https://alwaysraceday.com/schedule/nascar-xfinity-series-portland/
CATEGORIES:Asphalt
ATTACH;FMTTYPE=image/jpeg:https://alwaysraceday.com/wp-content/uploads/2023/02/NASCAR-Xfinity-Series-purple-logo-2022-NXS.jpg
END:VEVENT
BEGIN:VEVENT
DTSTART;TZID=America/Chicago:20230603T123000
DTEND;TZID=America/Chicago:20230603T123000
DTSTAMP:20260423T111101
CREATED:20230227T200925Z
LAST-MODIFIED:20230227T200925Z
UID:15774-1685795400-1685795400@alwaysraceday.com
SUMMARY:NASCAR Truck Series @ Gateway
DESCRIPTION:World Wide Technology Raceway | Fox Sports 1
URL:https://alwaysraceday.com/schedule/nascar-truck-series-gateway-3/
CATEGORIES:Asphalt
ATTACH;FMTTYPE=image/webp:https://alwaysraceday.com/wp-content/uploads/2023/02/nascar-craftsman-truck-series-logo-1.webp
END:VEVENT
BEGIN:VEVENT
DTSTART;TZID=America/Chicago:20230602T193000
DTEND;TZID=America/Chicago:20230602T193000
DTSTAMP:20260423T111101
CREATED:20230412T185831Z
LAST-MODIFIED:20230412T185831Z
UID:16143-1685734200-1685734200@alwaysraceday.com
SUMMARY:ARCA West @ Portland
DESCRIPTION:Portland International Raceway | FloRacing
URL:https://alwaysraceday.com/schedule/arca-west-portland-2/
CATEGORIES:Asphalt
ATTACH;FMTTYPE=image/png:https://alwaysraceday.com/wp-content/uploads/2023/04/AMS_West_2020_Ver_1.png
END:VEVENT
BEGIN:VEVENT
DTSTART;TZID=America/Chicago:20230528T170000
DTEND;TZID=America/Chicago:20230528T170000
DTSTAMP:20260423T111101
CREATED:20221213T214251Z
LAST-MODIFIED:20221213T214251Z
UID:14862-1685293200-1685293200@alwaysraceday.com
SUMMARY:NASCAR Cup Series 64th running of the Coca Cola 600
DESCRIPTION:Charlotte Motor Speedway | FOX
URL:https://alwaysraceday.com/schedule/nascar-cup-series-64th-running-of-the-coca-cola-600/
CATEGORIES:Asphalt
ATTACH;FMTTYPE=image/webp:https://alwaysraceday.com/wp-content/uploads/2022/12/cc6001_300x200.webp
END:VEVENT
BEGIN:VEVENT
DTSTART;TZID=America/Chicago:20230528T100000
DTEND;TZID=America/Chicago:20230528T100000
DTSTAMP:20260423T111101
CREATED:20221021T175415Z
LAST-MODIFIED:20221021T175415Z
UID:14031-1685268000-1685268000@alwaysraceday.com
SUMMARY:107th running of the Indianapolis 500 (IndyCar)
DESCRIPTION:Indianapolis Motor Speedway | NBC
URL:https://alwaysraceday.com/schedule/107th-running-of-the-indianapolis-500-indycar/
CATEGORIES:Asphalt
ATTACH;FMTTYPE=image/jpeg:https://alwaysraceday.com/wp-content/uploads/2022/10/FToD2GuXoAA4N2h-scaled.jpg
END:VEVENT
BEGIN:VEVENT
DTSTART;TZID=America/Chicago:20230527T120000
DTEND;TZID=America/Chicago:20230527T120000
DTSTAMP:20260423T111101
CREATED:20230225T180201Z
LAST-MODIFIED:20230225T180201Z
UID:15765-1685188800-1685188800@alwaysraceday.com
SUMMARY:NASCAR Xfinity Series @ Charlotte
DESCRIPTION:Charlotte Motor Speedway | Fox Sports 1
URL:https://alwaysraceday.com/schedule/nascar-xfinity-series-charlotte-3/
CATEGORIES:Asphalt
ATTACH;FMTTYPE=image/jpeg:https://alwaysraceday.com/wp-content/uploads/2023/02/NASCAR-Xfinity-Series-purple-logo-2022-NXS.jpg
END:VEVENT
BEGIN:VEVENT
DTSTART;TZID=America/Chicago:20230526T193000
DTEND;TZID=America/Chicago:20230526T193000
DTSTAMP:20260423T111101
CREATED:20230225T180056Z
LAST-MODIFIED:20230225T180056Z
UID:15763-1685129400-1685129400@alwaysraceday.com
SUMMARY:NASCAR Truck Series @ Charlotte
DESCRIPTION:Charlotte Motor Speedway | Fox Sports 1
URL:https://alwaysraceday.com/schedule/nascar-truck-series-charlotte-2/
CATEGORIES:Asphalt
ATTACH;FMTTYPE=image/webp:https://alwaysraceday.com/wp-content/uploads/2023/02/nascar-craftsman-truck-series-logo-1.webp
END:VEVENT
BEGIN:VEVENT
DTSTART;TZID=America/Chicago:20230526T170000
DTEND;TZID=America/Chicago:20230526T170000
DTSTAMP:20260423T111101
CREATED:20230412T184728Z
LAST-MODIFIED:20230412T184728Z
UID:16141-1685120400-1685120400@alwaysraceday.com
SUMMARY:ARCA Menards Series General Tire 150 @ Charlotte
DESCRIPTION:Charlotte Motor Speedway | Fox Sports 1
URL:https://alwaysraceday.com/schedule/arca-menards-series-general-tire-150-charlotte/
CATEGORIES:Asphalt
ATTACH;FMTTYPE=image/png:https://alwaysraceday.com/wp-content/uploads/2023/04/ARCA_Menards_Series_Logo.svg.png
END:VEVENT
BEGIN:VEVENT
DTSTART;TZID=America/Chicago:20230521T190000
DTEND;TZID=America/Chicago:20230521T190000
DTSTAMP:20260423T111101
CREATED:20221213T211838Z
LAST-MODIFIED:20221213T211838Z
UID:14860-1684695600-1684695600@alwaysraceday.com
SUMMARY:NASCAR All-Star Race @ North Wilkesboro Speedway
DESCRIPTION:North Wilkesboro Speedway | Fox Sports 1
URL:https://alwaysraceday.com/schedule/nascar-all-star-race-north-wilkesboro-speedway/
CATEGORIES:Asphalt
ATTACH;FMTTYPE=image/webp:https://alwaysraceday.com/wp-content/uploads/2022/12/nascar-allstar-22-sq-lg.webp
END:VEVENT
BEGIN:VEVENT
DTSTART;TZID=America/Chicago:20230521T170000
DTEND;TZID=America/Chicago:20230521T170000
DTSTAMP:20260423T111101
CREATED:20221213T211746Z
LAST-MODIFIED:20221213T211746Z
UID:14857-1684688400-1684688400@alwaysraceday.com
SUMMARY:NASCAR All-Star Open @ North Wilkesboro
DESCRIPTION:North Wilkesboro Speedway | Fox Sports 1
URL:https://alwaysraceday.com/schedule/nascar-all-star-open-north-wilkesboro/
CATEGORIES:Asphalt
ATTACH;FMTTYPE=image/webp:https://alwaysraceday.com/wp-content/uploads/2022/12/nascar-allstar-22-sq-lg.webp
END:VEVENT
BEGIN:VEVENT
DTSTART;TZID=America/Chicago:20230520T183000
DTEND;TZID=America/Chicago:20230520T183000
DTSTAMP:20260423T111101
CREATED:20230412T184520Z
LAST-MODIFIED:20230412T184520Z
UID:16139-1684607400-1684607400@alwaysraceday.com
SUMMARY:ARCA East @ Flat Rock
DESCRIPTION:Flat Rock Speedway | FloRacing
URL:https://alwaysraceday.com/schedule/arca-east-flat-rock/
CATEGORIES:Asphalt
ATTACH;FMTTYPE=image/png:https://alwaysraceday.com/wp-content/uploads/2023/04/AMS_East_2020_Ver_1.png
END:VEVENT
BEGIN:VEVENT
DTSTART;TZID=America/Chicago:20230520T123000
DTEND;TZID=America/Chicago:20230520T123000
DTSTAMP:20260423T111101
CREATED:20230225T173204Z
LAST-MODIFIED:20230225T173204Z
UID:15761-1684585800-1684585800@alwaysraceday.com
SUMMARY:NASCAR Truck Series @ North Wilkesboro
DESCRIPTION:North Wilkesboro Speedway | FOX
URL:https://alwaysraceday.com/schedule/nascar-truck-series-north-wilkesboro/
CATEGORIES:Asphalt
ATTACH;FMTTYPE=image/webp:https://alwaysraceday.com/wp-content/uploads/2023/02/nascar-craftsman-truck-series-logo-1.webp
END:VEVENT
BEGIN:VEVENT
DTSTART;TZID=America/Chicago:20230514T140000
DTEND;TZID=America/Chicago:20230514T140000
DTSTAMP:20260423T111101
CREATED:20221127T234626Z
LAST-MODIFIED:20221127T234626Z
UID:14588-1684072800-1684072800@alwaysraceday.com
SUMMARY:NASCAR Cup Series @ Darlington
DESCRIPTION:Darlington Raceway | Fox Sports 1
URL:https://alwaysraceday.com/schedule/nascar-cup-series-darlington/
CATEGORIES:Asphalt
ATTACH;FMTTYPE=image/png:https://alwaysraceday.com/wp-content/uploads/2022/11/NASCAR_Cup_Series_logo.svg.png
END:VEVENT
BEGIN:VEVENT
DTSTART;TZID=America/Chicago:20230513T203000
DTEND;TZID=America/Chicago:20230513T203000
DTSTAMP:20260423T111101
CREATED:20230411T183146Z
LAST-MODIFIED:20230411T183146Z
UID:16132-1684009800-1684009800@alwaysraceday.com
SUMMARY:ARCA East @ Nashville Fairgrounds
DESCRIPTION:Nashville Fairgrounds Speedway | FloRacing
URL:https://alwaysraceday.com/schedule/arca-east-nashville-fairgrounds/
CATEGORIES:Asphalt
ATTACH;FMTTYPE=image/png:https://alwaysraceday.com/wp-content/uploads/2023/04/AMS_East_2020_Ver_1.png
END:VEVENT
BEGIN:VEVENT
DTSTART;TZID=America/Chicago:20230513T140000
DTEND;TZID=America/Chicago:20230513T140000
DTSTAMP:20260423T111101
CREATED:20221021T173349Z
LAST-MODIFIED:20221021T173349Z
UID:14029-1683986400-1683986400@alwaysraceday.com
SUMMARY:IndyCar @ IMS Road Course
DESCRIPTION:Indianapolis Motor Speedway Road Course | NBC
URL:https://alwaysraceday.com/schedule/indycar-ims-road-course/
CATEGORIES:Asphalt
ATTACH;FMTTYPE=image/png:https://alwaysraceday.com/wp-content/uploads/2022/10/IndyCar_Series_logo.svg.png
END:VEVENT
BEGIN:VEVENT
DTSTART;TZID=America/Chicago:20230513T123000
DTEND;TZID=America/Chicago:20230513T123000
DTSTAMP:20260423T111101
CREATED:20230225T173005Z
LAST-MODIFIED:20230225T173005Z
UID:15759-1683981000-1683981000@alwaysraceday.com
SUMMARY:NASCAR Xfinity Series @ Darlington
DESCRIPTION:Darlington Raceway | FOX
URL:https://alwaysraceday.com/schedule/nascar-xfinity-series-darlington-6/
CATEGORIES:Asphalt
ATTACH;FMTTYPE=image/jpeg:https://alwaysraceday.com/wp-content/uploads/2023/02/NASCAR-Xfinity-Series-purple-logo-2022-NXS.jpg
END:VEVENT
BEGIN:VEVENT
DTSTART;TZID=America/Chicago:20230512T183000
DTEND;TZID=America/Chicago:20230512T183000
DTSTAMP:20260423T111101
CREATED:20230225T172443Z
LAST-MODIFIED:20230225T172443Z
UID:15757-1683916200-1683916200@alwaysraceday.com
SUMMARY:NASCAR Truck Series @ Darlington
DESCRIPTION:Darlington Raceway | Fox Sports 1
URL:https://alwaysraceday.com/schedule/nascar-truck-series-darlington-2/
CATEGORIES:Asphalt
ATTACH;FMTTYPE=image/webp:https://alwaysraceday.com/wp-content/uploads/2023/02/nascar-craftsman-truck-series-logo-1.webp
END:VEVENT
BEGIN:VEVENT
DTSTART;TZID=America/Chicago:20230507T140000
DTEND;TZID=America/Chicago:20230507T140000
DTSTAMP:20260423T111101
CREATED:20221127T234150Z
LAST-MODIFIED:20221127T234150Z
UID:14586-1683468000-1683468000@alwaysraceday.com
SUMMARY:NASCAR Cup Series AdventHealth 400 @ Kansas
DESCRIPTION:Kansas Speedway | Fox Sports 1
URL:https://alwaysraceday.com/schedule/nascar-cup-series-adventhealth-400-kansas/
CATEGORIES:Asphalt
ATTACH;FMTTYPE=image/png:https://alwaysraceday.com/wp-content/uploads/2022/11/NASCAR_Cup_Series_logo.svg.png
END:VEVENT
BEGIN:VEVENT
DTSTART;TZID=America/Chicago:20230506T190000
DTEND;TZID=America/Chicago:20230506T190000
DTSTAMP:20260423T111101
CREATED:20230225T172006Z
LAST-MODIFIED:20230225T172006Z
UID:15755-1683399600-1683399600@alwaysraceday.com
SUMMARY:NASCAR Truck Series @ Kansas
DESCRIPTION:Kansas Speedway | Fox Sports 1
URL:https://alwaysraceday.com/schedule/nascar-truck-series-kansas-3/
CATEGORIES:Asphalt
ATTACH;FMTTYPE=image/webp:https://alwaysraceday.com/wp-content/uploads/2023/02/nascar-craftsman-truck-series-logo-1.webp
END:VEVENT
END:VCALENDAR