BEGIN:VCALENDAR
VERSION:2.0
PRODID:-//Always Race Day - ECPv6.15.20//NONSGML v1.0//EN
CALSCALE:GREGORIAN
METHOD:PUBLISH
X-WR-CALNAME:Always Race Day
X-ORIGINAL-URL:https://alwaysraceday.com
X-WR-CALDESC:Events for Always Race Day
REFRESH-INTERVAL;VALUE=DURATION:PT1H
X-Robots-Tag:noindex
X-PUBLISHED-TTL:PT1H
BEGIN:VTIMEZONE
TZID:America/Chicago
BEGIN:DAYLIGHT
TZOFFSETFROM:-0600
TZOFFSETTO:-0500
TZNAME:CDT
DTSTART:20220313T080000
END:DAYLIGHT
BEGIN:STANDARD
TZOFFSETFROM:-0500
TZOFFSETTO:-0600
TZNAME:CST
DTSTART:20221106T070000
END:STANDARD
BEGIN:DAYLIGHT
TZOFFSETFROM:-0600
TZOFFSETTO:-0500
TZNAME:CDT
DTSTART:20230312T080000
END:DAYLIGHT
BEGIN:STANDARD
TZOFFSETFROM:-0500
TZOFFSETTO:-0600
TZNAME:CST
DTSTART:20231105T070000
END:STANDARD
BEGIN:DAYLIGHT
TZOFFSETFROM:-0600
TZOFFSETTO:-0500
TZNAME:CDT
DTSTART:20240310T080000
END:DAYLIGHT
BEGIN:STANDARD
TZOFFSETFROM:-0500
TZOFFSETTO:-0600
TZNAME:CST
DTSTART:20241103T070000
END:STANDARD
END:VTIMEZONE
BEGIN:VEVENT
DTSTART;TZID=America/Chicago:20230513T203000
DTEND;TZID=America/Chicago:20230513T203000
DTSTAMP:20260423T141140
CREATED:20230411T183146Z
LAST-MODIFIED:20230411T183146Z
UID:16132-1684009800-1684009800@alwaysraceday.com
SUMMARY:ARCA East @ Nashville Fairgrounds
DESCRIPTION:Nashville Fairgrounds Speedway | FloRacing
URL:https://alwaysraceday.com/schedule/arca-east-nashville-fairgrounds/
CATEGORIES:Asphalt
ATTACH;FMTTYPE=image/png:https://alwaysraceday.com/wp-content/uploads/2023/04/AMS_East_2020_Ver_1.png
END:VEVENT
BEGIN:VEVENT
DTSTART;TZID=America/Chicago:20230513T140000
DTEND;TZID=America/Chicago:20230513T140000
DTSTAMP:20260423T141140
CREATED:20221021T173349Z
LAST-MODIFIED:20221021T173349Z
UID:14029-1683986400-1683986400@alwaysraceday.com
SUMMARY:IndyCar @ IMS Road Course
DESCRIPTION:Indianapolis Motor Speedway Road Course | NBC
URL:https://alwaysraceday.com/schedule/indycar-ims-road-course/
CATEGORIES:Asphalt
ATTACH;FMTTYPE=image/png:https://alwaysraceday.com/wp-content/uploads/2022/10/IndyCar_Series_logo.svg.png
END:VEVENT
BEGIN:VEVENT
DTSTART;TZID=America/Chicago:20230513T123000
DTEND;TZID=America/Chicago:20230513T123000
DTSTAMP:20260423T141140
CREATED:20230225T173005Z
LAST-MODIFIED:20230225T173005Z
UID:15759-1683981000-1683981000@alwaysraceday.com
SUMMARY:NASCAR Xfinity Series @ Darlington
DESCRIPTION:Darlington Raceway | FOX
URL:https://alwaysraceday.com/schedule/nascar-xfinity-series-darlington-6/
CATEGORIES:Asphalt
ATTACH;FMTTYPE=image/jpeg:https://alwaysraceday.com/wp-content/uploads/2023/02/NASCAR-Xfinity-Series-purple-logo-2022-NXS.jpg
END:VEVENT
BEGIN:VEVENT
DTSTART;TZID=America/Chicago:20230512T183000
DTEND;TZID=America/Chicago:20230512T183000
DTSTAMP:20260423T141140
CREATED:20230225T172443Z
LAST-MODIFIED:20230225T172443Z
UID:15757-1683916200-1683916200@alwaysraceday.com
SUMMARY:NASCAR Truck Series @ Darlington
DESCRIPTION:Darlington Raceway | Fox Sports 1
URL:https://alwaysraceday.com/schedule/nascar-truck-series-darlington-2/
CATEGORIES:Asphalt
ATTACH;FMTTYPE=image/webp:https://alwaysraceday.com/wp-content/uploads/2023/02/nascar-craftsman-truck-series-logo-1.webp
END:VEVENT
BEGIN:VEVENT
DTSTART;TZID=America/Chicago:20230507T140000
DTEND;TZID=America/Chicago:20230507T140000
DTSTAMP:20260423T141140
CREATED:20221127T234150Z
LAST-MODIFIED:20221127T234150Z
UID:14586-1683468000-1683468000@alwaysraceday.com
SUMMARY:NASCAR Cup Series AdventHealth 400 @ Kansas
DESCRIPTION:Kansas Speedway | Fox Sports 1
URL:https://alwaysraceday.com/schedule/nascar-cup-series-adventhealth-400-kansas/
CATEGORIES:Asphalt
ATTACH;FMTTYPE=image/png:https://alwaysraceday.com/wp-content/uploads/2022/11/NASCAR_Cup_Series_logo.svg.png
END:VEVENT
BEGIN:VEVENT
DTSTART;TZID=America/Chicago:20230506T190000
DTEND;TZID=America/Chicago:20230506T190000
DTSTAMP:20260423T141140
CREATED:20230225T172006Z
LAST-MODIFIED:20230225T172006Z
UID:15755-1683399600-1683399600@alwaysraceday.com
SUMMARY:NASCAR Truck Series @ Kansas
DESCRIPTION:Kansas Speedway | Fox Sports 1
URL:https://alwaysraceday.com/schedule/nascar-truck-series-kansas-3/
CATEGORIES:Asphalt
ATTACH;FMTTYPE=image/webp:https://alwaysraceday.com/wp-content/uploads/2023/02/nascar-craftsman-truck-series-logo-1.webp
END:VEVENT
BEGIN:VEVENT
DTSTART;TZID=America/Chicago:20230506T130000
DTEND;TZID=America/Chicago:20230506T130000
DTSTAMP:20260423T141140
CREATED:20230411T182928Z
LAST-MODIFIED:20230411T182928Z
UID:16130-1683378000-1683378000@alwaysraceday.com
SUMMARY:ARCA Menards Series @ Kansas
DESCRIPTION:Kansas Speedway | Fox Sports 1
URL:https://alwaysraceday.com/schedule/arca-menards-series-kansas-4/
CATEGORIES:Asphalt
ATTACH;FMTTYPE=image/png:https://alwaysraceday.com/wp-content/uploads/2023/04/ARCA_Menards_Series_Logo.svg.png
END:VEVENT
BEGIN:VEVENT
DTSTART;TZID=America/Chicago:20230430T140000
DTEND;TZID=America/Chicago:20230430T140000
DTSTAMP:20260423T141140
CREATED:20221021T173159Z
LAST-MODIFIED:20221021T173159Z
UID:14027-1682863200-1682863200@alwaysraceday.com
SUMMARY:IndyCar @ Barber Motorsports Park
DESCRIPTION:Barber Motorsports Park | NBC
URL:https://alwaysraceday.com/schedule/indycar-barber-motorsports-park-2/
CATEGORIES:Asphalt
ATTACH;FMTTYPE=image/png:https://alwaysraceday.com/wp-content/uploads/2022/10/IndyCar_Series_logo.svg.png
END:VEVENT
BEGIN:VEVENT
DTSTART;TZID=America/Chicago:20230430T130000
DTEND;TZID=America/Chicago:20230430T130000
DTSTAMP:20260423T141140
CREATED:20221127T233845Z
LAST-MODIFIED:20221127T233845Z
UID:14583-1682859600-1682859600@alwaysraceday.com
SUMMARY:NASCAR Cup Series @ Dover
DESCRIPTION:Dover Motor Speedway | Fox Sports 1
URL:https://alwaysraceday.com/schedule/nascar-cup-series-dover-3/
CATEGORIES:Asphalt
ATTACH;FMTTYPE=image/png:https://alwaysraceday.com/wp-content/uploads/2022/11/NASCAR_Cup_Series_logo.svg.png
END:VEVENT
BEGIN:VEVENT
DTSTART;TZID=America/Chicago:20230429T123000
DTEND;TZID=America/Chicago:20230429T123000
DTSTAMP:20260423T141140
CREATED:20230225T171051Z
LAST-MODIFIED:20230225T171051Z
UID:15753-1682771400-1682771400@alwaysraceday.com
SUMMARY:NASCAR Xfinity Series @ Dover
DESCRIPTION:Dover Motor Speedway | Fox Sports 1
URL:https://alwaysraceday.com/schedule/nascar-xfinity-series-dover-3/
CATEGORIES:Asphalt
ATTACH;FMTTYPE=image/jpeg:https://alwaysraceday.com/wp-content/uploads/2023/02/NASCAR-Xfinity-Series-purple-logo-2022-NXS.jpg
END:VEVENT
BEGIN:VEVENT
DTSTART;TZID=America/Chicago:20230428T163000
DTEND;TZID=America/Chicago:20230428T163000
DTSTAMP:20260423T141140
CREATED:20230410T185901Z
LAST-MODIFIED:20230410T185901Z
UID:16079-1682699400-1682699400@alwaysraceday.com
SUMMARY:ARCA East General Tire 125 @ Dover
DESCRIPTION:Dover Motor Speedway | FloRacing
URL:https://alwaysraceday.com/schedule/arca-east-general-tire-125-dover/
CATEGORIES:Asphalt
ATTACH;FMTTYPE=image/png:https://alwaysraceday.com/wp-content/uploads/2023/04/AMS_East_2020_Ver_1.png
END:VEVENT
BEGIN:VEVENT
DTSTART;TZID=America/Chicago:20230423T140000
DTEND;TZID=America/Chicago:20230423T140000
DTSTAMP:20260423T141140
CREATED:20221127T233700Z
LAST-MODIFIED:20221127T233700Z
UID:14580-1682258400-1682258400@alwaysraceday.com
SUMMARY:NASCAR Cup Series GEICO 500 @ Talladega
DESCRIPTION:Talladega Superspeedway | FOX
URL:https://alwaysraceday.com/schedule/nascar-cup-series-geico-500-talladega/
CATEGORIES:Asphalt
ATTACH;FMTTYPE=image/png:https://alwaysraceday.com/wp-content/uploads/2022/11/2020-GEICO-500-at-Talladega-652x512-1.png
END:VEVENT
BEGIN:VEVENT
DTSTART;TZID=America/Chicago:20230422T221500
DTEND;TZID=America/Chicago:20230422T221500
DTSTAMP:20260423T141140
CREATED:20230410T185557Z
LAST-MODIFIED:20230410T185557Z
UID:16077-1682201700-1682201700@alwaysraceday.com
SUMMARY:ARCA West NAPA NightVision 150 @ Kern County
DESCRIPTION:Kern County Raceway Park | FloRacing
URL:https://alwaysraceday.com/schedule/arca-west-napa-nightvision-150-kern-county/
CATEGORIES:Asphalt
ATTACH;FMTTYPE=image/png:https://alwaysraceday.com/wp-content/uploads/2023/04/AMS_West_2020_Ver_1.png
END:VEVENT
BEGIN:VEVENT
DTSTART;TZID=America/Chicago:20230422T150000
DTEND;TZID=America/Chicago:20230422T150000
DTSTAMP:20260423T141140
CREATED:20230225T165716Z
LAST-MODIFIED:20230225T165716Z
UID:15751-1682175600-1682175600@alwaysraceday.com
SUMMARY:NASCAR Xfinity Series @ Talladega
DESCRIPTION:Talladega Superspeedway | Fox Sports 1
URL:https://alwaysraceday.com/schedule/nascar-xfinity-series-talladega-4/
CATEGORIES:Asphalt
ATTACH;FMTTYPE=image/jpeg:https://alwaysraceday.com/wp-content/uploads/2023/02/NASCAR-Xfinity-Series-purple-logo-2022-NXS.jpg
END:VEVENT
BEGIN:VEVENT
DTSTART;TZID=America/Chicago:20230422T113000
DTEND;TZID=America/Chicago:20230422T113000
DTSTAMP:20260423T141140
CREATED:20230410T185449Z
LAST-MODIFIED:20230410T185449Z
UID:16072-1682163000-1682163000@alwaysraceday.com
SUMMARY:ARCA Menards Series General Tire 200 @ Talladega
DESCRIPTION:Talladega Superspeedway | Fox Sports 1
URL:https://alwaysraceday.com/schedule/arca-menards-series-general-tire-200-talladega-2/
CATEGORIES:Asphalt
ATTACH;FMTTYPE=image/png:https://alwaysraceday.com/wp-content/uploads/2023/04/ARCA_Menards_Series_Logo.svg.png
END:VEVENT
BEGIN:VEVENT
DTSTART;VALUE=DATE:20230421
DTEND;VALUE=DATE:20230422
DTSTAMP:20260423T141140
CREATED:20221021T172250Z
LAST-MODIFIED:20221021T172250Z
UID:14018-1682035200-1682121599@alwaysraceday.com
SUMMARY:IndyCar Test @ Indianapolis
DESCRIPTION:Indianapolis Motor Speedway | TBA
URL:https://alwaysraceday.com/schedule/indycar-test-indianapolis-2/
CATEGORIES:Asphalt
ATTACH;FMTTYPE=image/png:https://alwaysraceday.com/wp-content/uploads/2022/10/IndyCar_Series_logo.svg.png
END:VEVENT
BEGIN:VEVENT
DTSTART;VALUE=DATE:20230420
DTEND;VALUE=DATE:20230421
DTSTAMP:20260423T141140
CREATED:20221021T172211Z
LAST-MODIFIED:20221021T172211Z
UID:14016-1681948800-1682035199@alwaysraceday.com
SUMMARY:IndyCar Test @ Indianapolis
DESCRIPTION:Indianapolis Motor Speedway | TBA
URL:https://alwaysraceday.com/schedule/indycar-test-indianapolis/
CATEGORIES:Asphalt
ATTACH;FMTTYPE=image/png:https://alwaysraceday.com/wp-content/uploads/2022/10/IndyCar_Series_logo.svg.png
END:VEVENT
BEGIN:VEVENT
DTSTART;TZID=America/Chicago:20230416T140000
DTEND;TZID=America/Chicago:20230416T140000
DTSTAMP:20260423T141140
CREATED:20221127T232600Z
LAST-MODIFIED:20221127T232600Z
UID:14578-1681653600-1681653600@alwaysraceday.com
SUMMARY:NASCAR Cup Series @ Martinsville
DESCRIPTION:Martinsville Speedway | Fox Sports 1
URL:https://alwaysraceday.com/schedule/nascar-cup-series-martinsville/
CATEGORIES:Asphalt
ATTACH;FMTTYPE=image/png:https://alwaysraceday.com/wp-content/uploads/2022/11/NASCAR_Cup_Series_logo.svg.png
END:VEVENT
BEGIN:VEVENT
DTSTART;TZID=America/Chicago:20230416T140000
DTEND;TZID=America/Chicago:20230416T140000
DTSTAMP:20260423T141140
CREATED:20221021T171047Z
LAST-MODIFIED:20221021T171047Z
UID:14012-1681653600-1681653600@alwaysraceday.com
SUMMARY:IndyCar @ Streets of Long Beach
DESCRIPTION:Streets of Long Beach | NBC
URL:https://alwaysraceday.com/schedule/indycar-streets-of-long-beach-2/
CATEGORIES:Asphalt
ATTACH;FMTTYPE=image/png:https://alwaysraceday.com/wp-content/uploads/2022/10/IndyCar_Series_logo.svg.png
END:VEVENT
BEGIN:VEVENT
DTSTART;TZID=America/Chicago:20230415T183000
DTEND;TZID=America/Chicago:20230415T183000
DTSTAMP:20260423T141140
CREATED:20230225T165514Z
LAST-MODIFIED:20230225T165514Z
UID:15749-1681583400-1681583400@alwaysraceday.com
SUMMARY:NASCAR Xfinity Series @ Martinsville
DESCRIPTION:Martinsville Speedway | Fox Sports 1
URL:https://alwaysraceday.com/schedule/nascar-xfinity-series-martinsville-3/
CATEGORIES:Asphalt
ATTACH;FMTTYPE=image/jpeg:https://alwaysraceday.com/wp-content/uploads/2023/02/NASCAR-Xfinity-Series-purple-logo-2022-NXS.jpg
END:VEVENT
BEGIN:VEVENT
DTSTART;TZID=America/Chicago:20230414T183000
DTEND;TZID=America/Chicago:20230414T183000
DTSTAMP:20260423T141140
CREATED:20230225T165323Z
LAST-MODIFIED:20230225T165323Z
UID:15747-1681497000-1681497000@alwaysraceday.com
SUMMARY:NASCAR Truck Series @ Martinsville
DESCRIPTION:Martinsville Speedway | Fox Sports 1
URL:https://alwaysraceday.com/schedule/nascar-truck-series-martinsville-3/
CATEGORIES:Asphalt
ATTACH;FMTTYPE=image/webp:https://alwaysraceday.com/wp-content/uploads/2023/02/nascar-craftsman-truck-series-logo-1.webp
END:VEVENT
BEGIN:VEVENT
DTSTART;TZID=America/Chicago:20230409T180000
DTEND;TZID=America/Chicago:20230409T180000
DTSTAMP:20260423T141140
CREATED:20221127T232426Z
LAST-MODIFIED:20221127T232426Z
UID:14575-1681063200-1681063200@alwaysraceday.com
SUMMARY:NASCAR Cup Series Food City Dirt Race @ Bristol Dirt
DESCRIPTION:Bristol Motor Speedway (Dirt) | FOX
URL:https://alwaysraceday.com/schedule/nascar-cup-series-food-city-dirt-race-bristol-dirt/
CATEGORIES:Asphalt,Dirt
ATTACH;FMTTYPE=image/webp:https://alwaysraceday.com/wp-content/uploads/2022/11/foodcity-dirt-race-211.webp
END:VEVENT
BEGIN:VEVENT
DTSTART;TZID=America/Chicago:20230408T190000
DTEND;TZID=America/Chicago:20230408T190000
DTSTAMP:20260423T141140
CREATED:20230225T164326Z
LAST-MODIFIED:20230225T164326Z
UID:15745-1680980400-1680980400@alwaysraceday.com
SUMMARY:NASCAR Truck Series Weather Guard Truck Race on Dirt @ Bristol Dirt
DESCRIPTION:Bristol Motor Speedway (Dirt) | Fox Sports 1
URL:https://alwaysraceday.com/schedule/nascar-truck-series-weather-guard-truck-race-on-dirt-bristol-dirt/
CATEGORIES:Asphalt,Dirt
ATTACH;FMTTYPE=image/webp:https://alwaysraceday.com/wp-content/uploads/2023/02/nascar-craftsman-truck-series-logo-1.webp
END:VEVENT
BEGIN:VEVENT
DTSTART;TZID=America/Chicago:20230402T143000
DTEND;TZID=America/Chicago:20230402T143000
DTSTAMP:20260423T141140
CREATED:20221127T173544Z
LAST-MODIFIED:20221127T173707Z
UID:14572-1680445800-1680445800@alwaysraceday.com
SUMMARY:NASCAR Cup Series Toyota Owners 400 @ Richmond
DESCRIPTION:Richmond Raceway | Fox Sports 1
URL:https://alwaysraceday.com/schedule/nascar-cup-series-toyota-owners-400-richmond/
CATEGORIES:Asphalt
ATTACH;FMTTYPE=image/png:https://alwaysraceday.com/wp-content/uploads/2022/11/NASCAR_Cup_Series_logo.svg.png
END:VEVENT
BEGIN:VEVENT
DTSTART;TZID=America/Chicago:20230402T110000
DTEND;TZID=America/Chicago:20230402T110000
DTSTAMP:20260423T141140
CREATED:20221021T170848Z
LAST-MODIFIED:20221021T170848Z
UID:14010-1680433200-1680433200@alwaysraceday.com
SUMMARY:IndyCar @ Texas Motor Speedway
DESCRIPTION:Texas Motor Speedway | NBC
URL:https://alwaysraceday.com/schedule/indycar-texas-motor-speedway/
CATEGORIES:Asphalt
ATTACH;FMTTYPE=image/png:https://alwaysraceday.com/wp-content/uploads/2022/10/IndyCar_Series_logo.svg.png
END:VEVENT
BEGIN:VEVENT
DTSTART;TZID=America/Chicago:20230401T153000
DTEND;TZID=America/Chicago:20230401T153000
DTSTAMP:20260423T141140
CREATED:20230225T163937Z
LAST-MODIFIED:20230225T163937Z
UID:15743-1680363000-1680363000@alwaysraceday.com
SUMMARY:NASCAR Truck Series @ Richmond
DESCRIPTION:Richmond Raceway | Fox Sports 1
URL:https://alwaysraceday.com/schedule/nascar-truck-series-richmond/
CATEGORIES:Asphalt
ATTACH;FMTTYPE=image/webp:https://alwaysraceday.com/wp-content/uploads/2023/02/nascar-craftsman-truck-series-logo-1.webp
END:VEVENT
BEGIN:VEVENT
DTSTART;TZID=America/Chicago:20230401T120000
DTEND;TZID=America/Chicago:20230401T120000
DTSTAMP:20260423T141140
CREATED:20230225T163842Z
LAST-MODIFIED:20230225T163842Z
UID:15741-1680350400-1680350400@alwaysraceday.com
SUMMARY:NASCAR Xfinity Series @ Richmond
DESCRIPTION:Richmond Raceway | Fox Sports 1
URL:https://alwaysraceday.com/schedule/nascar-xfinity-series-richmond-3/
CATEGORIES:Asphalt
ATTACH;FMTTYPE=image/jpeg:https://alwaysraceday.com/wp-content/uploads/2023/02/NASCAR-Xfinity-Series-purple-logo-2022-NXS.jpg
END:VEVENT
BEGIN:VEVENT
DTSTART;TZID=America/Chicago:20230326T143000
DTEND;TZID=America/Chicago:20230326T143000
DTSTAMP:20260423T141140
CREATED:20221127T173259Z
LAST-MODIFIED:20221127T173259Z
UID:14570-1679841000-1679841000@alwaysraceday.com
SUMMARY:NASCAR Cup Series EchoPark Automotive GP @ COTA
DESCRIPTION:Circuit of the Americas | FOX
URL:https://alwaysraceday.com/schedule/nascar-cup-series-echopark-automotive-gp-cota/
CATEGORIES:Asphalt
ATTACH;FMTTYPE=image/png:https://alwaysraceday.com/wp-content/uploads/2022/11/NASCAR_Cup_Series_logo.svg.png
END:VEVENT
BEGIN:VEVENT
DTSTART;TZID=America/Chicago:20230325T160000
DTEND;TZID=America/Chicago:20230325T160000
DTSTAMP:20260423T141140
CREATED:20230225T163624Z
LAST-MODIFIED:20230225T163624Z
UID:15739-1679760000-1679760000@alwaysraceday.com
SUMMARY:NASCAR Xfinity Series @ COTA
DESCRIPTION:Circuit of the Americas | Fox Sports 1
URL:https://alwaysraceday.com/schedule/nascar-xfinity-series-cota-2/
CATEGORIES:Asphalt
ATTACH;FMTTYPE=image/jpeg:https://alwaysraceday.com/wp-content/uploads/2023/02/NASCAR-Xfinity-Series-purple-logo-2022-NXS.jpg
END:VEVENT
BEGIN:VEVENT
DTSTART;TZID=America/Chicago:20230325T123000
DTEND;TZID=America/Chicago:20230325T123000
DTSTAMP:20260423T141140
CREATED:20230225T163523Z
LAST-MODIFIED:20230225T163523Z
UID:15737-1679747400-1679747400@alwaysraceday.com
SUMMARY:NASCAR Truck Series @ COTA
DESCRIPTION:Circuit of the Americas | Fox Sports 1
URL:https://alwaysraceday.com/schedule/nascar-truck-series-cota/
CATEGORIES:Asphalt
ATTACH;FMTTYPE=image/webp:https://alwaysraceday.com/wp-content/uploads/2023/02/nascar-craftsman-truck-series-logo-1.webp
END:VEVENT
END:VCALENDAR