BEGIN:VCALENDAR
VERSION:2.0
PRODID:-//Always Race Day - ECPv6.15.20//NONSGML v1.0//EN
CALSCALE:GREGORIAN
METHOD:PUBLISH
X-WR-CALNAME:Always Race Day
X-ORIGINAL-URL:https://alwaysraceday.com
X-WR-CALDESC:Events for Always Race Day
REFRESH-INTERVAL;VALUE=DURATION:PT1H
X-Robots-Tag:noindex
X-PUBLISHED-TTL:PT1H
BEGIN:VTIMEZONE
TZID:America/Chicago
BEGIN:DAYLIGHT
TZOFFSETFROM:-0600
TZOFFSETTO:-0500
TZNAME:CDT
DTSTART:20210314T080000
END:DAYLIGHT
BEGIN:STANDARD
TZOFFSETFROM:-0500
TZOFFSETTO:-0600
TZNAME:CST
DTSTART:20211107T070000
END:STANDARD
BEGIN:DAYLIGHT
TZOFFSETFROM:-0600
TZOFFSETTO:-0500
TZNAME:CDT
DTSTART:20220313T080000
END:DAYLIGHT
BEGIN:STANDARD
TZOFFSETFROM:-0500
TZOFFSETTO:-0600
TZNAME:CST
DTSTART:20221106T070000
END:STANDARD
BEGIN:DAYLIGHT
TZOFFSETFROM:-0600
TZOFFSETTO:-0500
TZNAME:CDT
DTSTART:20230312T080000
END:DAYLIGHT
BEGIN:STANDARD
TZOFFSETFROM:-0500
TZOFFSETTO:-0600
TZNAME:CST
DTSTART:20231105T070000
END:STANDARD
END:VTIMEZONE
BEGIN:VEVENT
DTSTART;TZID=America/Chicago:20220826T183000
DTEND;TZID=America/Chicago:20220826T183000
DTSTAMP:20260424T045437
CREATED:20211226T230649Z
LAST-MODIFIED:20211226T230649Z
UID:10924-1661538600-1661538600@alwaysraceday.com
SUMMARY:NASCAR Xfinity Series @ Daytona
DESCRIPTION:Daytona International Speedway | USA Network
URL:https://alwaysraceday.com/schedule/nascar-xfinity-series-daytona-4/
CATEGORIES:Asphalt
ATTACH;FMTTYPE=image/jpeg:https://alwaysraceday.com/wp-content/uploads/2021/12/NASCAR-Xfinity-Series-purple-logo-2022-NXS.jpg
END:VEVENT
BEGIN:VEVENT
DTSTART;TZID=America/Chicago:20220821T140000
DTEND;TZID=America/Chicago:20220821T140000
DTSTAMP:20260424T045437
CREATED:20211121T011809Z
LAST-MODIFIED:20211226T181331Z
UID:9684-1661090400-1661090400@alwaysraceday.com
SUMMARY:NASCAR Cup Series @ Watkins Glen
DESCRIPTION:Watkins Glen International | USA
URL:https://alwaysraceday.com/schedule/nascar-cup-series-watkins-glen/
CATEGORIES:Asphalt
ATTACH;FMTTYPE=image/png:https://alwaysraceday.com/wp-content/uploads/2021/11/1200px-NASCAR_Cup_Series_logo.svg-1.png
END:VEVENT
BEGIN:VEVENT
DTSTART;TZID=America/Chicago:20220821T130000
DTEND;TZID=America/Chicago:20220821T130000
DTSTAMP:20260424T045437
CREATED:20211225T021355Z
LAST-MODIFIED:20211225T021355Z
UID:10566-1661086800-1661086800@alwaysraceday.com
SUMMARY:ARCA Menards Series Allen Crowe 100 @ Illinois State Fair (Dirt)
DESCRIPTION:Illinois State Fairgrounds | MAV/FloRacing
URL:https://alwaysraceday.com/schedule/arca-menards-series-allen-crowe-100-illinois-state-fair-dirt/
CATEGORIES:Asphalt,Dirt
ATTACH;FMTTYPE=image/png:https://alwaysraceday.com/wp-content/uploads/2021/12/1200px-ARCA_Menards_Series_Logo.svg-1.png
END:VEVENT
BEGIN:VEVENT
DTSTART;TZID=America/Chicago:20220820T170000
DTEND;TZID=America/Chicago:20220820T170000
DTSTAMP:20260424T045437
CREATED:20220114T222813Z
LAST-MODIFIED:20220114T222813Z
UID:11081-1661014800-1661014800@alwaysraceday.com
SUMMARY:IndyCar @ Gateway
DESCRIPTION:World Wide Technology Raceway at Gateway | USA
URL:https://alwaysraceday.com/schedule/indycar-gateway-2/
CATEGORIES:Asphalt
ATTACH;FMTTYPE=image/png:https://alwaysraceday.com/wp-content/uploads/2022/01/logo-4.png
END:VEVENT
BEGIN:VEVENT
DTSTART;TZID=America/Chicago:20220820T140000
DTEND;TZID=America/Chicago:20220820T140000
DTSTAMP:20260424T045437
CREATED:20211226T230408Z
LAST-MODIFIED:20211226T230408Z
UID:10922-1661004000-1661004000@alwaysraceday.com
SUMMARY:NASCAR Xfinity Series @ Watkins Glen
DESCRIPTION:Watkins Glen International | USA Network
URL:https://alwaysraceday.com/schedule/nascar-xfinity-series-watkins-glen/
CATEGORIES:Asphalt
ATTACH;FMTTYPE=image/jpeg:https://alwaysraceday.com/wp-content/uploads/2021/12/NASCAR-Xfinity-Series-purple-logo-2022-NXS.jpg
END:VEVENT
BEGIN:VEVENT
DTSTART;TZID=America/Chicago:20220819T170000
DTEND;TZID=America/Chicago:20220819T170000
DTSTAMP:20260424T045437
CREATED:20211225T021025Z
LAST-MODIFIED:20211225T021025Z
UID:10564-1660928400-1660928400@alwaysraceday.com
SUMMARY:ARCA Menards Series Watkins Glen 100
DESCRIPTION:Watkins Glen International | Fox Sports 1
URL:https://alwaysraceday.com/schedule/arca-menards-series-watkins-glen-100/
CATEGORIES:Asphalt
ATTACH;FMTTYPE=image/png:https://alwaysraceday.com/wp-content/uploads/2021/12/1200px-ARCA_Menards_Series_Logo.svg-1.png
END:VEVENT
BEGIN:VEVENT
DTSTART;TZID=America/Chicago:20220814T140000
DTEND;TZID=America/Chicago:20220814T140000
DTSTAMP:20260424T045437
CREATED:20211121T011155Z
LAST-MODIFIED:20211226T181311Z
UID:9682-1660485600-1660485600@alwaysraceday.com
SUMMARY:NASCAR Cup Series @ Richmond
DESCRIPTION:Richmond Raceway | USA
URL:https://alwaysraceday.com/schedule/nascar-cup-series-richmond-3/
CATEGORIES:Asphalt
ATTACH;FMTTYPE=image/png:https://alwaysraceday.com/wp-content/uploads/2021/11/1200px-NASCAR_Cup_Series_logo.svg-1.png
END:VEVENT
BEGIN:VEVENT
DTSTART;TZID=America/Chicago:20220813T190000
DTEND;TZID=America/Chicago:20220813T190000
DTSTAMP:20260424T045437
CREATED:20211226T230232Z
LAST-MODIFIED:20211226T230232Z
UID:10920-1660417200-1660417200@alwaysraceday.com
SUMMARY:NASCAR Truck Series Playoffs Round of 10 Race 2 of 3 @ Richmond
DESCRIPTION:Richmond Raceway | Fox Sports 1
URL:https://alwaysraceday.com/schedule/nascar-truck-series-playoffs-round-of-10-race-2-of-3-richmond/
CATEGORIES:Asphalt
ATTACH;FMTTYPE=image/jpeg:https://alwaysraceday.com/wp-content/uploads/2021/12/2020-sep15-camping-world-main-image-625x340-1.jpg
END:VEVENT
BEGIN:VEVENT
DTSTART;TZID=America/Chicago:20220807T140000
DTEND;TZID=America/Chicago:20220807T140000
DTSTAMP:20260424T045437
CREATED:20220114T222652Z
LAST-MODIFIED:20220114T222652Z
UID:11079-1659880800-1659880800@alwaysraceday.com
SUMMARY:IndyCar @ Streets of Nashville
DESCRIPTION:Streets of Nashville | NBC
URL:https://alwaysraceday.com/schedule/indycar-streets-of-nashville/
CATEGORIES:Asphalt
ATTACH;FMTTYPE=image/png:https://alwaysraceday.com/wp-content/uploads/2022/01/logo-4.png
END:VEVENT
BEGIN:VEVENT
DTSTART;TZID=America/Chicago:20220807T140000
DTEND;TZID=America/Chicago:20220807T140000
DTSTAMP:20260424T045437
CREATED:20211121T011018Z
LAST-MODIFIED:20211226T181253Z
UID:9680-1659880800-1659880800@alwaysraceday.com
SUMMARY:NASCAR Cup Series @ Michigan
DESCRIPTION:Michigan International Speedway | USA
URL:https://alwaysraceday.com/schedule/nascar-cup-series-michigan-2/
CATEGORIES:Asphalt
ATTACH;FMTTYPE=image/png:https://alwaysraceday.com/wp-content/uploads/2021/11/1200px-NASCAR_Cup_Series_logo.svg.png
END:VEVENT
BEGIN:VEVENT
DTSTART;TZID=America/Chicago:20220806T190000
DTEND;TZID=America/Chicago:20220806T190000
DTSTAMP:20260424T045437
CREATED:20211220T052412Z
LAST-MODIFIED:20211220T052412Z
UID:10025-1659812400-1659812400@alwaysraceday.com
SUMMARY:USAC Silver Crown Rollie Beale Classic @ Toledo (Pavement)
DESCRIPTION:Toledo Speedway | FloRacing
URL:https://alwaysraceday.com/schedule/usac-silver-crown-rollie-beale-classic-toledo-pavement/
CATEGORIES:Asphalt,Dirt
ATTACH;FMTTYPE=image/jpeg:https://alwaysraceday.com/wp-content/uploads/2021/12/silvercrownlogo.jpg
END:VEVENT
BEGIN:VEVENT
DTSTART;TZID=America/Chicago:20220806T170000
DTEND;TZID=America/Chicago:20220806T170000
DTSTAMP:20260424T045437
CREATED:20211225T020739Z
LAST-MODIFIED:20211225T020739Z
UID:10562-1659805200-1659805200@alwaysraceday.com
SUMMARY:ARCA Menards Series Henry Ford Health System 200 @ Michigan
DESCRIPTION:Michigan International Speedway | MAVTV/FloRacing
URL:https://alwaysraceday.com/schedule/arca-menards-series-henry-ford-health-system-200-michigan/
CATEGORIES:Asphalt
ATTACH;FMTTYPE=image/png:https://alwaysraceday.com/wp-content/uploads/2021/12/1200px-ARCA_Menards_Series_Logo.svg-1.png
END:VEVENT
BEGIN:VEVENT
DTSTART;TZID=America/Chicago:20220806T143000
DTEND;TZID=America/Chicago:20220806T143000
DTSTAMP:20260424T045437
CREATED:20211226T225603Z
LAST-MODIFIED:20211226T225603Z
UID:10918-1659796200-1659796200@alwaysraceday.com
SUMMARY:NASCAR Xfinity Series @ Michigan
DESCRIPTION:Michigan International Speedway | USA Network
URL:https://alwaysraceday.com/schedule/nascar-xfinity-series-michigan-2/
CATEGORIES:Asphalt
ATTACH;FMTTYPE=image/jpeg:https://alwaysraceday.com/wp-content/uploads/2021/12/NASCAR-Xfinity-Series-purple-logo-2022-NXS.jpg
END:VEVENT
BEGIN:VEVENT
DTSTART;TZID=America/Chicago:20220731T133000
DTEND;TZID=America/Chicago:20220731T133000
DTSTAMP:20260424T045437
CREATED:20211121T002434Z
LAST-MODIFIED:20211226T181233Z
UID:9678-1659274200-1659274200@alwaysraceday.com
SUMMARY:NASCAR Cup Series @ Indianapolis Road Course
DESCRIPTION:Indianapolis Motor Speedway Road Course | USA
URL:https://alwaysraceday.com/schedule/nascar-cup-series-indianapolis-road-course/
CATEGORIES:Asphalt
ATTACH;FMTTYPE=image/png:https://alwaysraceday.com/wp-content/uploads/2021/11/1200px-NASCAR_Cup_Series_logo.svg-1.png
END:VEVENT
BEGIN:VEVENT
DTSTART;TZID=America/Chicago:20220731T110000
DTEND;TZID=America/Chicago:20220731T110000
DTSTAMP:20260424T045437
CREATED:20220114T222517Z
LAST-MODIFIED:20220114T222517Z
UID:11077-1659265200-1659265200@alwaysraceday.com
SUMMARY:IndyCar @ Indianapolis Road Course
DESCRIPTION:IMS Road Course | NBC
URL:https://alwaysraceday.com/schedule/indycar-indianapolis-road-course-4/
CATEGORIES:Asphalt
ATTACH;FMTTYPE=image/png:https://alwaysraceday.com/wp-content/uploads/2022/01/logo-4.png
END:VEVENT
BEGIN:VEVENT
DTSTART;TZID=America/Chicago:20220730T143000
DTEND;TZID=America/Chicago:20220730T143000
DTSTAMP:20260424T045437
CREATED:20211226T193012Z
LAST-MODIFIED:20211226T193012Z
UID:10914-1659191400-1659191400@alwaysraceday.com
SUMMARY:NASCAR Xfinity Series @ Indianapolis Road Course
DESCRIPTION:Indianapolis Motor Speedway | NBC
URL:https://alwaysraceday.com/schedule/nascar-xfinity-series-indianapolis-road-course-3/
CATEGORIES:Asphalt
ATTACH;FMTTYPE=image/jpeg:https://alwaysraceday.com/wp-content/uploads/2021/12/NASCAR-Xfinity-Series-purple-logo-2022-NXS.jpg
END:VEVENT
BEGIN:VEVENT
DTSTART;TZID=America/Chicago:20220729T200000
DTEND;TZID=America/Chicago:20220729T200000
DTSTAMP:20260424T045437
CREATED:20211226T225413Z
LAST-MODIFIED:20211226T225413Z
UID:10916-1659124800-1659124800@alwaysraceday.com
SUMMARY:NASCAR Truck Series Playoffs Round of 10 Race 1 of 3 @ IRP
DESCRIPTION:Lucas Oil Indianapolis Raceway Park | Fox Sports 1
URL:https://alwaysraceday.com/schedule/nascar-truck-series-playoffs-round-of-10-race-1-of-3-irp/
CATEGORIES:Asphalt
ATTACH;FMTTYPE=image/jpeg:https://alwaysraceday.com/wp-content/uploads/2021/12/2020-sep15-camping-world-main-image-625x340-1.jpg
END:VEVENT
BEGIN:VEVENT
DTSTART;TZID=America/Chicago:20220729T173000
DTEND;TZID=America/Chicago:20220729T173000
DTSTAMP:20260424T045437
CREATED:20211225T020539Z
LAST-MODIFIED:20211225T020539Z
UID:10560-1659115800-1659115800@alwaysraceday.com
SUMMARY:ARCA Menards Series Lucas Oil IRP 200
DESCRIPTION:Lucas Oil Indianapolis Raceway Park | Fox Sports 1
URL:https://alwaysraceday.com/schedule/arca-menards-series-lucas-oil-irp-200/
CATEGORIES:Asphalt
ATTACH;FMTTYPE=image/png:https://alwaysraceday.com/wp-content/uploads/2021/12/1200px-ARCA_Menards_Series_Logo.svg-1.png
END:VEVENT
BEGIN:VEVENT
DTSTART;TZID=America/Chicago:20220724T140000
DTEND;TZID=America/Chicago:20220724T140000
DTSTAMP:20260424T045437
CREATED:20220114T222221Z
LAST-MODIFIED:20220114T222221Z
UID:11075-1658671200-1658671200@alwaysraceday.com
SUMMARY:IndyCar Iowa Speedway Doubleheader Race 2
DESCRIPTION:Iowa Speedway | NBC
URL:https://alwaysraceday.com/schedule/indycar-iowa-speedway-doubleheader-race-2/
CATEGORIES:Asphalt,Iowa
ATTACH;FMTTYPE=image/png:https://alwaysraceday.com/wp-content/uploads/2022/01/logo-4.png
END:VEVENT
BEGIN:VEVENT
DTSTART;TZID=America/Chicago:20220724T140000
DTEND;TZID=America/Chicago:20220724T140000
DTSTAMP:20260424T045437
CREATED:20211121T002335Z
LAST-MODIFIED:20211226T181213Z
UID:9676-1658671200-1658671200@alwaysraceday.com
SUMMARY:NASCAR Cup Series @ Pocono
DESCRIPTION:Pocono Raceway | USA
URL:https://alwaysraceday.com/schedule/nascar-cup-series-pocono-2/
CATEGORIES:Asphalt
ATTACH;FMTTYPE=image/png:https://alwaysraceday.com/wp-content/uploads/2021/11/1200px-NASCAR_Cup_Series_logo.svg.png
END:VEVENT
BEGIN:VEVENT
DTSTART;TZID=America/Chicago:20220723T160000
DTEND;TZID=America/Chicago:20220723T160000
DTSTAMP:20260424T045437
CREATED:20211226T192807Z
LAST-MODIFIED:20211226T192807Z
UID:10912-1658592000-1658592000@alwaysraceday.com
SUMMARY:NASCAR Xfinity Series @ Pocono
DESCRIPTION:Pocono Raceway | USA Network
URL:https://alwaysraceday.com/schedule/nascar-xfinity-series-pocono-3/
CATEGORIES:Asphalt
ATTACH;FMTTYPE=image/jpeg:https://alwaysraceday.com/wp-content/uploads/2021/12/NASCAR-Xfinity-Series-purple-logo-2022-NXS.jpg
END:VEVENT
BEGIN:VEVENT
DTSTART;TZID=America/Chicago:20220723T150000
DTEND;TZID=America/Chicago:20220723T150000
DTSTAMP:20260424T045437
CREATED:20220114T222126Z
LAST-MODIFIED:20220114T222319Z
UID:11073-1658588400-1658588400@alwaysraceday.com
SUMMARY:IndyCar Iowa Speedway Doubleheader Race 1
DESCRIPTION:Iowa Speedway | NBC
URL:https://alwaysraceday.com/schedule/indycar-iowa-speedway-doubleheader-race-1/
CATEGORIES:Asphalt,Iowa
ATTACH;FMTTYPE=image/png:https://alwaysraceday.com/wp-content/uploads/2022/01/logo-4.png
END:VEVENT
BEGIN:VEVENT
DTSTART;TZID=America/Chicago:20220723T110000
DTEND;TZID=America/Chicago:20220723T110000
DTSTAMP:20260424T045437
CREATED:20211226T192653Z
LAST-MODIFIED:20211226T192653Z
UID:10910-1658574000-1658574000@alwaysraceday.com
SUMMARY:NASCAR Truck Series Regular Season Finale @ Pocono
DESCRIPTION:Pocono Raceway | Fox Sports 1
URL:https://alwaysraceday.com/schedule/nascar-truck-series-regular-season-finale-pocono/
CATEGORIES:Asphalt
ATTACH;FMTTYPE=image/jpeg:https://alwaysraceday.com/wp-content/uploads/2021/12/2020-sep15-camping-world-main-image-625x340-1.jpg
END:VEVENT
BEGIN:VEVENT
DTSTART;TZID=America/Chicago:20220722T173000
DTEND;TZID=America/Chicago:20220722T173000
DTSTAMP:20260424T045437
CREATED:20211225T020249Z
LAST-MODIFIED:20211225T020249Z
UID:10558-1658511000-1658511000@alwaysraceday.com
SUMMARY:ARCA Menards Series Pocono 200
DESCRIPTION:Pocono Raceway | Fox Sports 1
URL:https://alwaysraceday.com/schedule/arca-menards-series-pocono-200/
CATEGORIES:Asphalt
ATTACH;FMTTYPE=image/png:https://alwaysraceday.com/wp-content/uploads/2021/12/1200px-ARCA_Menards_Series_Logo.svg-1.png
END:VEVENT
BEGIN:VEVENT
DTSTART;TZID=America/Chicago:20220721T183000
DTEND;TZID=America/Chicago:20220721T183000
DTSTAMP:20260424T045437
CREATED:20211220T051018Z
LAST-MODIFIED:20211220T051018Z
UID:10007-1658428200-1658428200@alwaysraceday.com
SUMMARY:USAC Silver Crown Rich Vogler Classic @ Winchester (Pavement)
DESCRIPTION:Winchester Speedway | FloRacing
URL:https://alwaysraceday.com/schedule/usac-silver-crown-rich-vogler-classic-winchester-pavement/
CATEGORIES:Asphalt,Dirt
ATTACH;FMTTYPE=image/jpeg:https://alwaysraceday.com/wp-content/uploads/2021/12/silvercrownlogo.jpg
END:VEVENT
BEGIN:VEVENT
DTSTART;TZID=America/Chicago:20220717T140000
DTEND;TZID=America/Chicago:20220717T140000
DTSTAMP:20260424T045437
CREATED:20220114T222023Z
LAST-MODIFIED:20220114T222023Z
UID:11071-1658066400-1658066400@alwaysraceday.com
SUMMARY:IndyCar @ Streets of Toronto
DESCRIPTION:Streets of Toronto | Peacock
URL:https://alwaysraceday.com/schedule/indycar-streets-of-toronto/
CATEGORIES:Asphalt
ATTACH;FMTTYPE=image/png:https://alwaysraceday.com/wp-content/uploads/2022/01/logo-4.png
END:VEVENT
BEGIN:VEVENT
DTSTART;TZID=America/Chicago:20220717T140000
DTEND;TZID=America/Chicago:20220717T140000
DTSTAMP:20260424T045437
CREATED:20211121T002212Z
LAST-MODIFIED:20211226T181155Z
UID:9674-1658066400-1658066400@alwaysraceday.com
SUMMARY:NASCAR Cup Series @ New Hampshire
DESCRIPTION:New Hampshire Motor Speedway | USA
URL:https://alwaysraceday.com/schedule/nascar-cup-series-new-hampshire-3/
CATEGORIES:Asphalt
ATTACH;FMTTYPE=image/png:https://alwaysraceday.com/wp-content/uploads/2021/11/1200px-NASCAR_Cup_Series_logo.svg-1.png
END:VEVENT
BEGIN:VEVENT
DTSTART;TZID=America/Chicago:20220716T133000
DTEND;TZID=America/Chicago:20220716T133000
DTSTAMP:20260424T045437
CREATED:20211226T192517Z
LAST-MODIFIED:20211226T192517Z
UID:10908-1657978200-1657978200@alwaysraceday.com
SUMMARY:NASCAR Xfinity Series @ New Hampshire
DESCRIPTION:New Hampshire Motor Speedway | USA Network
URL:https://alwaysraceday.com/schedule/nascar-xfinity-series-new-hampshire-2/
CATEGORIES:Asphalt
ATTACH;FMTTYPE=image/jpeg:https://alwaysraceday.com/wp-content/uploads/2021/12/NASCAR-Xfinity-Series-purple-logo-2022-NXS.jpg
END:VEVENT
BEGIN:VEVENT
DTSTART;TZID=America/Chicago:20220710T140000
DTEND;TZID=America/Chicago:20220710T140000
DTSTAMP:20260424T045437
CREATED:20211121T001057Z
LAST-MODIFIED:20211226T180709Z
UID:9671-1657461600-1657461600@alwaysraceday.com
SUMMARY:NASCAR Cup Series @ New Atlanta
DESCRIPTION:Atlanta Motor Speedway | USA
URL:https://alwaysraceday.com/schedule/nascar-cup-series-new-atlanta-2/
CATEGORIES:Asphalt
ATTACH;FMTTYPE=image/png:https://alwaysraceday.com/wp-content/uploads/2021/11/1200px-NASCAR_Cup_Series_logo.svg-1.png
END:VEVENT
BEGIN:VEVENT
DTSTART;TZID=America/Chicago:20220709T160000
DTEND;TZID=America/Chicago:20220709T160000
DTSTAMP:20260424T045437
CREATED:20211226T192418Z
LAST-MODIFIED:20211226T192418Z
UID:10906-1657382400-1657382400@alwaysraceday.com
SUMMARY:NASCAR Xfinity Series @ New Atlanta
DESCRIPTION:Atlanta Motor Speedway | USA Network
URL:https://alwaysraceday.com/schedule/nascar-xfinity-series-new-atlanta-2/
CATEGORIES:Asphalt
ATTACH;FMTTYPE=image/jpeg:https://alwaysraceday.com/wp-content/uploads/2021/12/NASCAR-Xfinity-Series-purple-logo-2022-NXS.jpg
END:VEVENT
END:VCALENDAR