BEGIN:VCALENDAR
VERSION:2.0
PRODID:-//Always Race Day - ECPv6.15.20//NONSGML v1.0//EN
CALSCALE:GREGORIAN
METHOD:PUBLISH
X-ORIGINAL-URL:https://alwaysraceday.com
X-WR-CALDESC:Events for Always Race Day
REFRESH-INTERVAL;VALUE=DURATION:PT1H
X-Robots-Tag:noindex
X-PUBLISHED-TTL:PT1H
BEGIN:VTIMEZONE
TZID:America/Chicago
BEGIN:DAYLIGHT
TZOFFSETFROM:-0600
TZOFFSETTO:-0500
TZNAME:CDT
DTSTART:20210314T080000
END:DAYLIGHT
BEGIN:STANDARD
TZOFFSETFROM:-0500
TZOFFSETTO:-0600
TZNAME:CST
DTSTART:20211107T070000
END:STANDARD
BEGIN:DAYLIGHT
TZOFFSETFROM:-0600
TZOFFSETTO:-0500
TZNAME:CDT
DTSTART:20220313T080000
END:DAYLIGHT
BEGIN:STANDARD
TZOFFSETFROM:-0500
TZOFFSETTO:-0600
TZNAME:CST
DTSTART:20221106T070000
END:STANDARD
BEGIN:DAYLIGHT
TZOFFSETFROM:-0600
TZOFFSETTO:-0500
TZNAME:CDT
DTSTART:20230312T080000
END:DAYLIGHT
BEGIN:STANDARD
TZOFFSETFROM:-0500
TZOFFSETTO:-0600
TZNAME:CST
DTSTART:20231105T070000
END:STANDARD
END:VTIMEZONE
BEGIN:VEVENT
DTSTART;TZID=America/Chicago:20220611T183000
DTEND;TZID=America/Chicago:20220611T183000
DTSTAMP:20260424T130618
CREATED:20211226T191510Z
LAST-MODIFIED:20211226T191510Z
UID:10890-1654972200-1654972200@alwaysraceday.com
SUMMARY:NASCAR Truck Series @ Sonoma
DESCRIPTION:Sonoma Raceway | Fox Sports 1
URL:https://alwaysraceday.com/schedule/nascar-truck-series-sonoma/
CATEGORIES:Asphalt
ATTACH;FMTTYPE=image/jpeg:https://alwaysraceday.com/wp-content/uploads/2021/12/2020-sep15-camping-world-main-image-625x340-1.jpg
END:VEVENT
BEGIN:VEVENT
DTSTART;TZID=America/Chicago:20220605T143000
DTEND;TZID=America/Chicago:20220605T143000
DTSTAMP:20260424T130618
CREATED:20211120T235215Z
LAST-MODIFIED:20211226T180314Z
UID:9662-1654439400-1654439400@alwaysraceday.com
SUMMARY:NASCAR Cup Series Inaugural Race at Gateway
DESCRIPTION:World Wide Technology Raceway at Gateway | Fox Sports 1
URL:https://alwaysraceday.com/schedule/nascar-cup-series-inaugural-race-at-gateway/
CATEGORIES:Asphalt
ATTACH;FMTTYPE=image/png:https://alwaysraceday.com/wp-content/uploads/2021/11/1200px-NASCAR_Cup_Series_logo.svg-1.png
END:VEVENT
BEGIN:VEVENT
DTSTART;TZID=America/Chicago:20220605T140000
DTEND;TZID=America/Chicago:20220605T140000
DTSTAMP:20260424T130618
CREATED:20220114T221042Z
LAST-MODIFIED:20220114T221042Z
UID:11064-1654437600-1654437600@alwaysraceday.com
SUMMARY:IndyCar @ Streets of Detroit
DESCRIPTION:Raceway at Belle Isle Park | USA
URL:https://alwaysraceday.com/schedule/indycar-streets-of-detroit/
CATEGORIES:Asphalt
ATTACH;FMTTYPE=image/png:https://alwaysraceday.com/wp-content/uploads/2022/01/logo-4.png
END:VEVENT
BEGIN:VEVENT
DTSTART;TZID=America/Chicago:20220604T153000
DTEND;TZID=America/Chicago:20220604T153000
DTSTAMP:20260424T130618
CREATED:20211226T191407Z
LAST-MODIFIED:20211226T191407Z
UID:10888-1654356600-1654356600@alwaysraceday.com
SUMMARY:NASCAR Xfinity Series Inaugural Race @ Portland
DESCRIPTION:Portland International Raceway | Fox Sports 1
URL:https://alwaysraceday.com/schedule/nascar-xfinity-series-inaugural-race-portland/
CATEGORIES:Asphalt
ATTACH;FMTTYPE=image/jpeg:https://alwaysraceday.com/wp-content/uploads/2021/12/NASCAR-Xfinity-Series-purple-logo-2022-NXS.jpg
END:VEVENT
BEGIN:VEVENT
DTSTART;TZID=America/Chicago:20220604T123000
DTEND;TZID=America/Chicago:20220604T123000
DTSTAMP:20260424T130618
CREATED:20211226T191238Z
LAST-MODIFIED:20211226T191238Z
UID:10886-1654345800-1654345800@alwaysraceday.com
SUMMARY:NASCAR Truck Series @ Gateway
DESCRIPTION:World Wide Technology Raceway at Gateway | Fox Sports 1
URL:https://alwaysraceday.com/schedule/nascar-truck-series-gateway-2/
CATEGORIES:Asphalt
ATTACH;FMTTYPE=image/jpeg:https://alwaysraceday.com/wp-content/uploads/2021/12/2020-sep15-camping-world-main-image-625x340-1.jpg
END:VEVENT
BEGIN:VEVENT
DTSTART;TZID=America/Chicago:20220529T170000
DTEND;TZID=America/Chicago:20220529T170000
DTSTAMP:20260424T130618
CREATED:20211120T225902Z
LAST-MODIFIED:20211226T180257Z
UID:9660-1653843600-1653843600@alwaysraceday.com
SUMMARY:NASCAR Cup Series Coca Cola 600
DESCRIPTION:Charlotte Motor Speedway | FOX
URL:https://alwaysraceday.com/schedule/nascar-cup-series-coca-cola-600-2/
CATEGORIES:Asphalt
ATTACH;FMTTYPE=image/png:https://alwaysraceday.com/wp-content/uploads/2021/11/1200px-NASCAR_Cup_Series_logo.svg-1.png
END:VEVENT
BEGIN:VEVENT
DTSTART;TZID=America/Chicago:20220529T100000
DTEND;TZID=America/Chicago:20220529T100000
DTSTAMP:20260424T130618
CREATED:20220114T220845Z
LAST-MODIFIED:20220114T220845Z
UID:11061-1653818400-1653818400@alwaysraceday.com
SUMMARY:106th running of the Indianapolis 500
DESCRIPTION:Indianapolis Motor Speedway | NBC
URL:https://alwaysraceday.com/schedule/106th-running-of-the-indianapolis-500/
CATEGORIES:Asphalt
ATTACH;FMTTYPE=image/jpeg:https://alwaysraceday.com/wp-content/uploads/2022/01/106th-indianapolis-500-logo-1.jpg
END:VEVENT
BEGIN:VEVENT
DTSTART;TZID=America/Chicago:20220528T120000
DTEND;TZID=America/Chicago:20220528T120000
DTSTAMP:20260424T130618
CREATED:20211226T190710Z
LAST-MODIFIED:20211226T190710Z
UID:10884-1653739200-1653739200@alwaysraceday.com
SUMMARY:NASCAR Xfinity Series @ Charlotte
DESCRIPTION:Charlotte Motor Speedway | Fox Sports 1
URL:https://alwaysraceday.com/schedule/nascar-xfinity-series-charlotte-2/
CATEGORIES:Asphalt
ATTACH;FMTTYPE=image/jpeg:https://alwaysraceday.com/wp-content/uploads/2021/12/NASCAR-Xfinity-Series-purple-logo-2022-NXS.jpg
END:VEVENT
BEGIN:VEVENT
DTSTART;TZID=America/Chicago:20220527T193000
DTEND;TZID=America/Chicago:20220527T193000
DTSTAMP:20260424T130618
CREATED:20211226T190556Z
LAST-MODIFIED:20211226T190556Z
UID:10882-1653679800-1653679800@alwaysraceday.com
SUMMARY:NASCAR Truck Series @ Charlotte
DESCRIPTION:Charlotte Motor Speedway | Fox Sports 1
URL:https://alwaysraceday.com/schedule/nascar-truck-series-charlotte/
CATEGORIES:Asphalt
ATTACH;FMTTYPE=image/jpeg:https://alwaysraceday.com/wp-content/uploads/2021/12/2020-sep15-camping-world-main-image-625x340-1.jpg
END:VEVENT
BEGIN:VEVENT
DTSTART;TZID=America/Chicago:20220527T170000
DTEND;TZID=America/Chicago:20220527T170000
DTSTAMP:20260424T130618
CREATED:20211225T010356Z
LAST-MODIFIED:20211225T010356Z
UID:10548-1653670800-1653670800@alwaysraceday.com
SUMMARY:ARCA Menards Series Charlotte 150
DESCRIPTION:Charlotte Motor Speedway | Fox Sports 1
URL:https://alwaysraceday.com/schedule/arca-menards-series-charlotte-150/
CATEGORIES:Asphalt
ATTACH;FMTTYPE=image/png:https://alwaysraceday.com/wp-content/uploads/2021/12/1200px-ARCA_Menards_Series_Logo.svg-1.png
END:VEVENT
BEGIN:VEVENT
DTSTART;TZID=America/Chicago:20220527T170000
DTEND;TZID=America/Chicago:20220527T170000
DTSTAMP:20260424T130618
CREATED:20211220T014556Z
LAST-MODIFIED:20211220T014556Z
UID:9946-1653670800-1653670800@alwaysraceday.com
SUMMARY:USAC Silver Crown Carb Night Classic @ IRP (Pavement)
DESCRIPTION:Lucas Oil Indianapolis Raceway Park | FloRacing
URL:https://alwaysraceday.com/schedule/usac-silver-crown-carb-night-classic-irp-pavement-2/
CATEGORIES:Asphalt,Dirt
ATTACH;FMTTYPE=image/jpeg:https://alwaysraceday.com/wp-content/uploads/2021/12/silvercrownlogo.jpg
END:VEVENT
BEGIN:VEVENT
DTSTART;TZID=America/Chicago:20220527T170000
DTEND;TZID=America/Chicago:20220527T170000
DTSTAMP:20260424T130618
CREATED:20211218T212752Z
LAST-MODIFIED:20211218T212752Z
UID:9925-1653670800-1653670800@alwaysraceday.com
SUMMARY:USAC Silver Crown Carb Night Classic @ IRP (Pavement)
DESCRIPTION:Lucas Oil Indianapolis Raceway Park | FloRacing
URL:https://alwaysraceday.com/schedule/usac-silver-crown-carb-night-classic-irp-pavement/
CATEGORIES:Asphalt,Dirt
ATTACH;FMTTYPE=image/jpeg:https://alwaysraceday.com/wp-content/uploads/2021/12/silvercrownlogo.jpg
END:VEVENT
BEGIN:VEVENT
DTSTART;TZID=America/Chicago:20220522T190000
DTEND;TZID=America/Chicago:20220522T190000
DTSTAMP:20260424T130618
CREATED:20211120T225246Z
LAST-MODIFIED:20211226T180237Z
UID:9657-1653246000-1653246000@alwaysraceday.com
SUMMARY:NASCAR All-Star Race @ Texas
DESCRIPTION:Texas Motor Speedway | Fox Sports 1
URL:https://alwaysraceday.com/schedule/nascar-all-star-race-texas/
CATEGORIES:Asphalt
ATTACH;FMTTYPE=image/png:https://alwaysraceday.com/wp-content/uploads/2021/11/tms_nascar_all-star_starchrome_2022_300x200.png
END:VEVENT
BEGIN:VEVENT
DTSTART;TZID=America/Chicago:20220521T123000
DTEND;TZID=America/Chicago:20220521T123000
DTSTAMP:20260424T130618
CREATED:20211226T190448Z
LAST-MODIFIED:20211226T190448Z
UID:10880-1653136200-1653136200@alwaysraceday.com
SUMMARY:NASCAR Xfinity Series @ Texas
DESCRIPTION:Texas Motor Speedway | Fox Sports 1
URL:https://alwaysraceday.com/schedule/nascar-xfinity-series-texas-3/
CATEGORIES:Asphalt
ATTACH;FMTTYPE=image/jpeg:https://alwaysraceday.com/wp-content/uploads/2021/12/NASCAR-Xfinity-Series-purple-logo-2022-NXS.jpg
END:VEVENT
BEGIN:VEVENT
DTSTART;TZID=America/Chicago:20220520T193000
DTEND;TZID=America/Chicago:20220520T193000
DTSTAMP:20260424T130618
CREATED:20211226T190345Z
LAST-MODIFIED:20211226T190345Z
UID:10878-1653075000-1653075000@alwaysraceday.com
SUMMARY:NASCAR Truck Series @ Texas
DESCRIPTION:Texas Motor Speedway | Fox Sports 1
URL:https://alwaysraceday.com/schedule/nascar-truck-series-texas-3/
CATEGORIES:Asphalt
ATTACH;FMTTYPE=image/jpeg:https://alwaysraceday.com/wp-content/uploads/2021/12/2020-sep15-camping-world-main-image-625x340-1.jpg
END:VEVENT
BEGIN:VEVENT
DTSTART;TZID=America/Chicago:20220515T140000
DTEND;TZID=America/Chicago:20220515T143000
DTSTAMP:20260424T130618
CREATED:20211120T224958Z
LAST-MODIFIED:20211226T180218Z
UID:9655-1652623200-1652625000@alwaysraceday.com
SUMMARY:NASCAR Cup Series @ Kansas
DESCRIPTION:Kansas Speedway | Fox Sports 1
URL:https://alwaysraceday.com/schedule/nascar-cup-series-kansas-3/
CATEGORIES:Asphalt
ATTACH;FMTTYPE=image/png:https://alwaysraceday.com/wp-content/uploads/2021/11/1200px-NASCAR_Cup_Series_logo.svg.png
END:VEVENT
BEGIN:VEVENT
DTSTART;TZID=America/Chicago:20220514T190000
DTEND;TZID=America/Chicago:20220514T190000
DTSTAMP:20260424T130618
CREATED:20211226T190225Z
LAST-MODIFIED:20211226T190225Z
UID:10876-1652554800-1652554800@alwaysraceday.com
SUMMARY:NASCAR Truck Series @ Kansas
DESCRIPTION:Kansas Speedway | Fox Sports 1
URL:https://alwaysraceday.com/schedule/nascar-truck-series-kansas-2/
CATEGORIES:Asphalt
ATTACH;FMTTYPE=image/jpeg:https://alwaysraceday.com/wp-content/uploads/2021/12/2020-sep15-camping-world-main-image-625x340-1.jpg
END:VEVENT
BEGIN:VEVENT
DTSTART;TZID=America/Chicago:20220514T140000
DTEND;TZID=America/Chicago:20220514T140000
DTSTAMP:20260424T130618
CREATED:20220114T220518Z
LAST-MODIFIED:20220114T220518Z
UID:11058-1652536800-1652536800@alwaysraceday.com
SUMMARY:IndyCar @ Indianapolis Road Course
DESCRIPTION:Indianapolis Road Course | NBC
URL:https://alwaysraceday.com/schedule/indycar-indianapolis-road-course-3/
CATEGORIES:Asphalt
ATTACH;FMTTYPE=image/png:https://alwaysraceday.com/wp-content/uploads/2022/01/logo-4.png
END:VEVENT
BEGIN:VEVENT
DTSTART;TZID=America/Chicago:20220508T143000
DTEND;TZID=America/Chicago:20220508T143000
DTSTAMP:20260424T130618
CREATED:20211120T223410Z
LAST-MODIFIED:20211226T180158Z
UID:9653-1652020200-1652020200@alwaysraceday.com
SUMMARY:NASCAR Cup Series @ Darlington Throwback
DESCRIPTION:Darlington Raceway | Fox Sports 1
URL:https://alwaysraceday.com/schedule/nascar-cup-series-darlington-throwback/
CATEGORIES:Asphalt
ATTACH;FMTTYPE=image/png:https://alwaysraceday.com/wp-content/uploads/2021/02/nascarthrowbackweekendlogo.png
END:VEVENT
BEGIN:VEVENT
DTSTART;TZID=America/Chicago:20220507T123000
DTEND;TZID=America/Chicago:20220507T123000
DTSTAMP:20260424T130618
CREATED:20211226T190126Z
LAST-MODIFIED:20211226T190126Z
UID:10874-1651926600-1651926600@alwaysraceday.com
SUMMARY:NASCAR Xfinity Series @ Darlington
DESCRIPTION:Darlington Raceway | Fox Sports 1
URL:https://alwaysraceday.com/schedule/nascar-xfinity-series-darlington-4/
CATEGORIES:Asphalt
ATTACH;FMTTYPE=image/jpeg:https://alwaysraceday.com/wp-content/uploads/2021/12/NASCAR-Xfinity-Series-purple-logo-2022-NXS.jpg
END:VEVENT
BEGIN:VEVENT
DTSTART;TZID=America/Chicago:20220506T183000
DTEND;TZID=America/Chicago:20220506T183000
DTSTAMP:20260424T130618
CREATED:20211226T190021Z
LAST-MODIFIED:20211226T190021Z
UID:10872-1651861800-1651861800@alwaysraceday.com
SUMMARY:NASCAR Truck Series @ Darlington
DESCRIPTION:Darlington Raceway | Fox Sports 1
URL:https://alwaysraceday.com/schedule/nascar-truck-series-darlington/
CATEGORIES:Asphalt
ATTACH;FMTTYPE=image/jpeg:https://alwaysraceday.com/wp-content/uploads/2021/12/2020-sep15-camping-world-main-image-625x340-1.jpg
END:VEVENT
BEGIN:VEVENT
DTSTART;TZID=America/Chicago:20220501T140000
DTEND;TZID=America/Chicago:20220501T140000
DTSTAMP:20260424T130618
CREATED:20211120T223215Z
LAST-MODIFIED:20211226T180139Z
UID:9651-1651413600-1651413600@alwaysraceday.com
SUMMARY:NASCAR Cup Series @ Dover
DESCRIPTION:Dover International Speedway | Fox Sports 1
URL:https://alwaysraceday.com/schedule/nascar-cup-series-dover-2/
CATEGORIES:Asphalt
ATTACH;FMTTYPE=image/png:https://alwaysraceday.com/wp-content/uploads/2021/11/1200px-NASCAR_Cup_Series_logo.svg-1.png
END:VEVENT
BEGIN:VEVENT
DTSTART;TZID=America/Chicago:20220501T130000
DTEND;TZID=America/Chicago:20220501T130000
DTSTAMP:20260424T130618
CREATED:20211218T212346Z
LAST-MODIFIED:20211218T212457Z
UID:9922-1651410000-1651410000@alwaysraceday.com
SUMMARY:USAC Silver Crown Season Opener Sumar Classic (Dirt)
DESCRIPTION:Terre Haute Action Track | FloRacing
URL:https://alwaysraceday.com/schedule/usac-silver-crown-season-opener-sumar-classic-dirt/
CATEGORIES:Asphalt,Dirt
ATTACH;FMTTYPE=image/jpeg:https://alwaysraceday.com/wp-content/uploads/2021/12/silvercrownlogo.jpg
END:VEVENT
BEGIN:VEVENT
DTSTART;TZID=America/Chicago:20220501T113000
DTEND;TZID=America/Chicago:20220501T113000
DTSTAMP:20260424T130618
CREATED:20220114T220015Z
LAST-MODIFIED:20220114T220015Z
UID:11056-1651404600-1651404600@alwaysraceday.com
SUMMARY:IndyCar @ Barber Motorsports Park
DESCRIPTION:Barber Motorsports Park | NBC
URL:https://alwaysraceday.com/schedule/indycar-barber-motorsports-park/
CATEGORIES:Asphalt
ATTACH;FMTTYPE=image/png:https://alwaysraceday.com/wp-content/uploads/2022/01/logo-4.png
END:VEVENT
BEGIN:VEVENT
DTSTART;TZID=America/Chicago:20220430T123000
DTEND;TZID=America/Chicago:20220430T123000
DTSTAMP:20260424T130618
CREATED:20211226T185721Z
LAST-MODIFIED:20211226T185721Z
UID:10870-1651321800-1651321800@alwaysraceday.com
SUMMARY:NASCAR Xfinity Series @ Dover
DESCRIPTION:Dover Motor Speedway | Fox Sports 1
URL:https://alwaysraceday.com/schedule/nascar-xfinity-series-dover-2/
CATEGORIES:Asphalt
ATTACH;FMTTYPE=image/jpeg:https://alwaysraceday.com/wp-content/uploads/2021/12/NASCAR-Xfinity-Series-purple-logo-2022-NXS.jpg
END:VEVENT
BEGIN:VEVENT
DTSTART;TZID=America/Chicago:20220424T140000
DTEND;TZID=America/Chicago:20220424T140000
DTSTAMP:20260424T130618
CREATED:20211120T222233Z
LAST-MODIFIED:20211226T180118Z
UID:9649-1650808800-1650808800@alwaysraceday.com
SUMMARY:NASCAR Cup Series @ Talladega
DESCRIPTION:Talladega Superspeedway | FOX
URL:https://alwaysraceday.com/schedule/nascar-cup-series-talladega-4/
CATEGORIES:Asphalt
ATTACH;FMTTYPE=image/png:https://alwaysraceday.com/wp-content/uploads/2021/11/1200px-NASCAR_Cup_Series_logo.svg-1.png
END:VEVENT
BEGIN:VEVENT
DTSTART;TZID=America/Chicago:20220423T120000
DTEND;TZID=America/Chicago:20220423T120000
DTSTAMP:20260424T130618
CREATED:20211224T234752Z
LAST-MODIFIED:20211224T234752Z
UID:10544-1650715200-1650715200@alwaysraceday.com
SUMMARY:ARCA Menards Series General Tire 200 @ Talladega
DESCRIPTION:Talladega Superspeedway | Fox Sports 1
URL:https://alwaysraceday.com/schedule/arca-menards-series-general-tire-200-talladega/
CATEGORIES:Asphalt
ATTACH;FMTTYPE=image/png:https://alwaysraceday.com/wp-content/uploads/2021/12/1200px-ARCA_Menards_Series_Logo.svg-1.png
END:VEVENT
BEGIN:VEVENT
DTSTART;TZID=America/Chicago:20220417T180000
DTEND;TZID=America/Chicago:20220417T180000
DTSTAMP:20260424T130618
CREATED:20211120T221945Z
LAST-MODIFIED:20211226T175901Z
UID:9645-1650218400-1650218400@alwaysraceday.com
SUMMARY:NASCAR Cup Series @ Bristol Dirt Race
DESCRIPTION:Bristol Dirt | FOX
URL:https://alwaysraceday.com/schedule/nascar-cup-series-bristol-dirt-race/
CATEGORIES:Asphalt,Dirt
ATTACH;FMTTYPE=image/jpeg:https://alwaysraceday.com/wp-content/uploads/2021/11/1919733-lg.jpg
END:VEVENT
BEGIN:VEVENT
DTSTART;TZID=America/Chicago:20220416T190000
DTEND;TZID=America/Chicago:20220416T190000
DTSTAMP:20260424T130618
CREATED:20211226T185425Z
LAST-MODIFIED:20211226T185425Z
UID:10866-1650135600-1650135600@alwaysraceday.com
SUMMARY:NASCAR Truck Series @ Bristol Dirt
DESCRIPTION:Bristol Motor Speedway | Fox Sports 1
URL:https://alwaysraceday.com/schedule/nascar-truck-series-bristol-dirt/
CATEGORIES:Asphalt,Dirt
ATTACH;FMTTYPE=image/jpeg:https://alwaysraceday.com/wp-content/uploads/2021/12/2020-sep15-camping-world-main-image-625x340-1.jpg
END:VEVENT
BEGIN:VEVENT
DTSTART;TZID=America/Chicago:20220410T140000
DTEND;TZID=America/Chicago:20220410T140000
DTSTAMP:20260424T130618
CREATED:20220114T215807Z
LAST-MODIFIED:20220114T215807Z
UID:11054-1649599200-1649599200@alwaysraceday.com
SUMMARY:IndyCar @ Streets of Long Beach
DESCRIPTION:Streets of Long Beach | NBC
URL:https://alwaysraceday.com/schedule/indycar-streets-of-long-beach/
CATEGORIES:Asphalt
ATTACH;FMTTYPE=image/png:https://alwaysraceday.com/wp-content/uploads/2022/01/logo-4.png
END:VEVENT
END:VCALENDAR