BEGIN:VCALENDAR
VERSION:2.0
PRODID:-//Always Race Day - ECPv6.15.20//NONSGML v1.0//EN
CALSCALE:GREGORIAN
METHOD:PUBLISH
X-ORIGINAL-URL:https://alwaysraceday.com
X-WR-CALDESC:Events for Always Race Day
REFRESH-INTERVAL;VALUE=DURATION:PT1H
X-Robots-Tag:noindex
X-PUBLISHED-TTL:PT1H
BEGIN:VTIMEZONE
TZID:America/Chicago
BEGIN:DAYLIGHT
TZOFFSETFROM:-0600
TZOFFSETTO:-0500
TZNAME:CDT
DTSTART:20200308T080000
END:DAYLIGHT
BEGIN:STANDARD
TZOFFSETFROM:-0500
TZOFFSETTO:-0600
TZNAME:CST
DTSTART:20201101T070000
END:STANDARD
BEGIN:DAYLIGHT
TZOFFSETFROM:-0600
TZOFFSETTO:-0500
TZNAME:CDT
DTSTART:20210314T080000
END:DAYLIGHT
BEGIN:STANDARD
TZOFFSETFROM:-0500
TZOFFSETTO:-0600
TZNAME:CST
DTSTART:20211107T070000
END:STANDARD
BEGIN:DAYLIGHT
TZOFFSETFROM:-0600
TZOFFSETTO:-0500
TZNAME:CDT
DTSTART:20220313T080000
END:DAYLIGHT
BEGIN:STANDARD
TZOFFSETFROM:-0500
TZOFFSETTO:-0600
TZNAME:CST
DTSTART:20221106T070000
END:STANDARD
BEGIN:DAYLIGHT
TZOFFSETFROM:-0600
TZOFFSETTO:-0500
TZNAME:CDT
DTSTART:20230312T080000
END:DAYLIGHT
BEGIN:STANDARD
TZOFFSETFROM:-0500
TZOFFSETTO:-0600
TZNAME:CST
DTSTART:20231105T070000
END:STANDARD
END:VTIMEZONE
BEGIN:VEVENT
DTSTART;TZID=America/Chicago:20220326T153000
DTEND;TZID=America/Chicago:20220326T153000
DTSTAMP:20260424T180019
CREATED:20211226T184642Z
LAST-MODIFIED:20211226T184642Z
UID:10857-1648308600-1648308600@alwaysraceday.com
SUMMARY:NASCAR Xfinity Series @ Circuit of the Americas
DESCRIPTION:Circuit of the Americas | Fox Sports 1
URL:https://alwaysraceday.com/schedule/nascar-xfinity-series-circuit-of-the-americas/
CATEGORIES:Asphalt
ATTACH;FMTTYPE=image/jpeg:https://alwaysraceday.com/wp-content/uploads/2021/12/NASCAR-Xfinity-Series-purple-logo-2022-NXS.jpg
END:VEVENT
BEGIN:VEVENT
DTSTART;TZID=America/Chicago:20220326T120000
DTEND;TZID=America/Chicago:20220326T120000
DTSTAMP:20260424T180019
CREATED:20211226T184524Z
LAST-MODIFIED:20211226T184524Z
UID:10855-1648296000-1648296000@alwaysraceday.com
SUMMARY:NASCAR Truck Series @ Circuit of the Americas
DESCRIPTION:Circuit of the Americas | Fox Sports 1
URL:https://alwaysraceday.com/schedule/nascar-truck-series-circuit-of-the-americas/
CATEGORIES:Asphalt
ATTACH;FMTTYPE=image/jpeg:https://alwaysraceday.com/wp-content/uploads/2021/12/2020-sep15-camping-world-main-image-625x340-1.jpg
END:VEVENT
BEGIN:VEVENT
DTSTART;TZID=America/Chicago:20220320T140000
DTEND;TZID=America/Chicago:20220320T140000
DTSTAMP:20260424T180019
CREATED:20211120T221356Z
LAST-MODIFIED:20211226T175705Z
UID:9637-1647784800-1647784800@alwaysraceday.com
SUMMARY:NASCAR Cup Series @ New Atlanta
DESCRIPTION:Atlanta Motor Speedway | FOX
URL:https://alwaysraceday.com/schedule/nascar-cup-series-new-atlanta/
CATEGORIES:Asphalt
ATTACH;FMTTYPE=image/png:https://alwaysraceday.com/wp-content/uploads/2021/11/1200px-NASCAR_Cup_Series_logo.svg-1.png
END:VEVENT
BEGIN:VEVENT
DTSTART;TZID=America/Chicago:20220320T113000
DTEND;TZID=America/Chicago:20220320T113000
DTSTAMP:20260424T180019
CREATED:20220114T214847Z
LAST-MODIFIED:20220114T214847Z
UID:11051-1647775800-1647775800@alwaysraceday.com
SUMMARY:IndyCar @ Texas
DESCRIPTION:Texas Motor Speedway | NBC
URL:https://alwaysraceday.com/schedule/indycar-texas/
CATEGORIES:Asphalt
ATTACH;FMTTYPE=image/png:https://alwaysraceday.com/wp-content/uploads/2022/01/logo-4.png
END:VEVENT
BEGIN:VEVENT
DTSTART;TZID=America/Chicago:20220319T160000
DTEND;TZID=America/Chicago:20220319T160000
DTSTAMP:20260424T180019
CREATED:20211226T184357Z
LAST-MODIFIED:20211226T184357Z
UID:10853-1647705600-1647705600@alwaysraceday.com
SUMMARY:NASCAR Xfinity Series @ New Atlanta
DESCRIPTION:Atlanta Motor Speedway | Fox Sports 1
URL:https://alwaysraceday.com/schedule/nascar-xfinity-series-new-atlanta/
CATEGORIES:Asphalt
ATTACH;FMTTYPE=image/jpeg:https://alwaysraceday.com/wp-content/uploads/2021/12/NASCAR-Xfinity-Series-purple-logo-2022-NXS.jpg
END:VEVENT
BEGIN:VEVENT
DTSTART;TZID=America/Chicago:20220319T133000
DTEND;TZID=America/Chicago:20220319T133000
DTSTAMP:20260424T180019
CREATED:20211226T184301Z
LAST-MODIFIED:20211226T184301Z
UID:10851-1647696600-1647696600@alwaysraceday.com
SUMMARY:NASCAR Truck Series @ New Atlanta
DESCRIPTION:Atlanta Motor Speedway | Fox Sports 1
URL:https://alwaysraceday.com/schedule/nascar-truck-series-new-atlanta/
CATEGORIES:Asphalt
ATTACH;FMTTYPE=image/jpeg:https://alwaysraceday.com/wp-content/uploads/2021/12/2020-sep15-camping-world-main-image-625x340-1.jpg
END:VEVENT
BEGIN:VEVENT
DTSTART;TZID=America/Chicago:20220313T143000
DTEND;TZID=America/Chicago:20220313T143000
DTSTAMP:20260424T180019
CREATED:20211120T221208Z
LAST-MODIFIED:20211226T175643Z
UID:9635-1647181800-1647181800@alwaysraceday.com
SUMMARY:NASCAR Cup Series @ Phoenix
DESCRIPTION:Phoenix Raceway | FOX
URL:https://alwaysraceday.com/schedule/nascar-cup-series-phoenix-2/
CATEGORIES:Asphalt
ATTACH;FMTTYPE=image/png:https://alwaysraceday.com/wp-content/uploads/2021/11/1200px-NASCAR_Cup_Series_logo.svg-1.png
END:VEVENT
BEGIN:VEVENT
DTSTART;TZID=America/Chicago:20220312T153000
DTEND;TZID=America/Chicago:20220312T153000
DTSTAMP:20260424T180019
CREATED:20211226T184127Z
LAST-MODIFIED:20211226T184127Z
UID:10849-1647099000-1647099000@alwaysraceday.com
SUMMARY:NASCAR Xfinity Series @ Phoenix
DESCRIPTION:Phoenix Raceway | Fox Sports 1
URL:https://alwaysraceday.com/schedule/nascar-xfinity-series-phoenix-2/
CATEGORIES:Asphalt
ATTACH;FMTTYPE=image/jpeg:https://alwaysraceday.com/wp-content/uploads/2021/12/NASCAR-Xfinity-Series-purple-logo-2022-NXS.jpg
END:VEVENT
BEGIN:VEVENT
DTSTART;TZID=America/Chicago:20220311T183000
DTEND;TZID=America/Chicago:20220311T183000
DTSTAMP:20260424T180019
CREATED:20211224T234554Z
LAST-MODIFIED:20211224T234554Z
UID:10542-1647023400-1647023400@alwaysraceday.com
SUMMARY:ARCA Menards Series General Tire 150 @ Phoenix
DESCRIPTION:Phoenix Raceway | MAVTV/FloRacing
URL:https://alwaysraceday.com/schedule/arca-menards-series-general-tire-150-phoenix/
CATEGORIES:Asphalt
ATTACH;FMTTYPE=image/png:https://alwaysraceday.com/wp-content/uploads/2021/12/1200px-ARCA_Menards_Series_Logo.svg-1.png
END:VEVENT
BEGIN:VEVENT
DTSTART;TZID=America/Chicago:20220306T143000
DTEND;TZID=America/Chicago:20220306T143000
DTSTAMP:20260424T180019
CREATED:20211120T221028Z
LAST-MODIFIED:20211226T175423Z
UID:9633-1646577000-1646577000@alwaysraceday.com
SUMMARY:NASCAR Cup Series @ Las Vegas
DESCRIPTION:Las Vegas Motor Speedway | FOX
URL:https://alwaysraceday.com/schedule/nascar-cup-series-las-vegas-2/
CATEGORIES:Asphalt
ATTACH;FMTTYPE=image/png:https://alwaysraceday.com/wp-content/uploads/2021/11/1200px-NASCAR_Cup_Series_logo.svg-1.png
END:VEVENT
BEGIN:VEVENT
DTSTART;TZID=America/Chicago:20220305T153000
DTEND;TZID=America/Chicago:20220305T153000
DTSTAMP:20260424T180019
CREATED:20211226T183525Z
LAST-MODIFIED:20211226T183525Z
UID:10847-1646494200-1646494200@alwaysraceday.com
SUMMARY:NASCAR Xfinity Series @ Las Vegas
DESCRIPTION:Las Vegas Motor Speedway | Fox Sports 1
URL:https://alwaysraceday.com/schedule/nascar-xfinity-series-las-vegas-2/
CATEGORIES:Asphalt
ATTACH;FMTTYPE=image/jpeg:https://alwaysraceday.com/wp-content/uploads/2021/12/NASCAR-Xfinity-Series-purple-logo-2022-NXS.jpg
END:VEVENT
BEGIN:VEVENT
DTSTART;TZID=America/Chicago:20220304T200000
DTEND;TZID=America/Chicago:20220304T200000
DTSTAMP:20260424T180019
CREATED:20211226T183409Z
LAST-MODIFIED:20211226T183409Z
UID:10845-1646424000-1646424000@alwaysraceday.com
SUMMARY:NASCAR Truck Series @ Las Vegas
DESCRIPTION:Las Vegas Motor Speedway | Fox Sports 1
URL:https://alwaysraceday.com/schedule/nascar-truck-series-las-vegas-2/
CATEGORIES:Asphalt
ATTACH;FMTTYPE=image/jpeg:https://alwaysraceday.com/wp-content/uploads/2021/12/2020-sep15-camping-world-main-image-625x340-1.jpg
END:VEVENT
BEGIN:VEVENT
DTSTART;TZID=America/Chicago:20220227T143000
DTEND;TZID=America/Chicago:20220227T143000
DTSTAMP:20260424T180019
CREATED:20211120T214713Z
LAST-MODIFIED:20211226T175400Z
UID:9631-1645972200-1645972200@alwaysraceday.com
SUMMARY:NASCAR Cup Series @ Auto Club
DESCRIPTION:Auto Club Speedway | FOX
URL:https://alwaysraceday.com/schedule/nascar-cup-series-auto-club/
CATEGORIES:Asphalt
ATTACH;FMTTYPE=image/png:https://alwaysraceday.com/wp-content/uploads/2021/11/1200px-NASCAR_Cup_Series_logo.svg-1.png
END:VEVENT
BEGIN:VEVENT
DTSTART;TZID=America/Chicago:20220227T110000
DTEND;TZID=America/Chicago:20220227T110000
DTSTAMP:20260424T180019
CREATED:20220114T214639Z
LAST-MODIFIED:20220114T214639Z
UID:11048-1645959600-1645959600@alwaysraceday.com
SUMMARY:IndyCar Season Opener @ Streets of St. Pete
DESCRIPTION:Streets of St. Petersburg | NBC
URL:https://alwaysraceday.com/schedule/indycar-season-opener-streets-of-st-pete/
CATEGORIES:Asphalt
ATTACH;FMTTYPE=image/png:https://alwaysraceday.com/wp-content/uploads/2022/01/logo-4.png
END:VEVENT
BEGIN:VEVENT
DTSTART;TZID=America/Chicago:20220226T160000
DTEND;TZID=America/Chicago:20220226T160000
DTSTAMP:20260424T180019
CREATED:20211226T183242Z
LAST-MODIFIED:20211226T183242Z
UID:10843-1645891200-1645891200@alwaysraceday.com
SUMMARY:NASCAR Xfinity Series @ Auto Club
DESCRIPTION:Auto Club Speedway | Fox Sports 1
URL:https://alwaysraceday.com/schedule/nascar-xfinity-series-auto-club/
CATEGORIES:Asphalt
ATTACH;FMTTYPE=image/jpeg:https://alwaysraceday.com/wp-content/uploads/2021/12/NASCAR-Xfinity-Series-purple-logo-2022-NXS.jpg
END:VEVENT
BEGIN:VEVENT
DTSTART;TZID=America/Chicago:20220220T133000
DTEND;TZID=America/Chicago:20220220T170000
DTSTAMP:20260424T180019
CREATED:20211120T214601Z
LAST-MODIFIED:20211120T214601Z
UID:9627-1645363800-1645376400@alwaysraceday.com
SUMMARY:The Daytona 500
DESCRIPTION:Daytona International Speedway | Fox Sports 1
URL:https://alwaysraceday.com/schedule/the-daytona-500/
CATEGORIES:Asphalt
ATTACH;FMTTYPE=image/png:https://alwaysraceday.com/wp-content/uploads/2021/11/Logo-2022Daytona500-220x220-1.png
END:VEVENT
BEGIN:VEVENT
DTSTART;TZID=America/Chicago:20220219T160000
DTEND;TZID=America/Chicago:20220219T160000
DTSTAMP:20260424T180019
CREATED:20211226T182426Z
LAST-MODIFIED:20211226T182426Z
UID:10837-1645286400-1645286400@alwaysraceday.com
SUMMARY:NASCAR Xfinity Series Season Opener @ Daytona
DESCRIPTION:Daytona International Speedway | Fox Sports 1
URL:https://alwaysraceday.com/schedule/nascar-xfinity-series-season-opener-daytona/
CATEGORIES:Asphalt
ATTACH;FMTTYPE=image/jpeg:https://alwaysraceday.com/wp-content/uploads/2021/12/NASCAR-Xfinity-Series-purple-logo-2022-NXS.jpg
END:VEVENT
BEGIN:VEVENT
DTSTART;TZID=America/Chicago:20220219T123000
DTEND;TZID=America/Chicago:20220219T123000
DTSTAMP:20260424T180019
CREATED:20211224T233616Z
LAST-MODIFIED:20211224T233640Z
UID:10538-1645273800-1645273800@alwaysraceday.com
SUMMARY:ARCA Menards Series Season Opener Lucas Oil 200 @ Daytona
DESCRIPTION:Daytona International Speedway | Fox Sports 1
URL:https://alwaysraceday.com/schedule/arca-menards-series-season-opener-daytona/
CATEGORIES:Asphalt
ATTACH;FMTTYPE=image/png:https://alwaysraceday.com/wp-content/uploads/2021/12/1200px-ARCA_Menards_Series_Logo.svg-1.png
END:VEVENT
BEGIN:VEVENT
DTSTART;TZID=America/Chicago:20220218T183000
DTEND;TZID=America/Chicago:20220218T183000
DTSTAMP:20260424T180019
CREATED:20211226T183043Z
LAST-MODIFIED:20211226T183043Z
UID:10841-1645209000-1645209000@alwaysraceday.com
SUMMARY:NASCAR Truck Series Season Opener @ Daytona
DESCRIPTION:Daytona International Speedway | Fox Sports 1
URL:https://alwaysraceday.com/schedule/nascar-truck-series-season-opener-daytona/
CATEGORIES:Asphalt
ATTACH;FMTTYPE=image/jpeg:https://alwaysraceday.com/wp-content/uploads/2021/12/2020-sep15-camping-world-main-image-625x340-1.jpg
END:VEVENT
BEGIN:VEVENT
DTSTART;TZID=America/Chicago:20220217T180000
DTEND;TZID=America/Chicago:20220217T180000
DTSTAMP:20260424T180019
CREATED:20211120T214310Z
LAST-MODIFIED:20211226T175318Z
UID:9625-1645120800-1645120800@alwaysraceday.com
SUMMARY:NASCAR Cup Series Duels at Daytona
DESCRIPTION:Daytona International Speedway | Fox Sports 1
URL:https://alwaysraceday.com/schedule/nascar-cup-series-duels-at-daytona/
CATEGORIES:Asphalt
ATTACH;FMTTYPE=image/png:https://alwaysraceday.com/wp-content/uploads/2021/11/1200px-NASCAR_Cup_Series_logo.svg.png
END:VEVENT
BEGIN:VEVENT
DTSTART;TZID=America/Chicago:20220206T190000
DTEND;TZID=America/Chicago:20220206T190000
DTSTAMP:20260424T180019
CREATED:20211120T214136Z
LAST-MODIFIED:20211226T175257Z
UID:9622-1644174000-1644174000@alwaysraceday.com
SUMMARY:NASCAR Cup Series Clash at The Coliseum
DESCRIPTION:LA Coliseum | Fox Sports 1
URL:https://alwaysraceday.com/schedule/nascar-cup-series-clash-at-the-coliseum/
CATEGORIES:Asphalt
ATTACH;FMTTYPE=image/jpeg:https://alwaysraceday.com/wp-content/uploads/2021/11/FDrqtb0XsAI_5rr.jpg
END:VEVENT
BEGIN:VEVENT
DTSTART;TZID=America/Chicago:20211226T150000
DTEND;TZID=America/Chicago:20211226T150000
DTSTAMP:20260424T180019
CREATED:20211226T185549Z
LAST-MODIFIED:20211226T185549Z
UID:10868-1640530800-1640530800@alwaysraceday.com
SUMMARY:NASCAR Xfinity Series @ Talladega
DESCRIPTION:Talladega Superspeedway | FOX
URL:https://alwaysraceday.com/schedule/nascar-xfinity-series-talladega-3/
CATEGORIES:Asphalt
ATTACH;FMTTYPE=image/jpeg:https://alwaysraceday.com/wp-content/uploads/2021/12/NASCAR-Xfinity-Series-purple-logo-2022-NXS.jpg
END:VEVENT
BEGIN:VEVENT
DTSTART;TZID=America/Chicago:20211219T190000
DTEND;TZID=America/Chicago:20211219T190000
DTSTAMP:20260424T180019
CREATED:20211220T052711Z
LAST-MODIFIED:20211220T052711Z
UID:10027-1639940400-1639940400@alwaysraceday.com
SUMMARY:USAC Silver Crown @ Gateway (Pavement)
DESCRIPTION:World Wide Technology Raceway @ Gateway | FloRacing
URL:https://alwaysraceday.com/schedule/usac-silver-crown-gateway-pavement/
CATEGORIES:Asphalt,Dirt
ATTACH;FMTTYPE=image/jpeg:https://alwaysraceday.com/wp-content/uploads/2021/12/silvercrownlogo.jpg
END:VEVENT
BEGIN:VEVENT
DTSTART;TZID=America/Chicago:20211107T140000
DTEND;TZID=America/Chicago:20211107T170000
DTSTAMP:20260424T180019
CREATED:20210223T033955Z
LAST-MODIFIED:20210223T033955Z
UID:6874-1636293600-1636304400@alwaysraceday.com
SUMMARY:NASCAR Cup Series Championship Race @ Phoenix
DESCRIPTION:Phoenix Raceway | NBC
URL:https://alwaysraceday.com/schedule/nascar-cup-series-championship-race-phoenix/
CATEGORIES:Asphalt
ATTACH;FMTTYPE=image/png:https://alwaysraceday.com/wp-content/uploads/2020/06/NASCAR_Cup_Series_logo.png
END:VEVENT
BEGIN:VEVENT
DTSTART;TZID=America/Chicago:20211106T193000
DTEND;TZID=America/Chicago:20211106T223000
DTSTAMP:20260424T180019
CREATED:20210223T033849Z
LAST-MODIFIED:20210223T033849Z
UID:6872-1636227000-1636237800@alwaysraceday.com
SUMMARY:NASCAR Xfinity Series Championship Race @ Phoenix
DESCRIPTION:Phoenix Raceway | NBCSN
URL:https://alwaysraceday.com/schedule/nascar-xfinity-series-championship-race-phoenix/
CATEGORIES:Asphalt
ATTACH;FMTTYPE=image/png:https://alwaysraceday.com/wp-content/uploads/2020/06/NASCAR_Xfinity_Series_logo_2018.png
END:VEVENT
BEGIN:VEVENT
DTSTART;TZID=America/Chicago:20211106T140000
DTEND;TZID=America/Chicago:20211106T160000
DTSTAMP:20260424T180019
CREATED:20210208T222804Z
LAST-MODIFIED:20210208T222804Z
UID:6170-1636207200-1636214400@alwaysraceday.com
SUMMARY:ARCA West Season Finale @ Phoenix
DESCRIPTION:Phoenix Raceway | NBC TrackPass
URL:https://alwaysraceday.com/schedule/arca-west-season-finale-phoenix/
CATEGORIES:Asphalt
ATTACH;FMTTYPE=image/png:https://alwaysraceday.com/wp-content/uploads/2021/02/AMS_West_2020_Ver_1.png
END:VEVENT
BEGIN:VEVENT
DTSTART;TZID=America/Chicago:20211105T190000
DTEND;TZID=America/Chicago:20211105T210000
DTSTAMP:20260424T180019
CREATED:20210202T150327Z
LAST-MODIFIED:20210202T150327Z
UID:6047-1636138800-1636146000@alwaysraceday.com
SUMMARY:NASCAR Trucks Championship Race
DESCRIPTION:Phoenix Raceway | Fox Sports 1
URL:https://alwaysraceday.com/schedule/nascar-trucks-championship-race/
CATEGORIES:Asphalt
ATTACH;FMTTYPE=image/jpeg:https://alwaysraceday.com/wp-content/uploads/2021/01/2020-sep15-camping-world-main-image.jpg
END:VEVENT
BEGIN:VEVENT
DTSTART;TZID=America/Chicago:20211031T130000
DTEND;TZID=America/Chicago:20211031T170000
DTSTAMP:20260424T180019
CREATED:20210223T033730Z
LAST-MODIFIED:20210223T033730Z
UID:6870-1635685200-1635699600@alwaysraceday.com
SUMMARY:NASCAR Cup Series Playoffs Round of 8 Race 3 @ Martinsville
DESCRIPTION:Martinsville Speedway | NBC
URL:https://alwaysraceday.com/schedule/nascar-cup-series-playoffs-round-of-8-race-3-martinsville/
CATEGORIES:Asphalt
ATTACH;FMTTYPE=image/png:https://alwaysraceday.com/wp-content/uploads/2020/06/NASCAR_Cup_Series_logo.png
END:VEVENT
BEGIN:VEVENT
DTSTART;TZID=America/Chicago:20211030T170000
DTEND;TZID=America/Chicago:20211030T200000
DTSTAMP:20260424T180019
CREATED:20210223T033616Z
LAST-MODIFIED:20210223T033616Z
UID:6868-1635613200-1635624000@alwaysraceday.com
SUMMARY:NASCAR Xfinity Series Playoffs Round of 8 @ Martinsville
DESCRIPTION:Martinsville Speedway | NBCSN
URL:https://alwaysraceday.com/schedule/nascar-xfinity-series-playoffs-round-of-8-martinsville/
CATEGORIES:Asphalt
ATTACH;FMTTYPE=image/png:https://alwaysraceday.com/wp-content/uploads/2020/06/NASCAR_Xfinity_Series_logo_2018.png
END:VEVENT
BEGIN:VEVENT
DTSTART;TZID=America/Chicago:20211030T120000
DTEND;TZID=America/Chicago:20211030T150000
DTSTAMP:20260424T180019
CREATED:20210202T150200Z
LAST-MODIFIED:20210202T150200Z
UID:6045-1635595200-1635606000@alwaysraceday.com
SUMMARY:NASCAR Trucks Playoffs Round of 8 @ Martinsville
DESCRIPTION:Martinsville Speedway | Fox Sports 1
URL:https://alwaysraceday.com/schedule/nascar-trucks-playoffs-round-of-8-martinsville/
CATEGORIES:Asphalt
ATTACH;FMTTYPE=image/jpeg:https://alwaysraceday.com/wp-content/uploads/2021/01/2020-sep15-camping-world-main-image.jpg
END:VEVENT
END:VCALENDAR