BEGIN:VCALENDAR
VERSION:2.0
PRODID:-//Always Race Day - ECPv6.15.20//NONSGML v1.0//EN
CALSCALE:GREGORIAN
METHOD:PUBLISH
X-WR-CALNAME:Always Race Day
X-ORIGINAL-URL:https://alwaysraceday.com
X-WR-CALDESC:Events for Always Race Day
REFRESH-INTERVAL;VALUE=DURATION:PT1H
X-Robots-Tag:noindex
X-PUBLISHED-TTL:PT1H
BEGIN:VTIMEZONE
TZID:America/Chicago
BEGIN:DAYLIGHT
TZOFFSETFROM:-0600
TZOFFSETTO:-0500
TZNAME:CDT
DTSTART:20200308T080000
END:DAYLIGHT
BEGIN:STANDARD
TZOFFSETFROM:-0500
TZOFFSETTO:-0600
TZNAME:CST
DTSTART:20201101T070000
END:STANDARD
BEGIN:DAYLIGHT
TZOFFSETFROM:-0600
TZOFFSETTO:-0500
TZNAME:CDT
DTSTART:20210314T080000
END:DAYLIGHT
BEGIN:STANDARD
TZOFFSETFROM:-0500
TZOFFSETTO:-0600
TZNAME:CST
DTSTART:20211107T070000
END:STANDARD
BEGIN:DAYLIGHT
TZOFFSETFROM:-0600
TZOFFSETTO:-0500
TZNAME:CDT
DTSTART:20220313T080000
END:DAYLIGHT
BEGIN:STANDARD
TZOFFSETFROM:-0500
TZOFFSETTO:-0600
TZNAME:CST
DTSTART:20221106T070000
END:STANDARD
END:VTIMEZONE
BEGIN:VEVENT
DTSTART;TZID=America/Chicago:20211106T193000
DTEND;TZID=America/Chicago:20211106T223000
DTSTAMP:20260424T214407
CREATED:20210223T033849Z
LAST-MODIFIED:20210223T033849Z
UID:6872-1636227000-1636237800@alwaysraceday.com
SUMMARY:NASCAR Xfinity Series Championship Race @ Phoenix
DESCRIPTION:Phoenix Raceway | NBCSN
URL:https://alwaysraceday.com/schedule/nascar-xfinity-series-championship-race-phoenix/
CATEGORIES:Asphalt
ATTACH;FMTTYPE=image/png:https://alwaysraceday.com/wp-content/uploads/2020/06/NASCAR_Xfinity_Series_logo_2018.png
END:VEVENT
BEGIN:VEVENT
DTSTART;TZID=America/Chicago:20211106T140000
DTEND;TZID=America/Chicago:20211106T160000
DTSTAMP:20260424T214407
CREATED:20210208T222804Z
LAST-MODIFIED:20210208T222804Z
UID:6170-1636207200-1636214400@alwaysraceday.com
SUMMARY:ARCA West Season Finale @ Phoenix
DESCRIPTION:Phoenix Raceway | NBC TrackPass
URL:https://alwaysraceday.com/schedule/arca-west-season-finale-phoenix/
CATEGORIES:Asphalt
ATTACH;FMTTYPE=image/png:https://alwaysraceday.com/wp-content/uploads/2021/02/AMS_West_2020_Ver_1.png
END:VEVENT
BEGIN:VEVENT
DTSTART;TZID=America/Chicago:20211105T190000
DTEND;TZID=America/Chicago:20211105T210000
DTSTAMP:20260424T214407
CREATED:20210202T150327Z
LAST-MODIFIED:20210202T150327Z
UID:6047-1636138800-1636146000@alwaysraceday.com
SUMMARY:NASCAR Trucks Championship Race
DESCRIPTION:Phoenix Raceway | Fox Sports 1
URL:https://alwaysraceday.com/schedule/nascar-trucks-championship-race/
CATEGORIES:Asphalt
ATTACH;FMTTYPE=image/jpeg:https://alwaysraceday.com/wp-content/uploads/2021/01/2020-sep15-camping-world-main-image.jpg
END:VEVENT
BEGIN:VEVENT
DTSTART;TZID=America/Chicago:20211031T130000
DTEND;TZID=America/Chicago:20211031T170000
DTSTAMP:20260424T214407
CREATED:20210223T033730Z
LAST-MODIFIED:20210223T033730Z
UID:6870-1635685200-1635699600@alwaysraceday.com
SUMMARY:NASCAR Cup Series Playoffs Round of 8 Race 3 @ Martinsville
DESCRIPTION:Martinsville Speedway | NBC
URL:https://alwaysraceday.com/schedule/nascar-cup-series-playoffs-round-of-8-race-3-martinsville/
CATEGORIES:Asphalt
ATTACH;FMTTYPE=image/png:https://alwaysraceday.com/wp-content/uploads/2020/06/NASCAR_Cup_Series_logo.png
END:VEVENT
BEGIN:VEVENT
DTSTART;TZID=America/Chicago:20211030T170000
DTEND;TZID=America/Chicago:20211030T200000
DTSTAMP:20260424T214407
CREATED:20210223T033616Z
LAST-MODIFIED:20210223T033616Z
UID:6868-1635613200-1635624000@alwaysraceday.com
SUMMARY:NASCAR Xfinity Series Playoffs Round of 8 @ Martinsville
DESCRIPTION:Martinsville Speedway | NBCSN
URL:https://alwaysraceday.com/schedule/nascar-xfinity-series-playoffs-round-of-8-martinsville/
CATEGORIES:Asphalt
ATTACH;FMTTYPE=image/png:https://alwaysraceday.com/wp-content/uploads/2020/06/NASCAR_Xfinity_Series_logo_2018.png
END:VEVENT
BEGIN:VEVENT
DTSTART;TZID=America/Chicago:20211030T120000
DTEND;TZID=America/Chicago:20211030T150000
DTSTAMP:20260424T214407
CREATED:20210202T150200Z
LAST-MODIFIED:20210202T150200Z
UID:6045-1635595200-1635606000@alwaysraceday.com
SUMMARY:NASCAR Trucks Playoffs Round of 8 @ Martinsville
DESCRIPTION:Martinsville Speedway | Fox Sports 1
URL:https://alwaysraceday.com/schedule/nascar-trucks-playoffs-round-of-8-martinsville/
CATEGORIES:Asphalt
ATTACH;FMTTYPE=image/jpeg:https://alwaysraceday.com/wp-content/uploads/2021/01/2020-sep15-camping-world-main-image.jpg
END:VEVENT
BEGIN:VEVENT
DTSTART;TZID=America/Chicago:20211024T140000
DTEND;TZID=America/Chicago:20211024T170000
DTSTAMP:20260424T214407
CREATED:20210223T033400Z
LAST-MODIFIED:20210223T033400Z
UID:6866-1635084000-1635094800@alwaysraceday.com
SUMMARY:NASCAR Cup Series Playoffs Round of 8 Race 2 @ Kansas
DESCRIPTION:Kansas Speedway | NBCSN
URL:https://alwaysraceday.com/schedule/nascar-cup-series-playoffs-round-of-8-race-2-kansas/
CATEGORIES:Asphalt
ATTACH;FMTTYPE=image/png:https://alwaysraceday.com/wp-content/uploads/2020/06/NASCAR_Cup_Series_logo.png
END:VEVENT
BEGIN:VEVENT
DTSTART;TZID=America/Chicago:20211023T180000
DTEND;TZID=America/Chicago:20211023T200000
DTSTAMP:20260424T214407
CREATED:20210208T212327Z
LAST-MODIFIED:20210208T212327Z
UID:6154-1635012000-1635019200@alwaysraceday.com
SUMMARY:ARCA Menards Series Season Finale @ Kansas
DESCRIPTION:Kansas Speedway | MAVTV/NBC TrackPass
URL:https://alwaysraceday.com/schedule/arca-menards-series-season-finale-kansas/
CATEGORIES:Asphalt
ATTACH;FMTTYPE=image/png:https://alwaysraceday.com/wp-content/uploads/2020/06/1200px-ARCA_Menards_Series_Logo.svg.png
END:VEVENT
BEGIN:VEVENT
DTSTART;TZID=America/Chicago:20211023T140000
DTEND;TZID=America/Chicago:20211023T170000
DTSTAMP:20260424T214407
CREATED:20210223T033306Z
LAST-MODIFIED:20210223T033306Z
UID:6864-1634997600-1635008400@alwaysraceday.com
SUMMARY:NASCAR Xfinity Series Playoffs Round of 8 @ Kansas
DESCRIPTION:Kansas Speedway | NBC
URL:https://alwaysraceday.com/schedule/nascar-xfinity-series-playoffs-round-of-8-kansas/
CATEGORIES:Asphalt
ATTACH;FMTTYPE=image/png:https://alwaysraceday.com/wp-content/uploads/2020/06/NASCAR_Xfinity_Series_logo_2018.png
END:VEVENT
BEGIN:VEVENT
DTSTART;TZID=America/Chicago:20211017T130000
DTEND;TZID=America/Chicago:20211017T170000
DTSTAMP:20260424T214407
CREATED:20210223T033125Z
LAST-MODIFIED:20210223T033125Z
UID:6862-1634475600-1634490000@alwaysraceday.com
SUMMARY:NASCAR Cup Series Playoffs Round of 8 Race 1 @ Texas
DESCRIPTION:Texas Motor Speedway | NBC
URL:https://alwaysraceday.com/schedule/nascar-cup-series-playoffs-round-of-8-race-1-texas/
CATEGORIES:Asphalt
ATTACH;FMTTYPE=image/png:https://alwaysraceday.com/wp-content/uploads/2020/06/NASCAR_Cup_Series_logo.png
END:VEVENT
BEGIN:VEVENT
DTSTART;TZID=America/Chicago:20211016T140000
DTEND;TZID=America/Chicago:20211016T170000
DTSTAMP:20260424T214407
CREATED:20210223T033034Z
LAST-MODIFIED:20210223T033034Z
UID:6860-1634392800-1634403600@alwaysraceday.com
SUMMARY:NASCAR Xfinity Series Playoffs Round of 8 @ Texas
DESCRIPTION:Texas Motor Speedway | NBC
URL:https://alwaysraceday.com/schedule/nascar-xfinity-series-playoffs-round-of-8-texas/
CATEGORIES:Asphalt
ATTACH;FMTTYPE=image/png:https://alwaysraceday.com/wp-content/uploads/2020/06/NASCAR_Xfinity_Series_logo_2018.png
END:VEVENT
BEGIN:VEVENT
DTSTART;TZID=America/Chicago:20211010T160000
DTEND;TZID=America/Chicago:20211010T210000
DTSTAMP:20260424T214407
CREATED:20210220T062900Z
LAST-MODIFIED:20210220T062900Z
UID:6531-1633881600-1633899600@alwaysraceday.com
SUMMARY:USAC Silver Crown Season Finale @ Toledo
DESCRIPTION:Toledo Speedway | FloRacing
URL:https://alwaysraceday.com/schedule/usac-silver-crown-season-finale-toledo/
CATEGORIES:Asphalt
ATTACH;FMTTYPE=image/png:https://alwaysraceday.com/wp-content/uploads/2021/02/2019_Silver_Crown_Black_200x145-3.png
END:VEVENT
BEGIN:VEVENT
DTSTART;TZID=America/Chicago:20211010T130000
DTEND;TZID=America/Chicago:20211010T170000
DTSTAMP:20260424T214407
CREATED:20210223T032924Z
LAST-MODIFIED:20210223T032924Z
UID:6858-1633870800-1633885200@alwaysraceday.com
SUMMARY:NASCAR Cup Series Playoffs Round of 12 Race 3 @ The Roval
DESCRIPTION:Charlotte Motor Speedway Roval | NBC
URL:https://alwaysraceday.com/schedule/nascar-cup-series-playoffs-round-of-12-race-3-the-roval/
CATEGORIES:Asphalt
ATTACH;FMTTYPE=image/png:https://alwaysraceday.com/wp-content/uploads/2020/06/NASCAR_Cup_Series_logo.png
END:VEVENT
BEGIN:VEVENT
DTSTART;TZID=America/Chicago:20211009T210000
DTEND;TZID=America/Chicago:20211009T230000
DTSTAMP:20260424T214407
CREATED:20210208T222035Z
LAST-MODIFIED:20210208T222035Z
UID:6168-1633813200-1633820400@alwaysraceday.com
SUMMARY:ARCA West @ All American
DESCRIPTION:All American Speedway | NBC TrackPass
URL:https://alwaysraceday.com/schedule/arca-west-all-american/
CATEGORIES:Asphalt
ATTACH;FMTTYPE=image/png:https://alwaysraceday.com/wp-content/uploads/2021/02/AMS_West_2020_Ver_1.png
END:VEVENT
BEGIN:VEVENT
DTSTART;TZID=America/Chicago:20211009T140000
DTEND;TZID=America/Chicago:20211009T170000
DTSTAMP:20260424T214407
CREATED:20210223T032815Z
LAST-MODIFIED:20210223T032815Z
UID:6856-1633788000-1633798800@alwaysraceday.com
SUMMARY:NASCAR Xfinity Series Playoffs Round of 12 @ The Roval
DESCRIPTION:Charlotte Motor Speedway Roval | NBC
URL:https://alwaysraceday.com/schedule/nascar-xfinity-series-playoffs-round-of-12-the-roval/
CATEGORIES:Asphalt
ATTACH;FMTTYPE=image/png:https://alwaysraceday.com/wp-content/uploads/2020/06/NASCAR_Xfinity_Series_logo_2018.png
END:VEVENT
BEGIN:VEVENT
DTSTART;TZID=America/Chicago:20211009T110000
DTEND;TZID=America/Chicago:20211009T220000
DTSTAMP:20260424T214407
CREATED:20210223T050741Z
LAST-MODIFIED:20210223T050741Z
UID:6913-1633777200-1633816800@alwaysraceday.com
SUMMARY:IMSA 10 Hours Motul Petit Le Mans Season Finale
DESCRIPTION:Road Atlanta | NBC/NBCSN (Picks up at 2pm CT)
URL:https://alwaysraceday.com/schedule/imsa-10-hours-motul-petit-le-mans-season-finale/
CATEGORIES:Asphalt
ATTACH;FMTTYPE=image/png:https://alwaysraceday.com/wp-content/uploads/2020/06/weathertech_championship.png
END:VEVENT
BEGIN:VEVENT
DTSTART;TZID=America/Chicago:20211003T130000
DTEND;TZID=America/Chicago:20211003T170000
DTSTAMP:20260424T214407
CREATED:20210223T032647Z
LAST-MODIFIED:20210223T032647Z
UID:6854-1633266000-1633280400@alwaysraceday.com
SUMMARY:NASCAR Cup Series Playoffs Round of 12 Race 2 @ Talladega
DESCRIPTION:Talladega Superspeedway | NBC
URL:https://alwaysraceday.com/schedule/nascar-cup-series-playoffs-round-of-12-race-2-talladega/
CATEGORIES:Asphalt
ATTACH;FMTTYPE=image/png:https://alwaysraceday.com/wp-content/uploads/2020/06/NASCAR_Cup_Series_logo.png
END:VEVENT
BEGIN:VEVENT
DTSTART;TZID=America/Chicago:20211002T190000
DTEND;TZID=America/Chicago:20211002T210000
DTSTAMP:20260424T214407
CREATED:20210208T212139Z
LAST-MODIFIED:20210208T212139Z
UID:6152-1633201200-1633208400@alwaysraceday.com
SUMMARY:ARCA Menards Series Showdown Finale @ Salem
DESCRIPTION:Salem Speedway | MAVTV/NBC TrackPass
URL:https://alwaysraceday.com/schedule/arca-menards-series-showdown-finale-salem/
CATEGORIES:Asphalt
ATTACH;FMTTYPE=image/png:https://alwaysraceday.com/wp-content/uploads/2020/06/showdownarca.png
END:VEVENT
BEGIN:VEVENT
DTSTART;TZID=America/Chicago:20211002T153000
DTEND;TZID=America/Chicago:20211002T180000
DTSTAMP:20260424T214407
CREATED:20210223T032552Z
LAST-MODIFIED:20210223T032552Z
UID:6852-1633188600-1633197600@alwaysraceday.com
SUMMARY:NASCAR Xfinity Series Playoffs Round of 12 @ Talladega
DESCRIPTION:Talladega Superspeedway | NBCSN
URL:https://alwaysraceday.com/schedule/nascar-xfinity-series-playoffs-round-of-12-talladega/
CATEGORIES:Asphalt
ATTACH;FMTTYPE=image/png:https://alwaysraceday.com/wp-content/uploads/2020/06/NASCAR_Xfinity_Series_logo_2018.png
END:VEVENT
BEGIN:VEVENT
DTSTART;TZID=America/Chicago:20211002T120000
DTEND;TZID=America/Chicago:20211002T140000
DTSTAMP:20260424T214407
CREATED:20210202T150057Z
LAST-MODIFIED:20210202T150057Z
UID:6043-1633176000-1633183200@alwaysraceday.com
SUMMARY:NASCAR Trucks Playoffs Round of 8 @ Talladega
DESCRIPTION:Talladega Superspeedway | Fox Sports 1
URL:https://alwaysraceday.com/schedule/nascar-trucks-playoffs-round-of-8-talladega/
CATEGORIES:Asphalt
ATTACH;FMTTYPE=image/jpeg:https://alwaysraceday.com/wp-content/uploads/2021/01/2020-sep15-camping-world-main-image.jpg
END:VEVENT
BEGIN:VEVENT
DTSTART;TZID=America/Chicago:20210926T180000
DTEND;TZID=America/Chicago:20210926T210000
DTSTAMP:20260424T214407
CREATED:20210223T032405Z
LAST-MODIFIED:20210223T032405Z
UID:6850-1632679200-1632690000@alwaysraceday.com
SUMMARY:NASCAR Cup Series Playoffs Round of 12 Race 1 @ Las Vegas
DESCRIPTION:Las Vegas Motor Speedway | NBCSN
URL:https://alwaysraceday.com/schedule/nascar-cup-series-playoffs-round-of-12-race-1-las-vegas/
CATEGORIES:Asphalt
ATTACH;FMTTYPE=image/png:https://alwaysraceday.com/wp-content/uploads/2020/06/NASCAR_Cup_Series_logo.png
END:VEVENT
BEGIN:VEVENT
DTSTART;TZID=America/Chicago:20210926T140000
DTEND;TZID=America/Chicago:20210926T170000
DTSTAMP:20260424T214407
CREATED:20210318T191825Z
LAST-MODIFIED:20210318T191825Z
UID:7380-1632664800-1632675600@alwaysraceday.com
SUMMARY:IndyCar Season Finale @ Long Beach
DESCRIPTION:Streets of Long Beach | NBCSN
URL:https://alwaysraceday.com/schedule/indycar-season-finale-long-beach/
CATEGORIES:Asphalt
ATTACH;FMTTYPE=image/png:https://alwaysraceday.com/wp-content/uploads/2020/06/indycar.png
END:VEVENT
BEGIN:VEVENT
DTSTART;TZID=America/Chicago:20210925T183000
DTEND;TZID=America/Chicago:20210925T213000
DTSTAMP:20260424T214407
CREATED:20210223T032303Z
LAST-MODIFIED:20210223T032303Z
UID:6848-1632594600-1632605400@alwaysraceday.com
SUMMARY:NASCAR Xfinity Series Playoffs Round of 12 @ Las Vegas
DESCRIPTION:Las Vegas Motor Speedway | NBCSN
URL:https://alwaysraceday.com/schedule/nascar-xfinity-series-playoffs-round-of-12-las-vegas/
CATEGORIES:Asphalt
ATTACH;FMTTYPE=image/png:https://alwaysraceday.com/wp-content/uploads/2020/06/NASCAR_Xfinity_Series_logo_2018.png
END:VEVENT
BEGIN:VEVENT
DTSTART;TZID=America/Chicago:20210925T160000
DTEND;TZID=America/Chicago:20210925T190000
DTSTAMP:20260424T214407
CREATED:20210223T050457Z
LAST-MODIFIED:20210223T050457Z
UID:6911-1632585600-1632596400@alwaysraceday.com
SUMMARY:IMSA Acura Grand Prix of Long Beach
DESCRIPTION:Streets of Long Beach | NBCSN
URL:https://alwaysraceday.com/schedule/imsa-acura-grand-prix-of-long-beach/
CATEGORIES:Asphalt
ATTACH;FMTTYPE=image/png:https://alwaysraceday.com/wp-content/uploads/2020/06/weathertech_championship.png
END:VEVENT
BEGIN:VEVENT
DTSTART;TZID=America/Chicago:20210924T200000
DTEND;TZID=America/Chicago:20210924T220000
DTSTAMP:20260424T214407
CREATED:20210202T145919Z
LAST-MODIFIED:20210202T145919Z
UID:6041-1632513600-1632520800@alwaysraceday.com
SUMMARY:NASCAR Trucks Playoffs Round of 8 @ Las Vegas
DESCRIPTION:Las Vegas Motor Speedway | Fox Sports 1
URL:https://alwaysraceday.com/schedule/nascar-trucks-playoffs-round-of-8-las-vegas/
CATEGORIES:Asphalt
ATTACH;FMTTYPE=image/jpeg:https://alwaysraceday.com/wp-content/uploads/2021/01/2020-sep15-camping-world-main-image.jpg
END:VEVENT
BEGIN:VEVENT
DTSTART;TZID=America/Chicago:20210923T210000
DTEND;TZID=America/Chicago:20210923T230000
DTSTAMP:20260424T214407
CREATED:20210208T221712Z
LAST-MODIFIED:20210208T221712Z
UID:6166-1632430800-1632438000@alwaysraceday.com
SUMMARY:ARCA West @ The Bullring
DESCRIPTION:The Bullring at Las Vegas | NBC TrackPass
URL:https://alwaysraceday.com/schedule/arca-west-the-bullring/
CATEGORIES:Asphalt
ATTACH;FMTTYPE=image/png:https://alwaysraceday.com/wp-content/uploads/2021/02/AMS_West_2020_Ver_1.png
END:VEVENT
BEGIN:VEVENT
DTSTART;TZID=America/Chicago:20210919T140000
DTEND;TZID=America/Chicago:20210919T170000
DTSTAMP:20260424T214407
CREATED:20210318T191658Z
LAST-MODIFIED:20210318T191658Z
UID:7378-1632060000-1632070800@alwaysraceday.com
SUMMARY:IndyCar @ Laguna Seca
DESCRIPTION:Laguna Seca | NBC
URL:https://alwaysraceday.com/schedule/indycar-laguna-seca-3/
CATEGORIES:Asphalt
ATTACH;FMTTYPE=image/png:https://alwaysraceday.com/wp-content/uploads/2020/06/indycar.png
END:VEVENT
BEGIN:VEVENT
DTSTART;TZID=America/Chicago:20210918T183000
DTEND;TZID=America/Chicago:20210918T213000
DTSTAMP:20260424T214407
CREATED:20210223T031936Z
LAST-MODIFIED:20210223T031936Z
UID:6846-1631989800-1632000600@alwaysraceday.com
SUMMARY:NASCAR Cup Series Playoffs Round of 16 Race 3 @ Bristol
DESCRIPTION:Bristol Motor Speedway | NBCSN
URL:https://alwaysraceday.com/schedule/nascar-cup-series-playoffs-round-of-16-race-3-bristol/
CATEGORIES:Asphalt
ATTACH;FMTTYPE=image/png:https://alwaysraceday.com/wp-content/uploads/2020/06/NASCAR_Cup_Series_logo.png
END:VEVENT
BEGIN:VEVENT
DTSTART;TZID=America/Chicago:20210917T183000
DTEND;TZID=America/Chicago:20210917T213000
DTSTAMP:20260424T214407
CREATED:20210223T031834Z
LAST-MODIFIED:20210223T031834Z
UID:6844-1631903400-1631914200@alwaysraceday.com
SUMMARY:NASCAR Xfinity Series Regular Season Finale @ Bristol
DESCRIPTION:Bristol Motor Speedway | NBCSN
URL:https://alwaysraceday.com/schedule/nascar-xfinity-series-regular-season-finale-bristol/
CATEGORIES:Asphalt
ATTACH;FMTTYPE=image/png:https://alwaysraceday.com/wp-content/uploads/2020/06/NASCAR_Xfinity_Series_logo_2018.png
END:VEVENT
BEGIN:VEVENT
DTSTART;TZID=America/Chicago:20210916T200000
DTEND;TZID=America/Chicago:20210916T220000
DTSTAMP:20260424T214407
CREATED:20210202T145523Z
LAST-MODIFIED:20210202T145523Z
UID:6039-1631822400-1631829600@alwaysraceday.com
SUMMARY:NASCAR Trucks Playoffs Round of 10 @ Bristol
DESCRIPTION:Bristol Motor Speedway | Fox Sports 1
URL:https://alwaysraceday.com/schedule/nascar-trucks-playoffs-round-of-10-bristol/
CATEGORIES:Asphalt
ATTACH;FMTTYPE=image/jpeg:https://alwaysraceday.com/wp-content/uploads/2021/01/2020-sep15-camping-world-main-image.jpg
END:VEVENT
END:VCALENDAR