BEGIN:VCALENDAR
VERSION:2.0
PRODID:-//Always Race Day - ECPv6.15.20//NONSGML v1.0//EN
CALSCALE:GREGORIAN
METHOD:PUBLISH
X-ORIGINAL-URL:https://alwaysraceday.com
X-WR-CALDESC:Events for Always Race Day
REFRESH-INTERVAL;VALUE=DURATION:PT1H
X-Robots-Tag:noindex
X-PUBLISHED-TTL:PT1H
BEGIN:VTIMEZONE
TZID:America/Chicago
BEGIN:DAYLIGHT
TZOFFSETFROM:-0600
TZOFFSETTO:-0500
TZNAME:CDT
DTSTART:20220313T080000
END:DAYLIGHT
BEGIN:STANDARD
TZOFFSETFROM:-0500
TZOFFSETTO:-0600
TZNAME:CST
DTSTART:20221106T070000
END:STANDARD
BEGIN:DAYLIGHT
TZOFFSETFROM:-0600
TZOFFSETTO:-0500
TZNAME:CDT
DTSTART:20230312T080000
END:DAYLIGHT
BEGIN:STANDARD
TZOFFSETFROM:-0500
TZOFFSETTO:-0600
TZNAME:CST
DTSTART:20231105T070000
END:STANDARD
BEGIN:DAYLIGHT
TZOFFSETFROM:-0600
TZOFFSETTO:-0500
TZNAME:CDT
DTSTART:20240310T080000
END:DAYLIGHT
BEGIN:STANDARD
TZOFFSETFROM:-0500
TZOFFSETTO:-0600
TZNAME:CST
DTSTART:20241103T070000
END:STANDARD
END:VTIMEZONE
BEGIN:VEVENT
DTSTART;TZID=America/Chicago:20231105T140000
DTEND;TZID=America/Chicago:20231105T140000
DTSTAMP:20260422T234255
CREATED:20221214T221626Z
LAST-MODIFIED:20221214T221626Z
UID:14935-1699192800-1699192800@alwaysraceday.com
SUMMARY:NASCAR Cup Series Championship Race @ Phoenix
DESCRIPTION:Phoenix Raceway | NBC
URL:https://alwaysraceday.com/schedule/nascar-cup-series-championship-race-phoenix-2/
CATEGORIES:Asphalt
ATTACH;FMTTYPE=image/png:https://alwaysraceday.com/wp-content/uploads/2022/12/CHAMP_2020_Primary_RGB.png
END:VEVENT
BEGIN:VEVENT
DTSTART;TZID=America/Chicago:20231104T180000
DTEND;TZID=America/Chicago:20231104T180000
DTSTAMP:20260422T234255
CREATED:20230308T001505Z
LAST-MODIFIED:20230308T001505Z
UID:15882-1699120800-1699120800@alwaysraceday.com
SUMMARY:NASCAR Xfinity Series Championship Race @ Phoenix
DESCRIPTION:Phoenix Raceway | USA Network
URL:https://alwaysraceday.com/schedule/nascar-xfinity-series-championship-race-phoenix-2/
CATEGORIES:Asphalt
ATTACH;FMTTYPE=image/jpeg:https://alwaysraceday.com/wp-content/uploads/2023/02/NASCAR-Xfinity-Series-purple-logo-2022-NXS.jpg
END:VEVENT
BEGIN:VEVENT
DTSTART;TZID=America/Chicago:20231103T210000
DTEND;TZID=America/Chicago:20231103T210000
DTSTAMP:20260422T234255
CREATED:20230308T001223Z
LAST-MODIFIED:20230308T001223Z
UID:15880-1699045200-1699045200@alwaysraceday.com
SUMMARY:NASCAR Truck Series Championship Race @ Phoenix
DESCRIPTION:Phoenix Raceway | Fox Sports 1
URL:https://alwaysraceday.com/schedule/nascar-truck-series-championship-race-phoenix/
CATEGORIES:Asphalt
ATTACH;FMTTYPE=image/webp:https://alwaysraceday.com/wp-content/uploads/2023/02/nascar-craftsman-truck-series-logo-1.webp
END:VEVENT
BEGIN:VEVENT
DTSTART;TZID=America/Chicago:20231103T123000
DTEND;TZID=America/Chicago:20231103T123000
DTSTAMP:20260422T234255
CREATED:20230412T220802Z
LAST-MODIFIED:20230412T220802Z
UID:16191-1699014600-1699014600@alwaysraceday.com
SUMMARY:ARCA West season finale @ Phoenix
DESCRIPTION:Phoenix Raceway | FloRacing
URL:https://alwaysraceday.com/schedule/arca-west-season-finale-phoenix-2/
CATEGORIES:Asphalt
ATTACH;FMTTYPE=image/png:https://alwaysraceday.com/wp-content/uploads/2023/04/AMS_West_2020_Ver_1.png
END:VEVENT
BEGIN:VEVENT
DTSTART;TZID=America/Chicago:20231029T130000
DTEND;TZID=America/Chicago:20231029T130000
DTSTAMP:20260422T234255
CREATED:20221214T221249Z
LAST-MODIFIED:20221214T221249Z
UID:14933-1698584400-1698584400@alwaysraceday.com
SUMMARY:NASCAR Cup Series Xfinity 500 @ Martinsville (Round of 8\, Race 3)
DESCRIPTION:Martinsville Speedway | NBC
URL:https://alwaysraceday.com/schedule/nascar-cup-series-xfinity-500-martinsville-round-of-8-race-3/
CATEGORIES:Asphalt
ATTACH;FMTTYPE=image/png:https://alwaysraceday.com/wp-content/uploads/2022/12/NASCAR_Cup_Series_logo.svg.png
END:VEVENT
BEGIN:VEVENT
DTSTART;TZID=America/Chicago:20231028T143000
DTEND;TZID=America/Chicago:20231028T143000
DTSTAMP:20260422T234255
CREATED:20230308T000933Z
LAST-MODIFIED:20230308T000933Z
UID:15878-1698503400-1698503400@alwaysraceday.com
SUMMARY:NASCAR Xfinity Series Playoffs @ Martinsville (Round of 8\, Race 3)
DESCRIPTION:Martinsville Speedway | USA Network
URL:https://alwaysraceday.com/schedule/nascar-xfinity-series-playoffs-martinsville-round-of-8-race-3/
CATEGORIES:Asphalt
ATTACH;FMTTYPE=image/jpeg:https://alwaysraceday.com/wp-content/uploads/2023/02/NASCAR-Xfinity-Series-purple-logo-2022-NXS.jpg
END:VEVENT
BEGIN:VEVENT
DTSTART;TZID=America/Chicago:20231022T133000
DTEND;TZID=America/Chicago:20231022T133000
DTSTAMP:20260422T234255
CREATED:20221214T221123Z
LAST-MODIFIED:20221214T221123Z
UID:14931-1697981400-1697981400@alwaysraceday.com
SUMMARY:NASCAR Cup Series Dixie Vodka 400 (Round of 8\, Race 2)
DESCRIPTION:Homestead-Miami | NBC
URL:https://alwaysraceday.com/schedule/nascar-cup-series-dixie-vodka-400-round-of-8-race-2/
CATEGORIES:Asphalt
ATTACH;FMTTYPE=image/png:https://alwaysraceday.com/wp-content/uploads/2022/12/NASCAR_Cup_Series_logo.svg.png
END:VEVENT
BEGIN:VEVENT
DTSTART;TZID=America/Chicago:20231021T220000
DTEND;TZID=America/Chicago:20231021T220000
DTSTAMP:20260422T234255
CREATED:20230412T220633Z
LAST-MODIFIED:20230412T220633Z
UID:16189-1697925600-1697925600@alwaysraceday.com
SUMMARY:ARCA West @ Madera Speedway
DESCRIPTION:Madera Speedway | FloRacing
URL:https://alwaysraceday.com/schedule/arca-west-madera-speedway/
CATEGORIES:Asphalt
ATTACH;FMTTYPE=image/png:https://alwaysraceday.com/wp-content/uploads/2023/04/AMS_West_2020_Ver_1.png
END:VEVENT
BEGIN:VEVENT
DTSTART;TZID=America/Chicago:20231021T140000
DTEND;TZID=America/Chicago:20231021T140000
DTSTAMP:20260422T234255
CREATED:20230308T000644Z
LAST-MODIFIED:20230308T000644Z
UID:15876-1697896800-1697896800@alwaysraceday.com
SUMMARY:NASCAR Xfinity Series Playoffs @ Homestead (Round of 8\, Race 2)
DESCRIPTION:Homestead-Miami Speedway | NBC
URL:https://alwaysraceday.com/schedule/nascar-xfinity-series-playoffs-homestead-round-of-8-race-2/
CATEGORIES:Asphalt
ATTACH;FMTTYPE=image/jpeg:https://alwaysraceday.com/wp-content/uploads/2023/02/NASCAR-Xfinity-Series-purple-logo-2022-NXS.jpg
END:VEVENT
BEGIN:VEVENT
DTSTART;TZID=America/Chicago:20231021T110000
DTEND;TZID=America/Chicago:20231021T110000
DTSTAMP:20260422T234255
CREATED:20230308T000527Z
LAST-MODIFIED:20230308T000527Z
UID:15874-1697886000-1697886000@alwaysraceday.com
SUMMARY:NASCAR Truck Series Playoffs @ Homestead (Round of 8\, Race 3)
DESCRIPTION:Homestead-Miami Speedway | Fox Sports 1
URL:https://alwaysraceday.com/schedule/nascar-truck-series-playoffs-homestead-round-of-8-race-3/
CATEGORIES:Asphalt
ATTACH;FMTTYPE=image/webp:https://alwaysraceday.com/wp-content/uploads/2023/02/nascar-craftsman-truck-series-logo-1.webp
END:VEVENT
BEGIN:VEVENT
DTSTART;TZID=America/Chicago:20231015T133000
DTEND;TZID=America/Chicago:20231015T133000
DTSTAMP:20260422T234255
CREATED:20221214T220840Z
LAST-MODIFIED:20221214T220840Z
UID:14929-1697376600-1697376600@alwaysraceday.com
SUMMARY:NASCAR Cup Series South Point 400 (Round of 8\, Race 1)
DESCRIPTION:Las Vegas Motor Speedway | NBC
URL:https://alwaysraceday.com/schedule/nascar-cup-series-south-point-400-round-of-8-race-1/
CATEGORIES:Asphalt
ATTACH;FMTTYPE=image/png:https://alwaysraceday.com/wp-content/uploads/2022/12/NASCAR_Cup_Series_logo.svg.png
END:VEVENT
BEGIN:VEVENT
DTSTART;TZID=America/Chicago:20231014T143000
DTEND;TZID=America/Chicago:20231014T143000
DTSTAMP:20260422T234255
CREATED:20230308T000338Z
LAST-MODIFIED:20230308T000338Z
UID:15872-1697293800-1697293800@alwaysraceday.com
SUMMARY:NASCAR Xfinity Series Playoffs @ Las Vegas (Round of 8\, Race 1)
DESCRIPTION:Las Vegas Motor Speedway | USA Network
URL:https://alwaysraceday.com/schedule/nascar-xfinity-series-playoffs-las-vegas-round-of-8-race-1/
CATEGORIES:Asphalt
ATTACH;FMTTYPE=image/jpeg:https://alwaysraceday.com/wp-content/uploads/2023/02/NASCAR-Xfinity-Series-purple-logo-2022-NXS.jpg
END:VEVENT
BEGIN:VEVENT
DTSTART;TZID=America/Chicago:20231013T211000
DTEND;TZID=America/Chicago:20231013T211000
DTSTAMP:20260422T234255
CREATED:20230412T215703Z
LAST-MODIFIED:20230412T215703Z
UID:16187-1697231400-1697231400@alwaysraceday.com
SUMMARY:ARCA West @ The Bullring at Las Vegas
DESCRIPTION:The Bullring at Las Vegas Motor Speedway | FloRacing
URL:https://alwaysraceday.com/schedule/arca-west-the-bullring-at-las-vegas/
CATEGORIES:Asphalt
ATTACH;FMTTYPE=image/png:https://alwaysraceday.com/wp-content/uploads/2023/04/AMS_West_2020_Ver_1.png
END:VEVENT
BEGIN:VEVENT
DTSTART;TZID=America/Chicago:20231008T130000
DTEND;TZID=America/Chicago:20231008T130000
DTSTAMP:20260422T234255
CREATED:20221214T220630Z
LAST-MODIFIED:20221214T220630Z
UID:14927-1696770000-1696770000@alwaysraceday.com
SUMMARY:NASCAR Cup Series Bank of America Roval 400 (Round of 12\, Race 3)
DESCRIPTION:Charlotte Motor Speedway Roval | NBC
URL:https://alwaysraceday.com/schedule/nascar-cup-series-bank-of-america-roval-400-round-of-12-race-3/
CATEGORIES:Asphalt
ATTACH;FMTTYPE=image/png:https://alwaysraceday.com/wp-content/uploads/2022/12/NASCAR_Cup_Series_logo.svg.png
END:VEVENT
BEGIN:VEVENT
DTSTART;TZID=America/Chicago:20231007T150000
DTEND;TZID=America/Chicago:20231007T150000
DTSTAMP:20260422T234255
CREATED:20230412T215516Z
LAST-MODIFIED:20230412T215516Z
UID:16185-1696690800-1696690800@alwaysraceday.com
SUMMARY:ARCA Menards Series season finale @ Toledo
DESCRIPTION:Toledo Speedway | Fox Sports 2
URL:https://alwaysraceday.com/schedule/arca-menards-series-season-finale-toledo/
CATEGORIES:Asphalt
ATTACH;FMTTYPE=image/png:https://alwaysraceday.com/wp-content/uploads/2023/04/ARCA_Menards_Series_Logo.svg.png
END:VEVENT
BEGIN:VEVENT
DTSTART;TZID=America/Chicago:20231007T143000
DTEND;TZID=America/Chicago:20231007T143000
DTSTAMP:20260422T234255
CREATED:20230308T000147Z
LAST-MODIFIED:20230308T000147Z
UID:15870-1696689000-1696689000@alwaysraceday.com
SUMMARY:NASCAR Xfinity Series Playoffs @ Charlotte Roval (Round of 12\, Race 3)
DESCRIPTION:Charlotte Motor Speedway (Roval) | USA Network
URL:https://alwaysraceday.com/schedule/nascar-xfinity-series-playoffs-charlotte-roval-round-of-12-race-3/
CATEGORIES:Asphalt
ATTACH;FMTTYPE=image/jpeg:https://alwaysraceday.com/wp-content/uploads/2023/02/NASCAR-Xfinity-Series-purple-logo-2022-NXS.jpg
END:VEVENT
BEGIN:VEVENT
DTSTART;TZID=America/Chicago:20231001T130000
DTEND;TZID=America/Chicago:20231001T130000
DTSTAMP:20260422T234255
CREATED:20221214T220500Z
LAST-MODIFIED:20221214T220500Z
UID:14925-1696165200-1696165200@alwaysraceday.com
SUMMARY:NASCAR Cup Series YellaWood 500 (Round of 12\, Race 2)
DESCRIPTION:Talladega Superspeedway | NBC
URL:https://alwaysraceday.com/schedule/nascar-cup-series-yellawood-500-round-of-12-race-2/
CATEGORIES:Asphalt
ATTACH;FMTTYPE=image/png:https://alwaysraceday.com/wp-content/uploads/2022/12/NASCAR_Cup_Series_logo.svg.png
END:VEVENT
BEGIN:VEVENT
DTSTART;TZID=America/Chicago:20230930T214500
DTEND;TZID=America/Chicago:20230930T214500
DTSTAMP:20260422T234255
CREATED:20230412T215334Z
LAST-MODIFIED:20230412T215334Z
UID:16183-1696110300-1696110300@alwaysraceday.com
SUMMARY:ARCA West @ All American
DESCRIPTION:All American Speedway | FloRacing
URL:https://alwaysraceday.com/schedule/arca-west-all-american-2/
CATEGORIES:Asphalt
ATTACH;FMTTYPE=image/png:https://alwaysraceday.com/wp-content/uploads/2023/04/AMS_West_2020_Ver_1.png
END:VEVENT
BEGIN:VEVENT
DTSTART;TZID=America/Chicago:20230930T150000
DTEND;TZID=America/Chicago:20230930T150000
DTSTAMP:20260422T234255
CREATED:20230412T215156Z
LAST-MODIFIED:20230412T215156Z
UID:16181-1696086000-1696086000@alwaysraceday.com
SUMMARY:ARCA Menards Series @ Salem
DESCRIPTION:Salem Speedway | Fox Sports 2
URL:https://alwaysraceday.com/schedule/arca-menards-series-salem/
CATEGORIES:Asphalt
ATTACH;FMTTYPE=image/png:https://alwaysraceday.com/wp-content/uploads/2023/04/ARCA_Menards_Series_Logo.svg.png
END:VEVENT
BEGIN:VEVENT
DTSTART;TZID=America/Chicago:20230930T120000
DTEND;TZID=America/Chicago:20230930T120000
DTSTAMP:20260422T234255
CREATED:20230307T235958Z
LAST-MODIFIED:20230307T235958Z
UID:15868-1696075200-1696075200@alwaysraceday.com
SUMMARY:NASCAR Truck Series Playoffs @ Talladega (Round of 8\, Race 2)
DESCRIPTION:Talladega Superspeedway | Fox Sports 1
URL:https://alwaysraceday.com/schedule/nascar-truck-series-playoffs-talladega-round-of-8-race-2/
CATEGORIES:Asphalt
ATTACH;FMTTYPE=image/webp:https://alwaysraceday.com/wp-content/uploads/2023/02/nascar-craftsman-truck-series-logo-1.webp
END:VEVENT
BEGIN:VEVENT
DTSTART;TZID=America/Chicago:20230924T143000
DTEND;TZID=America/Chicago:20230924T143000
DTSTAMP:20260422T234255
CREATED:20221214T220218Z
LAST-MODIFIED:20221214T220218Z
UID:14923-1695565800-1695565800@alwaysraceday.com
SUMMARY:NASCAR Cup Series AutoTrader EchoPark Auto. 500 (Round of 12\, Race 1)
DESCRIPTION:Texas Motor Speedway | USA Network
URL:https://alwaysraceday.com/schedule/nascar-cup-series-autotrader-echopark-auto-500-round-of-12-race-1/
CATEGORIES:Asphalt
ATTACH;FMTTYPE=image/png:https://alwaysraceday.com/wp-content/uploads/2022/12/NASCAR_Cup_Series_logo.svg.png
END:VEVENT
BEGIN:VEVENT
DTSTART;TZID=America/Chicago:20230923T143000
DTEND;TZID=America/Chicago:20230923T143000
DTSTAMP:20260422T234255
CREATED:20230307T235609Z
LAST-MODIFIED:20230307T235609Z
UID:15866-1695479400-1695479400@alwaysraceday.com
SUMMARY:NASCAR Xfinity Series Playoffs @ Texas (Round of 12\, Race 2)
DESCRIPTION:Texas Motor Speedway | USA Network
URL:https://alwaysraceday.com/schedule/nascar-xfinity-series-playoffs-texas-round-of-12-race-2/
CATEGORIES:Asphalt
ATTACH;FMTTYPE=image/jpeg:https://alwaysraceday.com/wp-content/uploads/2023/02/NASCAR-Xfinity-Series-purple-logo-2022-NXS.jpg
END:VEVENT
BEGIN:VEVENT
DTSTART;TZID=America/Chicago:20230916T183000
DTEND;TZID=America/Chicago:20230916T183000
DTSTAMP:20260422T234255
CREATED:20221214T215916Z
LAST-MODIFIED:20221214T215916Z
UID:14920-1694889000-1694889000@alwaysraceday.com
SUMMARY:NASCAR Cup Series Bass Pro Shops Night Race (Round of 16\, Race 3)
DESCRIPTION:Bristol Motor Speedway | USA Network
URL:https://alwaysraceday.com/schedule/nascar-cup-series-bass-pro-shops-night-race-round-of-16-race-3/
CATEGORIES:Asphalt
ATTACH;FMTTYPE=image/webp:https://alwaysraceday.com/wp-content/uploads/2022/12/bms-bass-pro-shops-night-race_600x400.webp
END:VEVENT
BEGIN:VEVENT
DTSTART;TZID=America/Chicago:20230915T183000
DTEND;TZID=America/Chicago:20230915T183000
DTSTAMP:20260422T234255
CREATED:20230307T235159Z
LAST-MODIFIED:20230307T235159Z
UID:15862-1694802600-1694802600@alwaysraceday.com
SUMMARY:NASCAR Xfinity Series Playoffs @ Bristol (Round of 12\, Race 1)
DESCRIPTION:Bristol Motor Speedway | USA Network
URL:https://alwaysraceday.com/schedule/nascar-xfinity-series-playoffs-bristol-round-of-12-race-1/
CATEGORIES:Asphalt
ATTACH;FMTTYPE=image/jpeg:https://alwaysraceday.com/wp-content/uploads/2023/02/NASCAR-Xfinity-Series-purple-logo-2022-NXS.jpg
END:VEVENT
BEGIN:VEVENT
DTSTART;TZID=America/Chicago:20230914T200000
DTEND;TZID=America/Chicago:20230914T200000
DTSTAMP:20260422T234255
CREATED:20230307T235417Z
LAST-MODIFIED:20230307T235417Z
UID:15864-1694721600-1694721600@alwaysraceday.com
SUMMARY:NASCAR Truck Series Playoffs @ Bristol (Round of 8\, Race 1)
DESCRIPTION:Bristol Motor Speedway | Fox Sports 1
URL:https://alwaysraceday.com/schedule/nascar-truck-series-playoffs-bristol-round-of-8-race-1/
CATEGORIES:Asphalt
ATTACH;FMTTYPE=image/webp:https://alwaysraceday.com/wp-content/uploads/2023/02/nascar-craftsman-truck-series-logo-1.webp
END:VEVENT
BEGIN:VEVENT
DTSTART;TZID=America/Chicago:20230914T170000
DTEND;TZID=America/Chicago:20230914T170000
DTSTAMP:20260422T234255
CREATED:20230412T214400Z
LAST-MODIFIED:20230412T214400Z
UID:16179-1694710800-1694710800@alwaysraceday.com
SUMMARY:ARCA Menards / ARCA East @ Bristol
DESCRIPTION:Bristol Motor Speedway | Fox Sports 1
URL:https://alwaysraceday.com/schedule/arca-menards-arca-east-bristol/
CATEGORIES:Asphalt
ATTACH;FMTTYPE=image/png:https://alwaysraceday.com/wp-content/uploads/2023/04/ARCA_Menards_Series_Logo.svg.png
END:VEVENT
BEGIN:VEVENT
DTSTART;TZID=America/Chicago:20230910T140000
DTEND;TZID=America/Chicago:20230910T140000
DTSTAMP:20260422T234255
CREATED:20221214T215318Z
LAST-MODIFIED:20221214T215318Z
UID:14918-1694354400-1694354400@alwaysraceday.com
SUMMARY:NASCAR Cup Series Hollywood Casino 400 pres. by Barstool (Round of 16\, Race 2)
DESCRIPTION:Kansas Speedway | USA Network
URL:https://alwaysraceday.com/schedule/nascar-cup-series-hollywood-casino-400-pres-by-barstool-round-of-16-race-2/
CATEGORIES:Asphalt
END:VEVENT
BEGIN:VEVENT
DTSTART;TZID=America/Chicago:20230910T140000
DTEND;TZID=America/Chicago:20230910T140000
DTSTAMP:20260422T234255
CREATED:20221021T182600Z
LAST-MODIFIED:20221021T182600Z
UID:14055-1694354400-1694354400@alwaysraceday.com
SUMMARY:IndyCar championship race @ Laguna Seca
DESCRIPTION:WeatherTech Raceway at Laguna Seca | NBC
URL:https://alwaysraceday.com/schedule/indycar-championship-race-laguna-seca/
CATEGORIES:Asphalt
ATTACH;FMTTYPE=image/png:https://alwaysraceday.com/wp-content/uploads/2022/10/IndyCar_Series_logo.svg.png
END:VEVENT
BEGIN:VEVENT
DTSTART;TZID=America/Chicago:20230909T140000
DTEND;TZID=America/Chicago:20230909T140000
DTSTAMP:20260422T234255
CREATED:20230307T235011Z
LAST-MODIFIED:20230307T235011Z
UID:15860-1694268000-1694268000@alwaysraceday.com
SUMMARY:NASCAR Xfinity Series regular season finale @ Kansas
DESCRIPTION:Kansas Speedway | NBC
URL:https://alwaysraceday.com/schedule/nascar-xfinity-series-regular-season-finale-kansas/
CATEGORIES:Asphalt
ATTACH;FMTTYPE=image/jpeg:https://alwaysraceday.com/wp-content/uploads/2023/02/NASCAR-Xfinity-Series-purple-logo-2022-NXS.jpg
END:VEVENT
BEGIN:VEVENT
DTSTART;TZID=America/Chicago:20230908T200000
DTEND;TZID=America/Chicago:20230908T200000
DTSTAMP:20260422T234255
CREATED:20230307T233923Z
LAST-MODIFIED:20230307T233923Z
UID:15856-1694203200-1694203200@alwaysraceday.com
SUMMARY:NASCAR Truck Series Playoffs @ Kansas (Round of 10\, Race 3)
DESCRIPTION:Kansas Speedway | Fox Sports 1
URL:https://alwaysraceday.com/schedule/nascar-truck-series-playoffs-kansas-round-of-10-race-3/
CATEGORIES:Asphalt
ATTACH;FMTTYPE=image/webp:https://alwaysraceday.com/wp-content/uploads/2023/02/nascar-craftsman-truck-series-logo-1.webp
END:VEVENT
END:VCALENDAR