BEGIN:VCALENDAR
VERSION:2.0
PRODID:-//Always Race Day - ECPv6.15.20//NONSGML v1.0//EN
CALSCALE:GREGORIAN
METHOD:PUBLISH
X-WR-CALNAME:Always Race Day
X-ORIGINAL-URL:https://alwaysraceday.com
X-WR-CALDESC:Events for Always Race Day
REFRESH-INTERVAL;VALUE=DURATION:PT1H
X-Robots-Tag:noindex
X-PUBLISHED-TTL:PT1H
BEGIN:VTIMEZONE
TZID:America/Chicago
BEGIN:DAYLIGHT
TZOFFSETFROM:-0600
TZOFFSETTO:-0500
TZNAME:CDT
DTSTART:20200308T080000
END:DAYLIGHT
BEGIN:STANDARD
TZOFFSETFROM:-0500
TZOFFSETTO:-0600
TZNAME:CST
DTSTART:20201101T070000
END:STANDARD
BEGIN:DAYLIGHT
TZOFFSETFROM:-0600
TZOFFSETTO:-0500
TZNAME:CDT
DTSTART:20210314T080000
END:DAYLIGHT
BEGIN:STANDARD
TZOFFSETFROM:-0500
TZOFFSETTO:-0600
TZNAME:CST
DTSTART:20211107T070000
END:STANDARD
BEGIN:DAYLIGHT
TZOFFSETFROM:-0600
TZOFFSETTO:-0500
TZNAME:CDT
DTSTART:20220313T080000
END:DAYLIGHT
BEGIN:STANDARD
TZOFFSETFROM:-0500
TZOFFSETTO:-0600
TZNAME:CST
DTSTART:20221106T070000
END:STANDARD
END:VTIMEZONE
BEGIN:VEVENT
DTSTART;TZID=America/Chicago:20210612T190000
DTEND;TZID=America/Chicago:20210612T210000
DTSTAMP:20260425T111937
CREATED:20210122T061614Z
LAST-MODIFIED:20210122T061614Z
UID:5740-1623524400-1623531600@alwaysraceday.com
SUMMARY:SRX @ Stafford
DESCRIPTION:Stafford Motor Speedway | CBS
URL:https://alwaysraceday.com/schedule/srx-stafford/
CATEGORIES:Asphalt
ATTACH;FMTTYPE=image/png:https://alwaysraceday.com/wp-content/uploads/2021/01/Superstar_Racing_Experience_logo.png
END:VEVENT
BEGIN:VEVENT
DTSTART;TZID=America/Chicago:20210612T150000
DTEND;TZID=America/Chicago:20210612T180000
DTSTAMP:20260425T111937
CREATED:20210223T005656Z
LAST-MODIFIED:20210223T005656Z
UID:6791-1623510000-1623520800@alwaysraceday.com
SUMMARY:NASCAR Xfinity Series @ Texas
DESCRIPTION:Texas Motor Speedway | Fox Sports 1
URL:https://alwaysraceday.com/schedule/nascar-xfinity-series-texas-2/
CATEGORIES:Asphalt
ATTACH;FMTTYPE=image/png:https://alwaysraceday.com/wp-content/uploads/2020/06/NASCAR_Xfinity_Series_logo_2018.png
END:VEVENT
BEGIN:VEVENT
DTSTART;TZID=America/Chicago:20210612T130000
DTEND;TZID=America/Chicago:20210612T170000
DTSTAMP:20260425T111937
CREATED:20210318T153341Z
LAST-MODIFIED:20210318T153341Z
UID:7354-1623502800-1623517200@alwaysraceday.com
SUMMARY:IndyCar Chevrolet Detroit Grand Prix Race 1
DESCRIPTION:Raceway at Belle Isle Park | NBC
URL:https://alwaysraceday.com/schedule/indycar-chevrolet-detroit-grand-prix-race-1/
CATEGORIES:Asphalt
ATTACH;FMTTYPE=image/png:https://alwaysraceday.com/wp-content/uploads/2020/06/indycar.png
END:VEVENT
BEGIN:VEVENT
DTSTART;TZID=America/Chicago:20210612T120000
DTEND;TZID=America/Chicago:20210612T150000
DTSTAMP:20260425T111937
CREATED:20210202T143743Z
LAST-MODIFIED:20210202T143743Z
UID:6025-1623499200-1623510000@alwaysraceday.com
SUMMARY:NASCAR Trucks @ Texas
DESCRIPTION:Texas Motor Speedway | Fox Sports 1
URL:https://alwaysraceday.com/schedule/nascar-trucks-texas/
CATEGORIES:Asphalt
ATTACH;FMTTYPE=image/jpeg:https://alwaysraceday.com/wp-content/uploads/2021/01/2020-sep15-camping-world-main-image.jpg
END:VEVENT
BEGIN:VEVENT
DTSTART;TZID=America/Chicago:20210606T150000
DTEND;TZID=America/Chicago:20210606T180000
DTSTAMP:20260425T111937
CREATED:20210223T005508Z
LAST-MODIFIED:20210223T005508Z
UID:6789-1622991600-1623002400@alwaysraceday.com
SUMMARY:NASCAR Cup Series @ Sonoma
DESCRIPTION:Sonoma Raceway | Fox Sports 1
URL:https://alwaysraceday.com/schedule/nascar-cup-series-sonoma/
CATEGORIES:Asphalt
ATTACH;FMTTYPE=image/png:https://alwaysraceday.com/wp-content/uploads/2020/06/NASCAR_Cup_Series_logo.png
END:VEVENT
BEGIN:VEVENT
DTSTART;TZID=America/Chicago:20210605T160000
DTEND;TZID=America/Chicago:20210605T170000
DTSTAMP:20260425T111937
CREATED:20210208T213355Z
LAST-MODIFIED:20210208T213355Z
UID:6156-1622908800-1622912400@alwaysraceday.com
SUMMARY:ARCA West @ Sonoma
DESCRIPTION:Sonoma Raceway | NBC TrackPass
URL:https://alwaysraceday.com/schedule/arca-west-sonoma/
CATEGORIES:Asphalt
ATTACH;FMTTYPE=image/png:https://alwaysraceday.com/wp-content/uploads/2021/02/AMS_West_2020_Ver_1.png
END:VEVENT
BEGIN:VEVENT
DTSTART;TZID=America/Chicago:20210605T120000
DTEND;TZID=America/Chicago:20210605T150000
DTSTAMP:20260425T111937
CREATED:20210223T005131Z
LAST-MODIFIED:20210223T005152Z
UID:6787-1622894400-1622905200@alwaysraceday.com
SUMMARY:NASCAR Xfinity Series @ Mid-Ohio
DESCRIPTION:Mid-Ohio Sports Car Course | Fox Sports 1
URL:https://alwaysraceday.com/schedule/nascar-xfinity-series-mid-ohio/
CATEGORIES:Asphalt
ATTACH;FMTTYPE=image/png:https://alwaysraceday.com/wp-content/uploads/2020/06/NASCAR_Xfinity_Series_logo_2018.png
END:VEVENT
BEGIN:VEVENT
DTSTART;TZID=America/Chicago:20210605T120000
DTEND;TZID=America/Chicago:20210605T140000
DTSTAMP:20260425T111937
CREATED:20210223T044140Z
LAST-MODIFIED:20210223T044140Z
UID:6892-1622894400-1622901600@alwaysraceday.com
SUMMARY:IMSA Detroit Grand Prix
DESCRIPTION:Belle Isle Park | NBCSN
URL:https://alwaysraceday.com/schedule/imsa-detroit-grand-prix/
CATEGORIES:Asphalt
ATTACH;FMTTYPE=image/png:https://alwaysraceday.com/wp-content/uploads/2020/06/weathertech_championship.png
END:VEVENT
BEGIN:VEVENT
DTSTART;TZID=America/Chicago:20210604T180000
DTEND;TZID=America/Chicago:20210604T210000
DTSTAMP:20260425T111937
CREATED:20210208T205101Z
LAST-MODIFIED:20210208T205101Z
UID:6131-1622829600-1622840400@alwaysraceday.com
SUMMARY:ARCA Menards Series @ Mid-Ohio
DESCRIPTION:Mid-Ohio Sports Car Course | Fox Sports 1si
URL:https://alwaysraceday.com/schedule/arca-menards-series-mid-ohio/
CATEGORIES:Asphalt
ATTACH;FMTTYPE=image/png:https://alwaysraceday.com/wp-content/uploads/2020/06/showdownarca.png
END:VEVENT
BEGIN:VEVENT
DTSTART;TZID=America/Chicago:20210530T170000
DTEND;TZID=America/Chicago:20210530T200000
DTSTAMP:20260425T111937
CREATED:20210223T000626Z
LAST-MODIFIED:20210223T000626Z
UID:6785-1622394000-1622404800@alwaysraceday.com
SUMMARY:NASCAR Cup Series Coca Cola 600
DESCRIPTION:Charlotte Motor Speedway | FOX
URL:https://alwaysraceday.com/schedule/nascar-cup-series-coca-cola-600/
CATEGORIES:Asphalt
ATTACH;FMTTYPE=image/png:https://alwaysraceday.com/wp-content/uploads/2020/06/NASCAR_Cup_Series_logo.png
END:VEVENT
BEGIN:VEVENT
DTSTART;TZID=America/Chicago:20210529T180000
DTEND;TZID=America/Chicago:20210529T210000
DTSTAMP:20260425T111937
CREATED:20210208T203842Z
LAST-MODIFIED:20210208T203842Z
UID:6129-1622311200-1622322000@alwaysraceday.com
SUMMARY:ARCA Menards Series @ Charlotte
DESCRIPTION:Charlotte Motor Speedway | Fox Sports 1
URL:https://alwaysraceday.com/schedule/arca-menards-series-charlotte/
CATEGORIES:Asphalt
ATTACH;FMTTYPE=image/png:https://alwaysraceday.com/wp-content/uploads/2020/06/1200px-ARCA_Menards_Series_Logo.svg.png
END:VEVENT
BEGIN:VEVENT
DTSTART;TZID=America/Chicago:20210529T120000
DTEND;TZID=America/Chicago:20210529T150000
DTSTAMP:20260425T111937
CREATED:20210223T000528Z
LAST-MODIFIED:20210223T000528Z
UID:6783-1622289600-1622300400@alwaysraceday.com
SUMMARY:NASCAR Xfinity Series @ Charlotte
DESCRIPTION:Charlotte Motor Speedway | Fox Sports 1
URL:https://alwaysraceday.com/schedule/nascar-xfinity-series-charlotte/
CATEGORIES:Asphalt
ATTACH;FMTTYPE=image/png:https://alwaysraceday.com/wp-content/uploads/2020/06/NASCAR_Xfinity_Series_logo_2018.png
END:VEVENT
BEGIN:VEVENT
DTSTART;TZID=America/Chicago:20210528T193000
DTEND;TZID=America/Chicago:20210528T223000
DTSTAMP:20260425T111937
CREATED:20210202T053406Z
LAST-MODIFIED:20210202T141003Z
UID:6005-1622230200-1622241000@alwaysraceday.com
SUMMARY:NASCAR Trucks @ Charlotte
DESCRIPTION:Charlotte Motor Speedway | Fox Sports 1
URL:https://alwaysraceday.com/schedule/nascar-trucks-charlotte/
CATEGORIES:Asphalt
ATTACH;FMTTYPE=image/jpeg:https://alwaysraceday.com/wp-content/uploads/2021/01/2020-sep15-camping-world-main-image.jpg
END:VEVENT
BEGIN:VEVENT
DTSTART;TZID=America/Chicago:20210522T190000
DTEND;TZID=America/Chicago:20210522T210000
DTSTAMP:20260425T111937
CREATED:20210208T203125Z
LAST-MODIFIED:20210208T203125Z
UID:6127-1621710000-1621717200@alwaysraceday.com
SUMMARY:ARCA Menards Series @ Toledo
DESCRIPTION:Toledo Speedway | MAVTV/NBC TrackPass
URL:https://alwaysraceday.com/schedule/arca-menards-series-toledo-3/
CATEGORIES:Asphalt
ATTACH;FMTTYPE=image/png:https://alwaysraceday.com/wp-content/uploads/2020/06/showdownarca.png
END:VEVENT
BEGIN:VEVENT
DTSTART;TZID=America/Chicago:20210522T150000
DTEND;TZID=America/Chicago:20210522T180000
DTSTAMP:20260425T111937
CREATED:20210222T235525Z
LAST-MODIFIED:20210223T000234Z
UID:6778-1621695600-1621706400@alwaysraceday.com
SUMMARY:NASCAR Xfinity Series @ COTA
DESCRIPTION:Circuit of the Americas | Fox Sports 1
URL:https://alwaysraceday.com/schedule/nascar-xfinity-series-cota/
CATEGORIES:Asphalt
ATTACH;FMTTYPE=image/png:https://alwaysraceday.com/wp-content/uploads/2020/06/NASCAR_Xfinity_Series_logo_2018.png
END:VEVENT
BEGIN:VEVENT
DTSTART;TZID=America/Chicago:20210522T120000
DTEND;TZID=America/Chicago:20210522T150000
DTSTAMP:20260425T111937
CREATED:20210202T143603Z
LAST-MODIFIED:20210202T143603Z
UID:6023-1621684800-1621695600@alwaysraceday.com
SUMMARY:NASCAR Trucks @ Circuit of the Americas
DESCRIPTION:Circuit of the Americas | Fox Sports 1
URL:https://alwaysraceday.com/schedule/nascar-trucks-circuit-of-the-americas/
CATEGORIES:Asphalt
ATTACH;FMTTYPE=image/jpeg:https://alwaysraceday.com/wp-content/uploads/2021/01/2020-sep15-camping-world-main-image.jpg
END:VEVENT
BEGIN:VEVENT
DTSTART;TZID=America/Chicago:20210516T130000
DTEND;TZID=America/Chicago:20210516T170000
DTSTAMP:20260425T111937
CREATED:20210222T234105Z
LAST-MODIFIED:20210222T234105Z
UID:6776-1621170000-1621184400@alwaysraceday.com
SUMMARY:NASCAR Cup Series @ Dover
DESCRIPTION:Dover International Speedway | Fox Sports 1
URL:https://alwaysraceday.com/schedule/nascar-cup-series-dover/
CATEGORIES:Asphalt
ATTACH;FMTTYPE=image/png:https://alwaysraceday.com/wp-content/uploads/2020/06/NASCAR_Cup_Series_logo.png
END:VEVENT
BEGIN:VEVENT
DTSTART;TZID=America/Chicago:20210515T133000
DTEND;TZID=America/Chicago:20210515T170000
DTSTAMP:20260425T111937
CREATED:20210318T152313Z
LAST-MODIFIED:20210318T152313Z
UID:7349-1621085400-1621098000@alwaysraceday.com
SUMMARY:IndyCar GMR Grand Prix @ The IMS Road Course
DESCRIPTION:Indianapolis Motor Speedway Road Course | NBC
URL:https://alwaysraceday.com/schedule/indycar-gmr-grand-prix-the-ims-road-course/
CATEGORIES:Asphalt
ATTACH;FMTTYPE=image/png:https://alwaysraceday.com/wp-content/uploads/2020/06/indycar.png
END:VEVENT
BEGIN:VEVENT
DTSTART;TZID=America/Chicago:20210515T123000
DTEND;TZID=America/Chicago:20210515T150000
DTSTAMP:20260425T111937
CREATED:20210222T233634Z
LAST-MODIFIED:20210223T000039Z
UID:6774-1621081800-1621090800@alwaysraceday.com
SUMMARY:NASCAR Xfinity Series @ Dover
DESCRIPTION:Dover International Speedway | Fox Sports 1
URL:https://alwaysraceday.com/schedule/nascar-xfinity-series-dover/
CATEGORIES:Asphalt
ATTACH;FMTTYPE=image/png:https://alwaysraceday.com/wp-content/uploads/2020/06/NASCAR_Xfinity_Series_logo_2018.png
END:VEVENT
BEGIN:VEVENT
DTSTART;TZID=America/Chicago:20210514T160000
DTEND;TZID=America/Chicago:20210514T180000
DTSTAMP:20260425T111937
CREATED:20210208T201422Z
LAST-MODIFIED:20210208T201422Z
UID:6116-1621008000-1621015200@alwaysraceday.com
SUMMARY:ARCA East @ Dover
DESCRIPTION:Dover International Speedway | NBC TrackPass
URL:https://alwaysraceday.com/schedule/arca-east-dover-2/
CATEGORIES:Asphalt
ATTACH;FMTTYPE=image/png:https://alwaysraceday.com/wp-content/uploads/2021/02/AMS_East_2020_Ver_1.png
END:VEVENT
BEGIN:VEVENT
DTSTART;TZID=America/Chicago:20210509T170000
DTEND;TZID=America/Chicago:20210509T200000
DTSTAMP:20260425T111937
CREATED:20210219T040652Z
LAST-MODIFIED:20210220T055334Z
UID:6387-1620579600-1620590400@alwaysraceday.com
SUMMARY:USAC Silver Crown Season Opener @ Winchester
DESCRIPTION:Winchester Speedway | FloRacing
URL:https://alwaysraceday.com/schedule/usac-silver-crown-season-opener-winchester/
CATEGORIES:Asphalt
ATTACH;FMTTYPE=image/png:https://alwaysraceday.com/wp-content/uploads/2021/02/2019_Silver_Crown_Black_200x145-3.png
END:VEVENT
BEGIN:VEVENT
DTSTART;TZID=America/Chicago:20210509T143000
DTEND;TZID=America/Chicago:20210509T170000
DTSTAMP:20260425T111937
CREATED:20210219T041838Z
LAST-MODIFIED:20210222T233224Z
UID:6389-1620570600-1620579600@alwaysraceday.com
SUMMARY:NASCAR Cup Series Throwback Race @ Darlington
DESCRIPTION:Darlington Raceway | Fox Sports 1
URL:https://alwaysraceday.com/schedule/nascar-cup-series-throwback-race-darlington/
CATEGORIES:Asphalt
ATTACH;FMTTYPE=image/png:https://alwaysraceday.com/wp-content/uploads/2021/02/nascarthrowbackweekendlogo.png
END:VEVENT
BEGIN:VEVENT
DTSTART;TZID=America/Chicago:20210508T200000
DTEND;TZID=America/Chicago:20210508T220000
DTSTAMP:20260425T111937
CREATED:20210208T201027Z
LAST-MODIFIED:20210208T201027Z
UID:6113-1620504000-1620511200@alwaysraceday.com
SUMMARY:ARCA East @ Nashville
DESCRIPTION:Nashville Fairgrounds Speedway | NBC TrackPass
URL:https://alwaysraceday.com/schedule/arca-east-nashville/
CATEGORIES:Asphalt
ATTACH;FMTTYPE=image/png:https://alwaysraceday.com/wp-content/uploads/2021/02/AMS_East_2020_Ver_1.png
END:VEVENT
BEGIN:VEVENT
DTSTART;TZID=America/Chicago:20210508T120000
DTEND;TZID=America/Chicago:20210508T150000
DTSTAMP:20260425T111937
CREATED:20210219T035545Z
LAST-MODIFIED:20210223T000005Z
UID:6380-1620475200-1620486000@alwaysraceday.com
SUMMARY:NASCAR Xfinity Series @ Darlington
DESCRIPTION:Darlington Raceway | Fox Sports 1
URL:https://alwaysraceday.com/schedule/nascar-xfinity-series-darlington-2/
CATEGORIES:Asphalt
ATTACH;FMTTYPE=image/png:https://alwaysraceday.com/wp-content/uploads/2020/06/NASCAR_Xfinity_Series_logo_2018.png
END:VEVENT
BEGIN:VEVENT
DTSTART;TZID=America/Chicago:20210507T183000
DTEND;TZID=America/Chicago:20210507T213000
DTSTAMP:20260425T111937
CREATED:20210202T143413Z
LAST-MODIFIED:20210202T143413Z
UID:6020-1620412200-1620423000@alwaysraceday.com
SUMMARY:NASCAR Trucks @ Darlington
DESCRIPTION:Darlington Raceway | Fox Sports 1
URL:https://alwaysraceday.com/schedule/nascar-trucks-darlington-2/
CATEGORIES:Asphalt
ATTACH;FMTTYPE=image/jpeg:https://alwaysraceday.com/wp-content/uploads/2021/01/2020-sep15-camping-world-main-image.jpg
END:VEVENT
BEGIN:VEVENT
DTSTART;TZID=America/Chicago:20210502T161500
DTEND;TZID=America/Chicago:20210502T190000
DTSTAMP:20260425T111937
CREATED:20210318T151925Z
LAST-MODIFIED:20210318T151925Z
UID:7347-1619972100-1619982000@alwaysraceday.com
SUMMARY:IndyCar XPEL 375 @ Texas Race 2
DESCRIPTION:Texas Motor Speedway | NBCSN
URL:https://alwaysraceday.com/schedule/indycar-xpel-375-texas-race-2/
CATEGORIES:Asphalt
ATTACH;FMTTYPE=image/png:https://alwaysraceday.com/wp-content/uploads/2020/06/indycar.png
END:VEVENT
BEGIN:VEVENT
DTSTART;TZID=America/Chicago:20210501T183000
DTEND;TZID=America/Chicago:20210501T213000
DTSTAMP:20260425T111937
CREATED:20210318T151604Z
LAST-MODIFIED:20210318T151604Z
UID:7345-1619893800-1619904600@alwaysraceday.com
SUMMARY:IndyCar Genesys 300 @ Texas Race 1
DESCRIPTION:Texas Motor Speedway | NBCSN
URL:https://alwaysraceday.com/schedule/indycar-genesys-300-texas-race-1/
CATEGORIES:Asphalt
ATTACH;FMTTYPE=image/png:https://alwaysraceday.com/wp-content/uploads/2020/06/indycar.png
END:VEVENT
BEGIN:VEVENT
DTSTART;TZID=America/Chicago:20210501T183000
DTEND;TZID=America/Chicago:20210501T203000
DTSTAMP:20260425T111937
CREATED:20210201T051148Z
LAST-MODIFIED:20210202T141016Z
UID:5939-1619893800-1619901000@alwaysraceday.com
SUMMARY:NASCAR Trucks @ Kansas
DESCRIPTION:Kansas Speedway | Fox Sports 1
URL:https://alwaysraceday.com/schedule/nascar-trucks-kansas/
CATEGORIES:Asphalt
ATTACH;FMTTYPE=image/jpeg:https://alwaysraceday.com/wp-content/uploads/2021/01/2020-sep15-camping-world-main-image.jpg
END:VEVENT
BEGIN:VEVENT
DTSTART;TZID=America/Chicago:20210501T123000
DTEND;TZID=America/Chicago:20210501T140000
DTSTAMP:20260425T111937
CREATED:20210208T200230Z
LAST-MODIFIED:20210208T200230Z
UID:6111-1619872200-1619877600@alwaysraceday.com
SUMMARY:ARCA Menards Series @ Kansas
DESCRIPTION:Kansas Speedway | Fox Sports 1
URL:https://alwaysraceday.com/schedule/arca-menards-series-kansas-3/
CATEGORIES:Asphalt
ATTACH;FMTTYPE=image/png:https://alwaysraceday.com/wp-content/uploads/2020/06/1200px-ARCA_Menards_Series_Logo.svg.png
END:VEVENT
BEGIN:VEVENT
DTSTART;TZID=America/Chicago:20210425T130000
DTEND;TZID=America/Chicago:20210425T170000
DTSTAMP:20260425T111937
CREATED:20210218T215454Z
LAST-MODIFIED:20210218T215454Z
UID:6354-1619355600-1619370000@alwaysraceday.com
SUMMARY:NASCAR Cup Series @ Talladega
DESCRIPTION:Talladega Super Speedway | FOX
URL:https://alwaysraceday.com/schedule/nascar-cup-series-talladega-3/
CATEGORIES:Asphalt
ATTACH;FMTTYPE=image/png:https://alwaysraceday.com/wp-content/uploads/2020/06/NASCAR_Cup_Series_logo.png
END:VEVENT
END:VCALENDAR