BEGIN:VCALENDAR
VERSION:2.0
PRODID:-//Always Race Day - ECPv6.15.20//NONSGML v1.0//EN
CALSCALE:GREGORIAN
METHOD:PUBLISH
X-WR-CALNAME:Always Race Day
X-ORIGINAL-URL:https://alwaysraceday.com
X-WR-CALDESC:Events for Always Race Day
REFRESH-INTERVAL;VALUE=DURATION:PT1H
X-Robots-Tag:noindex
X-PUBLISHED-TTL:PT1H
BEGIN:VTIMEZONE
TZID:America/Chicago
BEGIN:DAYLIGHT
TZOFFSETFROM:-0600
TZOFFSETTO:-0500
TZNAME:CDT
DTSTART:20200308T080000
END:DAYLIGHT
BEGIN:STANDARD
TZOFFSETFROM:-0500
TZOFFSETTO:-0600
TZNAME:CST
DTSTART:20201101T070000
END:STANDARD
BEGIN:DAYLIGHT
TZOFFSETFROM:-0600
TZOFFSETTO:-0500
TZNAME:CDT
DTSTART:20210314T080000
END:DAYLIGHT
BEGIN:STANDARD
TZOFFSETFROM:-0500
TZOFFSETTO:-0600
TZNAME:CST
DTSTART:20211107T070000
END:STANDARD
BEGIN:DAYLIGHT
TZOFFSETFROM:-0600
TZOFFSETTO:-0500
TZNAME:CDT
DTSTART:20220313T080000
END:DAYLIGHT
BEGIN:STANDARD
TZOFFSETFROM:-0500
TZOFFSETTO:-0600
TZNAME:CST
DTSTART:20221106T070000
END:STANDARD
END:VTIMEZONE
BEGIN:VEVENT
DTSTART;TZID=America/Chicago:20210507T183000
DTEND;TZID=America/Chicago:20210507T213000
DTSTAMP:20260425T143234
CREATED:20210202T143413Z
LAST-MODIFIED:20210202T143413Z
UID:6020-1620412200-1620423000@alwaysraceday.com
SUMMARY:NASCAR Trucks @ Darlington
DESCRIPTION:Darlington Raceway | Fox Sports 1
URL:https://alwaysraceday.com/schedule/nascar-trucks-darlington-2/
CATEGORIES:Asphalt
ATTACH;FMTTYPE=image/jpeg:https://alwaysraceday.com/wp-content/uploads/2021/01/2020-sep15-camping-world-main-image.jpg
END:VEVENT
BEGIN:VEVENT
DTSTART;TZID=America/Chicago:20210502T161500
DTEND;TZID=America/Chicago:20210502T190000
DTSTAMP:20260425T143234
CREATED:20210318T151925Z
LAST-MODIFIED:20210318T151925Z
UID:7347-1619972100-1619982000@alwaysraceday.com
SUMMARY:IndyCar XPEL 375 @ Texas Race 2
DESCRIPTION:Texas Motor Speedway | NBCSN
URL:https://alwaysraceday.com/schedule/indycar-xpel-375-texas-race-2/
CATEGORIES:Asphalt
ATTACH;FMTTYPE=image/png:https://alwaysraceday.com/wp-content/uploads/2020/06/indycar.png
END:VEVENT
BEGIN:VEVENT
DTSTART;TZID=America/Chicago:20210501T183000
DTEND;TZID=America/Chicago:20210501T213000
DTSTAMP:20260425T143234
CREATED:20210318T151604Z
LAST-MODIFIED:20210318T151604Z
UID:7345-1619893800-1619904600@alwaysraceday.com
SUMMARY:IndyCar Genesys 300 @ Texas Race 1
DESCRIPTION:Texas Motor Speedway | NBCSN
URL:https://alwaysraceday.com/schedule/indycar-genesys-300-texas-race-1/
CATEGORIES:Asphalt
ATTACH;FMTTYPE=image/png:https://alwaysraceday.com/wp-content/uploads/2020/06/indycar.png
END:VEVENT
BEGIN:VEVENT
DTSTART;TZID=America/Chicago:20210501T183000
DTEND;TZID=America/Chicago:20210501T203000
DTSTAMP:20260425T143234
CREATED:20210201T051148Z
LAST-MODIFIED:20210202T141016Z
UID:5939-1619893800-1619901000@alwaysraceday.com
SUMMARY:NASCAR Trucks @ Kansas
DESCRIPTION:Kansas Speedway | Fox Sports 1
URL:https://alwaysraceday.com/schedule/nascar-trucks-kansas/
CATEGORIES:Asphalt
ATTACH;FMTTYPE=image/jpeg:https://alwaysraceday.com/wp-content/uploads/2021/01/2020-sep15-camping-world-main-image.jpg
END:VEVENT
BEGIN:VEVENT
DTSTART;TZID=America/Chicago:20210501T123000
DTEND;TZID=America/Chicago:20210501T140000
DTSTAMP:20260425T143234
CREATED:20210208T200230Z
LAST-MODIFIED:20210208T200230Z
UID:6111-1619872200-1619877600@alwaysraceday.com
SUMMARY:ARCA Menards Series @ Kansas
DESCRIPTION:Kansas Speedway | Fox Sports 1
URL:https://alwaysraceday.com/schedule/arca-menards-series-kansas-3/
CATEGORIES:Asphalt
ATTACH;FMTTYPE=image/png:https://alwaysraceday.com/wp-content/uploads/2020/06/1200px-ARCA_Menards_Series_Logo.svg.png
END:VEVENT
BEGIN:VEVENT
DTSTART;TZID=America/Chicago:20210425T130000
DTEND;TZID=America/Chicago:20210425T170000
DTSTAMP:20260425T143234
CREATED:20210218T215454Z
LAST-MODIFIED:20210218T215454Z
UID:6354-1619355600-1619370000@alwaysraceday.com
SUMMARY:NASCAR Cup Series @ Talladega
DESCRIPTION:Talladega Super Speedway | FOX
URL:https://alwaysraceday.com/schedule/nascar-cup-series-talladega-3/
CATEGORIES:Asphalt
ATTACH;FMTTYPE=image/png:https://alwaysraceday.com/wp-content/uploads/2020/06/NASCAR_Cup_Series_logo.png
END:VEVENT
BEGIN:VEVENT
DTSTART;TZID=America/Chicago:20210425T113000
DTEND;TZID=America/Chicago:20210425T140000
DTSTAMP:20260425T143234
CREATED:20210318T151320Z
LAST-MODIFIED:20210318T151320Z
UID:7343-1619350200-1619359200@alwaysraceday.com
SUMMARY:IndyCar Firestone GP of St. Pete
DESCRIPTION:Streets of St. Petersburg | NBC
URL:https://alwaysraceday.com/schedule/indycar-firestone-gp-of-st-pete/
CATEGORIES:Asphalt
ATTACH;FMTTYPE=image/png:https://alwaysraceday.com/wp-content/uploads/2020/06/indycar.png
END:VEVENT
BEGIN:VEVENT
DTSTART;TZID=America/Chicago:20210424T150000
DTEND;TZID=America/Chicago:20210424T180000
DTSTAMP:20260425T143234
CREATED:20210218T214714Z
LAST-MODIFIED:20210218T214714Z
UID:6346-1619276400-1619287200@alwaysraceday.com
SUMMARY:NASCAR Xfinity Series @ Talladega
DESCRIPTION:Talladega Super Speedway | FOX
URL:https://alwaysraceday.com/schedule/nascar-xfinity-series-talladega-2/
CATEGORIES:Asphalt
ATTACH;FMTTYPE=image/png:https://alwaysraceday.com/wp-content/uploads/2020/06/NASCAR_Xfinity_Series_logo_2018.png
END:VEVENT
BEGIN:VEVENT
DTSTART;TZID=America/Chicago:20210424T120000
DTEND;TZID=America/Chicago:20210424T140000
DTSTAMP:20260425T143234
CREATED:20210208T195951Z
LAST-MODIFIED:20210208T195951Z
UID:6109-1619265600-1619272800@alwaysraceday.com
SUMMARY:ARCA Menards Series @ Talladega
DESCRIPTION:Talladega Superspeedway | Fox Sports 1
URL:https://alwaysraceday.com/schedule/arca-menards-series-talladega-2/
CATEGORIES:Asphalt
ATTACH;FMTTYPE=image/png:https://alwaysraceday.com/wp-content/uploads/2020/06/1200px-ARCA_Menards_Series_Logo.svg.png
END:VEVENT
BEGIN:VEVENT
DTSTART;TZID=America/Chicago:20210418T143000
DTEND;TZID=America/Chicago:20210418T170000
DTSTAMP:20260425T143234
CREATED:20210318T151143Z
LAST-MODIFIED:20210318T151143Z
UID:7341-1618756200-1618765200@alwaysraceday.com
SUMMARY:IndyCar Season Opener @ Barber
DESCRIPTION:Barber Motorsports Park | NBC
URL:https://alwaysraceday.com/schedule/indycar-season-opener-barber/
CATEGORIES:Asphalt
ATTACH;FMTTYPE=image/png:https://alwaysraceday.com/wp-content/uploads/2020/06/indycar.png
END:VEVENT
BEGIN:VEVENT
DTSTART;TZID=America/Chicago:20210418T140000
DTEND;TZID=America/Chicago:20210418T170000
DTSTAMP:20260425T143234
CREATED:20210218T043521Z
LAST-MODIFIED:20210218T043521Z
UID:6332-1618754400-1618765200@alwaysraceday.com
SUMMARY:NASCAR Cup Series @ Richmond
DESCRIPTION:Richmond Raceway | FOX
URL:https://alwaysraceday.com/schedule/nascar-cup-series-richmond/
CATEGORIES:Asphalt
ATTACH;FMTTYPE=image/png:https://alwaysraceday.com/wp-content/uploads/2020/06/NASCAR_Cup_Series_logo.png
END:VEVENT
BEGIN:VEVENT
DTSTART;TZID=America/Chicago:20210418T080000
DTEND;TZID=America/Chicago:20210418T100000
DTSTAMP:20260425T143234
CREATED:20210330T044516Z
LAST-MODIFIED:20210330T044516Z
UID:7517-1618732800-1618740000@alwaysraceday.com
SUMMARY:Formula 1 Romagna GP
DESCRIPTION:Autodromo Enzo e Dino Ferrari | ESPN
URL:https://alwaysraceday.com/schedule/formula-1-romagna-gp/
CATEGORIES:Asphalt
ATTACH;FMTTYPE=image/png:https://alwaysraceday.com/wp-content/uploads/2020/06/Formula-1-Logo-PNG-File.png
END:VEVENT
BEGIN:VEVENT
DTSTART;TZID=America/Chicago:20210417T123000
DTEND;TZID=America/Chicago:20210417T150000
DTSTAMP:20260425T143234
CREATED:20210201T051026Z
LAST-MODIFIED:20210202T141030Z
UID:5936-1618662600-1618671600@alwaysraceday.com
SUMMARY:NASCAR Trucks @ Richmond
DESCRIPTION:Richmond Raceway | Fox Sports 1
URL:https://alwaysraceday.com/schedule/nascar-trucks-richmond-2/
CATEGORIES:Asphalt
ATTACH;FMTTYPE=image/jpeg:https://alwaysraceday.com/wp-content/uploads/2021/01/2020-sep15-camping-world-main-image.jpg
END:VEVENT
BEGIN:VEVENT
DTSTART;TZID=America/Chicago:20210410T183000
DTEND;TZID=America/Chicago:20210410T223000
DTSTAMP:20260425T143234
CREATED:20210217T042248Z
LAST-MODIFIED:20210217T042248Z
UID:6315-1618079400-1618093800@alwaysraceday.com
SUMMARY:NASCAR Cup Series @ Martinsville Night Race
DESCRIPTION:Martinsville Speedway | Fox Sports 1
URL:https://alwaysraceday.com/schedule/nascar-cup-series-martinsville-night-race/
CATEGORIES:Asphalt
ATTACH;FMTTYPE=image/png:https://alwaysraceday.com/wp-content/uploads/2020/06/NASCAR_Cup_Series_logo.png
END:VEVENT
BEGIN:VEVENT
DTSTART;TZID=America/Chicago:20210409T190000
DTEND;TZID=America/Chicago:20210409T220000
DTSTAMP:20260425T143234
CREATED:20210217T042102Z
LAST-MODIFIED:20210217T042102Z
UID:6313-1617994800-1618005600@alwaysraceday.com
SUMMARY:NASCAR Xfinity Series @ Martinsville
DESCRIPTION:Martinsville Speedway | Fox Sports 1
URL:https://alwaysraceday.com/schedule/nascar-xfinity-series-martinsville/
CATEGORIES:Asphalt
ATTACH;FMTTYPE=image/png:https://alwaysraceday.com/wp-content/uploads/2020/06/NASCAR_Xfinity_Series_logo_2018.png
END:VEVENT
BEGIN:VEVENT
DTSTART;TZID=America/Chicago:20210328T143000
DTEND;TZID=America/Chicago:20210328T170000
DTSTAMP:20260425T143234
CREATED:20210201T045020Z
LAST-MODIFIED:20210201T045020Z
UID:5934-1616941800-1616950800@alwaysraceday.com
SUMMARY:NASCAR Cup Series @ Bristol Dirt
DESCRIPTION:Bristol Motor Speedway | Fox Sports 1
URL:https://alwaysraceday.com/schedule/nascar-cup-series-bristol-dirt/
CATEGORIES:Asphalt,Dirt
ATTACH;FMTTYPE=image/png:https://alwaysraceday.com/wp-content/uploads/2021/01/dirtracelogo.png
END:VEVENT
BEGIN:VEVENT
DTSTART;TZID=America/Chicago:20210327T190000
DTEND;TZID=America/Chicago:20210327T220000
DTSTAMP:20260425T143234
CREATED:20210201T044448Z
LAST-MODIFIED:20210201T044448Z
UID:5930-1616871600-1616882400@alwaysraceday.com
SUMMARY:NASCAR Trucks @ Bristol Dirt Race
DESCRIPTION:Bristol Motor Speedway | Fox Sports 1
URL:https://alwaysraceday.com/schedule/nascar-trucks-bristol-dirt-race/
CATEGORIES:Asphalt,Dirt
ATTACH;FMTTYPE=image/png:https://alwaysraceday.com/wp-content/uploads/2021/01/pintys-truck-race-on-dirt-21.png
END:VEVENT
BEGIN:VEVENT
DTSTART;TZID=America/Chicago:20210321T140000
DTEND;TZID=America/Chicago:20210321T170000
DTSTAMP:20260425T143234
CREATED:20210125T173126Z
LAST-MODIFIED:20210125T173126Z
UID:5853-1616335200-1616346000@alwaysraceday.com
SUMMARY:NASCAR Cup Series @ Atlanta
DESCRIPTION:Atlanta Motor Speedway | FOX
URL:https://alwaysraceday.com/schedule/nascar-cup-series-atlanta/
CATEGORIES:Asphalt
ATTACH;FMTTYPE=image/png:https://alwaysraceday.com/wp-content/uploads/2020/06/NASCAR_Cup_Series_logo.png
END:VEVENT
BEGIN:VEVENT
DTSTART;TZID=America/Chicago:20210320T160000
DTEND;TZID=America/Chicago:20210320T190000
DTSTAMP:20260425T143234
CREATED:20210125T150626Z
LAST-MODIFIED:20210125T150626Z
UID:5790-1616256000-1616266800@alwaysraceday.com
SUMMARY:NASCAR Xfinity Series @ Atlanta
DESCRIPTION:Atlanta Motor Speedway | Fox Sports 1
URL:https://alwaysraceday.com/schedule/nascar-xfinity-series-atlanta/
CATEGORIES:Asphalt
ATTACH;FMTTYPE=image/png:https://alwaysraceday.com/wp-content/uploads/2020/06/NASCAR_Xfinity_Series_logo_2018.png
END:VEVENT
BEGIN:VEVENT
DTSTART;TZID=America/Chicago:20210320T133000
DTEND;TZID=America/Chicago:20210320T160000
DTSTAMP:20260425T143234
CREATED:20210125T150413Z
LAST-MODIFIED:20210125T150448Z
UID:5787-1616247000-1616256000@alwaysraceday.com
SUMMARY:NASCAR Trucks @ Atlanta
DESCRIPTION:Atlanta Motor Speedway | Fox Sports 1
URL:https://alwaysraceday.com/schedule/nascar-trucks-atlanta/
CATEGORIES:Asphalt
ATTACH;FMTTYPE=image/jpeg:https://alwaysraceday.com/wp-content/uploads/2021/01/2020-sep15-camping-world-main-image.jpg
END:VEVENT
BEGIN:VEVENT
DTSTART;TZID=America/Chicago:20210320T093000
DTEND;TZID=America/Chicago:20210320T213000
DTSTAMP:20260425T143234
CREATED:20210223T043531Z
LAST-MODIFIED:20210223T043531Z
UID:6887-1616232600-1616275800@alwaysraceday.com
SUMMARY:IMSA 12 Hours of Sebring
DESCRIPTION:Sebring International Raceway | NBC TrackPass / Finish at 6pm on NBCSN
URL:https://alwaysraceday.com/schedule/imsa-12-hours-of-sebring/
CATEGORIES:Asphalt
ATTACH;FMTTYPE=image/png:https://alwaysraceday.com/wp-content/uploads/2020/06/weathertech_championship.png
END:VEVENT
BEGIN:VEVENT
DTSTART;TZID=America/Chicago:20210314T143000
DTEND;TZID=America/Chicago:20210314T170000
DTSTAMP:20260425T143234
CREATED:20210121T070216Z
LAST-MODIFIED:20210121T070216Z
UID:5722-1615732200-1615741200@alwaysraceday.com
SUMMARY:NASCAR Cup Series @ Phoenix
DESCRIPTION:Phoenix Raceway | FOX
URL:https://alwaysraceday.com/schedule/nascar-cup-series-phoenix/
CATEGORIES:Asphalt
ATTACH;FMTTYPE=image/png:https://alwaysraceday.com/wp-content/uploads/2020/06/NASCAR_Cup_Series_logo.png
END:VEVENT
BEGIN:VEVENT
DTSTART;TZID=America/Chicago:20210313T163000
DTEND;TZID=America/Chicago:20210313T190000
DTSTAMP:20260425T143234
CREATED:20210121T070032Z
LAST-MODIFIED:20210121T070032Z
UID:5720-1615653000-1615662000@alwaysraceday.com
SUMMARY:NASCAR Xfinity Series @ Phoenix
DESCRIPTION:Phoenix Raceway | Fox Sports 1
URL:https://alwaysraceday.com/schedule/nascar-xfinity-series-phoenix/
CATEGORIES:Asphalt
ATTACH;FMTTYPE=image/png:https://alwaysraceday.com/wp-content/uploads/2020/06/NASCAR_Xfinity_Series_logo_2018.png
END:VEVENT
BEGIN:VEVENT
DTSTART;TZID=America/Chicago:20210312T183000
DTEND;TZID=America/Chicago:20210312T203000
DTSTAMP:20260425T143234
CREATED:20210208T195310Z
LAST-MODIFIED:20210208T195310Z
UID:6103-1615573800-1615581000@alwaysraceday.com
SUMMARY:ARCA Menards Series West/National Battle @ Phoenix
DESCRIPTION:Phoenix Raceway | MAVTV/TrackPass
URL:https://alwaysraceday.com/schedule/arca-menards-series-west-national-battle-phoenix/
CATEGORIES:Asphalt
ATTACH;FMTTYPE=image/png:https://alwaysraceday.com/wp-content/uploads/2020/06/1200px-ARCA_Menards_Series_Logo.svg.png
END:VEVENT
BEGIN:VEVENT
DTSTART;TZID=America/Chicago:20210306T153000
DTEND;TZID=America/Chicago:20210306T180000
DTSTAMP:20260425T143234
CREATED:20210121T064503Z
LAST-MODIFIED:20210121T064503Z
UID:5710-1615044600-1615053600@alwaysraceday.com
SUMMARY:NASCAR Xfinity Series @ Las Vegas
DESCRIPTION:Las Vegas Motor Speedway | Fox Sports 1
URL:https://alwaysraceday.com/schedule/nascar-xfinity-series-las-vegas/
CATEGORIES:Asphalt
ATTACH;FMTTYPE=image/png:https://alwaysraceday.com/wp-content/uploads/2020/06/NASCAR_Xfinity_Series_logo_2018.png
END:VEVENT
BEGIN:VEVENT
DTSTART;TZID=America/Chicago:20210305T200000
DTEND;TZID=America/Chicago:20210305T230000
DTSTAMP:20260425T143234
CREATED:20210121T063923Z
LAST-MODIFIED:20210202T141043Z
UID:5708-1614974400-1614985200@alwaysraceday.com
SUMMARY:NASCAR Trucks @ Las Vegas
DESCRIPTION:Las Vegas Motor Speedway | Fox Sports 1
URL:https://alwaysraceday.com/schedule/nascar-trucks-las-vegas/
CATEGORIES:Asphalt
ATTACH;FMTTYPE=image/jpeg:https://alwaysraceday.com/wp-content/uploads/2021/01/2020-sep15-camping-world-main-image.jpg
END:VEVENT
BEGIN:VEVENT
DTSTART;TZID=America/Chicago:20210228T143000
DTEND;TZID=America/Chicago:20210228T180000
DTSTAMP:20260425T143234
CREATED:20210121T062328Z
LAST-MODIFIED:20210121T062328Z
UID:5696-1614522600-1614535200@alwaysraceday.com
SUMMARY:NASCAR Cup Series @ Homestead
DESCRIPTION:Homestead-Miami Speedway | FOX
URL:https://alwaysraceday.com/schedule/nascar-cup-series-homestead/
CATEGORIES:Asphalt
ATTACH;FMTTYPE=image/png:https://alwaysraceday.com/wp-content/uploads/2020/06/NASCAR_Cup_Series_logo.png
END:VEVENT
BEGIN:VEVENT
DTSTART;TZID=America/Chicago:20210227T153000
DTEND;TZID=America/Chicago:20210227T183000
DTSTAMP:20260425T143234
CREATED:20210121T062229Z
LAST-MODIFIED:20210121T062229Z
UID:5694-1614439800-1614450600@alwaysraceday.com
SUMMARY:NASCAR Xfinity Series @ Homestead
DESCRIPTION:Homestead-Miami Speedway | Fox Sports 1
URL:https://alwaysraceday.com/schedule/nascar-xfinity-series-homestead/
CATEGORIES:Asphalt
ATTACH;FMTTYPE=image/png:https://alwaysraceday.com/wp-content/uploads/2020/06/NASCAR_Xfinity_Series_logo_2018.png
END:VEVENT
BEGIN:VEVENT
DTSTART;TZID=America/Chicago:20210227T103000
DTEND;TZID=America/Chicago:20210227T130000
DTSTAMP:20260425T143234
CREATED:20210223T040845Z
LAST-MODIFIED:20210223T040845Z
UID:6885-1614421800-1614430800@alwaysraceday.com
SUMMARY:Formula E Diriyah E-Prix 2
DESCRIPTION:Riyadh Street Circuit | CBSSN
URL:https://alwaysraceday.com/schedule/formula-e-diriyah-e-prix-2/
CATEGORIES:Asphalt
ATTACH;FMTTYPE=image/png:https://alwaysraceday.com/wp-content/uploads/2021/02/498k5w1537133716-2.png
END:VEVENT
BEGIN:VEVENT
DTSTART;TZID=America/Chicago:20210226T103000
DTEND;TZID=America/Chicago:20210226T130000
DTSTAMP:20260425T143234
CREATED:20210223T040651Z
LAST-MODIFIED:20210223T040651Z
UID:6882-1614335400-1614344400@alwaysraceday.com
SUMMARY:Formula E Diriyah E-Prix 1
DESCRIPTION:Riyadh Street Circuit | CBSSN
URL:https://alwaysraceday.com/schedule/formula-e-diriyah-e-prix-1/
CATEGORIES:Asphalt
ATTACH;FMTTYPE=image/png:https://alwaysraceday.com/wp-content/uploads/2021/02/498k5w1537133716-2.png
END:VEVENT
END:VCALENDAR