BEGIN:VCALENDAR
VERSION:2.0
PRODID:-//Always Race Day - ECPv6.15.20//NONSGML v1.0//EN
CALSCALE:GREGORIAN
METHOD:PUBLISH
X-ORIGINAL-URL:https://alwaysraceday.com
X-WR-CALDESC:Events for Always Race Day
REFRESH-INTERVAL;VALUE=DURATION:PT1H
X-Robots-Tag:noindex
X-PUBLISHED-TTL:PT1H
BEGIN:VTIMEZONE
TZID:America/Chicago
BEGIN:DAYLIGHT
TZOFFSETFROM:-0600
TZOFFSETTO:-0500
TZNAME:CDT
DTSTART:20190310T080000
END:DAYLIGHT
BEGIN:STANDARD
TZOFFSETFROM:-0500
TZOFFSETTO:-0600
TZNAME:CST
DTSTART:20191103T070000
END:STANDARD
BEGIN:DAYLIGHT
TZOFFSETFROM:-0600
TZOFFSETTO:-0500
TZNAME:CDT
DTSTART:20200308T080000
END:DAYLIGHT
BEGIN:STANDARD
TZOFFSETFROM:-0500
TZOFFSETTO:-0600
TZNAME:CST
DTSTART:20201101T070000
END:STANDARD
BEGIN:DAYLIGHT
TZOFFSETFROM:-0600
TZOFFSETTO:-0500
TZNAME:CDT
DTSTART:20210314T080000
END:DAYLIGHT
BEGIN:STANDARD
TZOFFSETFROM:-0500
TZOFFSETTO:-0600
TZNAME:CST
DTSTART:20211107T070000
END:STANDARD
BEGIN:DAYLIGHT
TZOFFSETFROM:-0600
TZOFFSETTO:-0500
TZNAME:CDT
DTSTART:20220313T080000
END:DAYLIGHT
BEGIN:STANDARD
TZOFFSETFROM:-0500
TZOFFSETTO:-0600
TZNAME:CST
DTSTART:20221106T070000
END:STANDARD
END:VTIMEZONE
BEGIN:VEVENT
DTSTART;TZID=America/Chicago:20210306T153000
DTEND;TZID=America/Chicago:20210306T180000
DTSTAMP:20260425T181141
CREATED:20210121T064503Z
LAST-MODIFIED:20210121T064503Z
UID:5710-1615044600-1615053600@alwaysraceday.com
SUMMARY:NASCAR Xfinity Series @ Las Vegas
DESCRIPTION:Las Vegas Motor Speedway | Fox Sports 1
URL:https://alwaysraceday.com/schedule/nascar-xfinity-series-las-vegas/
CATEGORIES:Asphalt
ATTACH;FMTTYPE=image/png:https://alwaysraceday.com/wp-content/uploads/2020/06/NASCAR_Xfinity_Series_logo_2018.png
END:VEVENT
BEGIN:VEVENT
DTSTART;TZID=America/Chicago:20210305T200000
DTEND;TZID=America/Chicago:20210305T230000
DTSTAMP:20260425T181141
CREATED:20210121T063923Z
LAST-MODIFIED:20210202T141043Z
UID:5708-1614974400-1614985200@alwaysraceday.com
SUMMARY:NASCAR Trucks @ Las Vegas
DESCRIPTION:Las Vegas Motor Speedway | Fox Sports 1
URL:https://alwaysraceday.com/schedule/nascar-trucks-las-vegas/
CATEGORIES:Asphalt
ATTACH;FMTTYPE=image/jpeg:https://alwaysraceday.com/wp-content/uploads/2021/01/2020-sep15-camping-world-main-image.jpg
END:VEVENT
BEGIN:VEVENT
DTSTART;TZID=America/Chicago:20210228T143000
DTEND;TZID=America/Chicago:20210228T180000
DTSTAMP:20260425T181141
CREATED:20210121T062328Z
LAST-MODIFIED:20210121T062328Z
UID:5696-1614522600-1614535200@alwaysraceday.com
SUMMARY:NASCAR Cup Series @ Homestead
DESCRIPTION:Homestead-Miami Speedway | FOX
URL:https://alwaysraceday.com/schedule/nascar-cup-series-homestead/
CATEGORIES:Asphalt
ATTACH;FMTTYPE=image/png:https://alwaysraceday.com/wp-content/uploads/2020/06/NASCAR_Cup_Series_logo.png
END:VEVENT
BEGIN:VEVENT
DTSTART;TZID=America/Chicago:20210227T153000
DTEND;TZID=America/Chicago:20210227T183000
DTSTAMP:20260425T181141
CREATED:20210121T062229Z
LAST-MODIFIED:20210121T062229Z
UID:5694-1614439800-1614450600@alwaysraceday.com
SUMMARY:NASCAR Xfinity Series @ Homestead
DESCRIPTION:Homestead-Miami Speedway | Fox Sports 1
URL:https://alwaysraceday.com/schedule/nascar-xfinity-series-homestead/
CATEGORIES:Asphalt
ATTACH;FMTTYPE=image/png:https://alwaysraceday.com/wp-content/uploads/2020/06/NASCAR_Xfinity_Series_logo_2018.png
END:VEVENT
BEGIN:VEVENT
DTSTART;TZID=America/Chicago:20210227T103000
DTEND;TZID=America/Chicago:20210227T130000
DTSTAMP:20260425T181141
CREATED:20210223T040845Z
LAST-MODIFIED:20210223T040845Z
UID:6885-1614421800-1614430800@alwaysraceday.com
SUMMARY:Formula E Diriyah E-Prix 2
DESCRIPTION:Riyadh Street Circuit | CBSSN
URL:https://alwaysraceday.com/schedule/formula-e-diriyah-e-prix-2/
CATEGORIES:Asphalt
ATTACH;FMTTYPE=image/png:https://alwaysraceday.com/wp-content/uploads/2021/02/498k5w1537133716-2.png
END:VEVENT
BEGIN:VEVENT
DTSTART;TZID=America/Chicago:20210226T103000
DTEND;TZID=America/Chicago:20210226T130000
DTSTAMP:20260425T181141
CREATED:20210223T040651Z
LAST-MODIFIED:20210223T040651Z
UID:6882-1614335400-1614344400@alwaysraceday.com
SUMMARY:Formula E Diriyah E-Prix 1
DESCRIPTION:Riyadh Street Circuit | CBSSN
URL:https://alwaysraceday.com/schedule/formula-e-diriyah-e-prix-1/
CATEGORIES:Asphalt
ATTACH;FMTTYPE=image/png:https://alwaysraceday.com/wp-content/uploads/2021/02/498k5w1537133716-2.png
END:VEVENT
BEGIN:VEVENT
DTSTART;TZID=America/Chicago:20210221T140000
DTEND;TZID=America/Chicago:20210221T170000
DTSTAMP:20260425T181141
CREATED:20210121T061027Z
LAST-MODIFIED:20210121T061027Z
UID:5688-1613916000-1613926800@alwaysraceday.com
SUMMARY:NASCAR Cup Series @ Daytona Road Course
DESCRIPTION:Daytona International Speedway (Road Course) | FOX
URL:https://alwaysraceday.com/schedule/nascar-cup-series-daytona-road-course-2/
CATEGORIES:Asphalt
ATTACH;FMTTYPE=image/png:https://alwaysraceday.com/wp-content/uploads/2020/06/NASCAR_Cup_Series_logo.png
END:VEVENT
BEGIN:VEVENT
DTSTART;TZID=America/Chicago:20210220T160000
DTEND;TZID=America/Chicago:20210220T190000
DTSTAMP:20260425T181141
CREATED:20210121T060531Z
LAST-MODIFIED:20210121T060531Z
UID:5686-1613836800-1613847600@alwaysraceday.com
SUMMARY:NASCAR Xfinity Series @ Daytona Road Course
DESCRIPTION:Daytona International Speedway (Road Course) | Fox Sports 1
URL:https://alwaysraceday.com/schedule/nascar-xfinity-series-daytona-road-course-2/
CATEGORIES:Asphalt
ATTACH;FMTTYPE=image/png:https://alwaysraceday.com/wp-content/uploads/2020/06/NASCAR_Xfinity_Series_logo_2018.png
END:VEVENT
BEGIN:VEVENT
DTSTART;TZID=America/Chicago:20210219T183000
DTEND;TZID=America/Chicago:20210219T213000
DTSTAMP:20260425T181141
CREATED:20210121T060354Z
LAST-MODIFIED:20210202T140905Z
UID:5683-1613759400-1613770200@alwaysraceday.com
SUMMARY:NASCAR Trucks @ Daytona Road Course
DESCRIPTION:Daytona International Speedway (Road Course) | Fox Sports 1
URL:https://alwaysraceday.com/schedule/nascar-trucks-daytona-road-course/
CATEGORIES:Asphalt
ATTACH;FMTTYPE=image/jpeg:https://alwaysraceday.com/wp-content/uploads/2021/01/2020-sep15-camping-world-main-image.jpg
END:VEVENT
BEGIN:VEVENT
DTSTART;TZID=America/Chicago:20210214T133000
DTEND;TZID=America/Chicago:20210214T170000
DTSTAMP:20260425T181141
CREATED:20210121T052110Z
LAST-MODIFIED:20210121T052110Z
UID:5669-1613309400-1613322000@alwaysraceday.com
SUMMARY:The 2021 Daytona 500
DESCRIPTION:Daytona International Speedway | FOX
URL:https://alwaysraceday.com/schedule/the-2021-daytona-500/
CATEGORIES:Asphalt
ATTACH;FMTTYPE=image/jpeg:https://alwaysraceday.com/wp-content/uploads/2021/01/day500.jpg
END:VEVENT
BEGIN:VEVENT
DTSTART;TZID=America/Chicago:20210213T160000
DTEND;TZID=America/Chicago:20210213T190000
DTSTAMP:20260425T181141
CREATED:20210120T233326Z
LAST-MODIFIED:20210120T233326Z
UID:5660-1613232000-1613242800@alwaysraceday.com
SUMMARY:NASCAR Xfinity Series @ Daytona
DESCRIPTION:Daytona International Speedway | Fox Sports 1
URL:https://alwaysraceday.com/schedule/nascar-xfinity-series-daytona-2/
CATEGORIES:Asphalt
ATTACH;FMTTYPE=image/png:https://alwaysraceday.com/wp-content/uploads/2020/06/NASCAR_Xfinity_Series_logo_2018.png
END:VEVENT
BEGIN:VEVENT
DTSTART;TZID=America/Chicago:20210213T123000
DTEND;TZID=America/Chicago:20210213T150000
DTSTAMP:20260425T181141
CREATED:20210120T233235Z
LAST-MODIFIED:20210120T233235Z
UID:5658-1613219400-1613228400@alwaysraceday.com
SUMMARY:ARCA Menards Series @ Daytona
DESCRIPTION:Daytona International Speedway | Fox Sports 1
URL:https://alwaysraceday.com/schedule/arca-menards-series-daytona/
CATEGORIES:Asphalt
ATTACH;FMTTYPE=image/png:https://alwaysraceday.com/wp-content/uploads/2020/06/1200px-ARCA_Menards_Series_Logo.svg.png
END:VEVENT
BEGIN:VEVENT
DTSTART;TZID=America/Chicago:20210212T183000
DTEND;TZID=America/Chicago:20210212T213000
DTSTAMP:20260425T181141
CREATED:20210120T233137Z
LAST-MODIFIED:20210202T140942Z
UID:5656-1613154600-1613165400@alwaysraceday.com
SUMMARY:NASCAR Truck Series @ Daytona
DESCRIPTION:Daytona International Speedway | Fox Sports 1
URL:https://alwaysraceday.com/schedule/nascar-truck-series-daytona/
CATEGORIES:Asphalt
ATTACH;FMTTYPE=image/jpeg:https://alwaysraceday.com/wp-content/uploads/2021/01/2020-sep15-camping-world-main-image.jpg
END:VEVENT
BEGIN:VEVENT
DTSTART;TZID=America/Chicago:20210211T180000
DTEND;TZID=America/Chicago:20210211T220000
DTSTAMP:20260425T181141
CREATED:20210120T233042Z
LAST-MODIFIED:20210120T233042Z
UID:5654-1613066400-1613080800@alwaysraceday.com
SUMMARY:NASCAR Cup Series Daytona Duels
DESCRIPTION:Daytona International Speedway | Fox Sports 1
URL:https://alwaysraceday.com/schedule/nascar-cup-series-daytona-duels/
CATEGORIES:Asphalt
ATTACH;FMTTYPE=image/png:https://alwaysraceday.com/wp-content/uploads/2020/06/NASCAR_Cup_Series_logo.png
END:VEVENT
BEGIN:VEVENT
DTSTART;TZID=America/Chicago:20210208T184000
DTEND;TZID=America/Chicago:20210208T204000
DTSTAMP:20260425T181141
CREATED:20210202T061243Z
LAST-MODIFIED:20210202T061243Z
UID:6016-1612809600-1612816800@alwaysraceday.com
SUMMARY:ARCA East Season Opener @ New Smyrna
DESCRIPTION:New Smyrna Speedway | NBC TrackPass
URL:https://alwaysraceday.com/schedule/arca-east-season-opener-new-smyrna/
CATEGORIES:Asphalt
ATTACH;FMTTYPE=image/png:https://alwaysraceday.com/wp-content/uploads/2021/02/JeepBeach175-1020x555-1.png
END:VEVENT
BEGIN:VEVENT
DTSTART;TZID=America/Chicago:20201108T140000
DTEND;TZID=America/Chicago:20201108T180000
DTSTAMP:20260425T181141
CREATED:20200818T200022Z
LAST-MODIFIED:20200818T200022Z
UID:4576-1604844000-1604858400@alwaysraceday.com
SUMMARY:NASCAR Cup Series Championship Race
DESCRIPTION:Phoenix Raceway | NBC
URL:https://alwaysraceday.com/schedule/nascar-cup-series-championship-race/
CATEGORIES:Asphalt
ATTACH;FMTTYPE=image/png:https://alwaysraceday.com/wp-content/uploads/2020/06/NASCAR_Cup_Series_logo.png
END:VEVENT
BEGIN:VEVENT
DTSTART;TZID=America/Chicago:20201107T160000
DTEND;TZID=America/Chicago:20201107T190000
DTSTAMP:20260425T181141
CREATED:20200812T152033Z
LAST-MODIFIED:20200812T152033Z
UID:4499-1604764800-1604775600@alwaysraceday.com
SUMMARY:NASCAR Xfinity Championship Race @ Phoenix
DESCRIPTION:Phoenix Raceway | NBCSN
URL:https://alwaysraceday.com/schedule/nascar-xfinity-championship-race-phoenix/
CATEGORIES:Asphalt
ATTACH;FMTTYPE=image/png:https://alwaysraceday.com/wp-content/uploads/2020/06/NASCAR_Xfinity_Series_logo_2018.png
END:VEVENT
BEGIN:VEVENT
DTSTART;VALUE=DATE:20201107
DTEND;VALUE=DATE:20201108
DTSTAMP:20260425T181141
CREATED:20200908T164612Z
LAST-MODIFIED:20200908T164612Z
UID:4836-1604707200-1604793599@alwaysraceday.com
SUMMARY:ARCA West @ Phoenix
DESCRIPTION:Phoenix Raceway | NBC TrackPass
URL:https://alwaysraceday.com/schedule/arca-west-phoenix/
CATEGORIES:Asphalt
ATTACH;FMTTYPE=image/png:https://alwaysraceday.com/wp-content/uploads/2020/06/1200px-ARCA_Menards_Series_Logo.svg.png
END:VEVENT
BEGIN:VEVENT
DTSTART;TZID=America/Chicago:20201101T150000
DTEND;TZID=America/Chicago:20201101T180000
DTSTAMP:20260425T181141
CREATED:20200908T174336Z
LAST-MODIFIED:20200908T174336Z
UID:4866-1604242800-1604253600@alwaysraceday.com
SUMMARY:Dodge NHRA Finals
DESCRIPTION:The Strip at Las Vegas Motor Speedway | Fox Sports 1
URL:https://alwaysraceday.com/schedule/dodge-nhra-finals/
CATEGORIES:Asphalt
ATTACH;FMTTYPE=image/jpeg:https://alwaysraceday.com/wp-content/uploads/2020/06/NHRA_logo-678.jpg
END:VEVENT
BEGIN:VEVENT
DTSTART;TZID=America/Chicago:20201101T130000
DTEND;TZID=America/Chicago:20201101T170000
DTSTAMP:20260425T181141
CREATED:20200818T195724Z
LAST-MODIFIED:20200818T195724Z
UID:4574-1604235600-1604250000@alwaysraceday.com
SUMMARY:NASCAR Cup Series Playoffs @ Martinsville
DESCRIPTION:Martinsville Speedway | NBC
URL:https://alwaysraceday.com/schedule/nascar-cup-series-playoffs-martinsville/
CATEGORIES:Asphalt
ATTACH;FMTTYPE=image/png:https://alwaysraceday.com/wp-content/uploads/2020/06/NASCAR_Cup_Series_logo.png
END:VEVENT
BEGIN:VEVENT
DTSTART;TZID=America/Chicago:20201101T061000
DTEND;TZID=America/Chicago:20201101T081000
DTSTAMP:20260425T181141
CREATED:20200908T173904Z
LAST-MODIFIED:20200908T173904Z
UID:4862-1604211000-1604218200@alwaysraceday.com
SUMMARY:Formula 1 Emilia Romagna Grand Prix
DESCRIPTION:Autodromo Enzo e Dino Ferrari | ESPN
URL:https://alwaysraceday.com/schedule/formula-1-emilia-romagna-grand-prix/
CATEGORIES:Asphalt
ATTACH;FMTTYPE=image/png:https://alwaysraceday.com/wp-content/uploads/2020/06/Formula-1-Logo-PNG-File.png
END:VEVENT
BEGIN:VEVENT
DTSTART;TZID=America/Chicago:20201031T153000
DTEND;TZID=America/Chicago:20201031T180000
DTSTAMP:20260425T181141
CREATED:20200812T151931Z
LAST-MODIFIED:20200812T151931Z
UID:4496-1604158200-1604167200@alwaysraceday.com
SUMMARY:NASCAR Xfinity Playoffs @ Martinsville
DESCRIPTION:Martinsville Speedway | NBC
URL:https://alwaysraceday.com/schedule/nascar-xfinity-playoffs-martinsville/
CATEGORIES:Asphalt
ATTACH;FMTTYPE=image/png:https://alwaysraceday.com/wp-content/uploads/2020/06/NASCAR_Xfinity_Series_logo_2018.png
END:VEVENT
BEGIN:VEVENT
DTSTART;TZID=America/Chicago:20201030T190000
DTEND;TZID=America/Chicago:20201030T210000
DTSTAMP:20260425T181141
CREATED:20200812T145251Z
LAST-MODIFIED:20200812T145251Z
UID:4474-1604084400-1604091600@alwaysraceday.com
SUMMARY:NASCAR Truck Series @ Martinsville
DESCRIPTION:Martinsville Speedway | Fox Sports 1
URL:https://alwaysraceday.com/schedule/nascar-truck-series-martinsville/
CATEGORIES:Asphalt
ATTACH;FMTTYPE=image/png:https://alwaysraceday.com/wp-content/uploads/2020/06/NASCAR_Gander_RV__Outdoors_Truck_Series_logo.png
END:VEVENT
BEGIN:VEVENT
DTSTART;TZID=America/Chicago:20201025T200000
DTEND;TZID=America/Chicago:20201025T230000
DTSTAMP:20260425T181141
CREATED:20200908T174153Z
LAST-MODIFIED:20200908T174153Z
UID:4864-1603656000-1603666800@alwaysraceday.com
SUMMARY:NHRA SpringNationals
DESCRIPTION:Houston Raceway Park | Fox Sports 1
URL:https://alwaysraceday.com/schedule/nhra-springnationals/
CATEGORIES:Asphalt
ATTACH;FMTTYPE=image/jpeg:https://alwaysraceday.com/wp-content/uploads/2020/06/NHRA_logo-678.jpg
END:VEVENT
BEGIN:VEVENT
DTSTART;TZID=America/Chicago:20201025T143000
DTEND;TZID=America/Chicago:20201025T170000
DTSTAMP:20260425T181141
CREATED:20200616T071832Z
LAST-MODIFIED:20200616T071832Z
UID:2976-1603636200-1603645200@alwaysraceday.com
SUMMARY:IndyCar Season Finale @ St. Petersburg
DESCRIPTION:Streets of St. Petersburg | TV TBA
URL:https://alwaysraceday.com/schedule/indycar-season-finale-st-petersburg/
CATEGORIES:Asphalt
ATTACH;FMTTYPE=image/png:https://alwaysraceday.com/wp-content/uploads/2020/06/indycar.png
END:VEVENT
BEGIN:VEVENT
DTSTART;TZID=America/Chicago:20201025T140000
DTEND;TZID=America/Chicago:20201025T170000
DTSTAMP:20260425T181141
CREATED:20200818T195413Z
LAST-MODIFIED:20200818T195413Z
UID:4572-1603634400-1603645200@alwaysraceday.com
SUMMARY:NASCAR Cup Series Playoffs @ Texas
DESCRIPTION:Texas Motor Speedway | NBCSN
URL:https://alwaysraceday.com/schedule/nascar-cup-series-playoffs-texas/
CATEGORIES:Asphalt
ATTACH;FMTTYPE=image/png:https://alwaysraceday.com/wp-content/uploads/2020/06/NASCAR_Cup_Series_logo.png
END:VEVENT
BEGIN:VEVENT
DTSTART;TZID=America/Chicago:20201025T110000
DTEND;TZID=America/Chicago:20201025T140000
DTSTAMP:20260425T181141
CREATED:20200812T145034Z
LAST-MODIFIED:20200812T145034Z
UID:4472-1603623600-1603634400@alwaysraceday.com
SUMMARY:NASCAR Truck Series @ Texas
DESCRIPTION:Texas Motor Speedway | Fox Sports 1
URL:https://alwaysraceday.com/schedule/nascar-truck-series-texas-2/
CATEGORIES:Asphalt
ATTACH;FMTTYPE=image/png:https://alwaysraceday.com/wp-content/uploads/2020/06/NASCAR_Gander_RV__Outdoors_Truck_Series_logo.png
END:VEVENT
BEGIN:VEVENT
DTSTART;TZID=America/Chicago:20201025T080000
DTEND;TZID=America/Chicago:20201025T100000
DTSTAMP:20260425T181141
CREATED:20200908T173705Z
LAST-MODIFIED:20200908T173705Z
UID:4860-1603612800-1603620000@alwaysraceday.com
SUMMARY:Formula 1 Portuguese Grand Prix
DESCRIPTION:Algarve International Circuit | ESPN
URL:https://alwaysraceday.com/schedule/formula-1-portuguese-grand-prix/
CATEGORIES:Asphalt
ATTACH;FMTTYPE=image/png:https://alwaysraceday.com/wp-content/uploads/2020/06/Formula-1-Logo-PNG-File.png
END:VEVENT
BEGIN:VEVENT
DTSTART;TZID=America/Chicago:20201024T143000
DTEND;TZID=America/Chicago:20201024T170000
DTSTAMP:20260425T181141
CREATED:20200812T151827Z
LAST-MODIFIED:20200812T151827Z
UID:4494-1603549800-1603558800@alwaysraceday.com
SUMMARY:NASCAR Xfinity Playoffs @ Texas
DESCRIPTION:Texas Motor Speedway | NBCSN
URL:https://alwaysraceday.com/schedule/nascar-xfinity-playoffs-texas/
CATEGORIES:Asphalt
ATTACH;FMTTYPE=image/png:https://alwaysraceday.com/wp-content/uploads/2020/06/NASCAR_Xfinity_Series_logo_2018.png
END:VEVENT
BEGIN:VEVENT
DTSTART;VALUE=DATE:20201024
DTEND;VALUE=DATE:20201025
DTSTAMP:20260425T181141
CREATED:20200908T164313Z
LAST-MODIFIED:20200908T164313Z
UID:4834-1603497600-1603583999@alwaysraceday.com
SUMMARY:ARCA West @ Kern County
DESCRIPTION:Kern County Raceway Park | NBC TrackPass
URL:https://alwaysraceday.com/schedule/arca-west-kern-county/
CATEGORIES:Asphalt
ATTACH;FMTTYPE=image/png:https://alwaysraceday.com/wp-content/uploads/2020/06/1200px-ARCA_Menards_Series_Logo.svg.png
END:VEVENT
END:VCALENDAR