BEGIN:VCALENDAR
VERSION:2.0
PRODID:-//Always Race Day - ECPv6.15.20//NONSGML v1.0//EN
CALSCALE:GREGORIAN
METHOD:PUBLISH
X-WR-CALNAME:Always Race Day
X-ORIGINAL-URL:https://alwaysraceday.com
X-WR-CALDESC:Events for Always Race Day
REFRESH-INTERVAL;VALUE=DURATION:PT1H
X-Robots-Tag:noindex
X-PUBLISHED-TTL:PT1H
BEGIN:VTIMEZONE
TZID:America/Chicago
BEGIN:DAYLIGHT
TZOFFSETFROM:-0600
TZOFFSETTO:-0500
TZNAME:CDT
DTSTART:20190310T080000
END:DAYLIGHT
BEGIN:STANDARD
TZOFFSETFROM:-0500
TZOFFSETTO:-0600
TZNAME:CST
DTSTART:20191103T070000
END:STANDARD
BEGIN:DAYLIGHT
TZOFFSETFROM:-0600
TZOFFSETTO:-0500
TZNAME:CDT
DTSTART:20200308T080000
END:DAYLIGHT
BEGIN:STANDARD
TZOFFSETFROM:-0500
TZOFFSETTO:-0600
TZNAME:CST
DTSTART:20201101T070000
END:STANDARD
BEGIN:DAYLIGHT
TZOFFSETFROM:-0600
TZOFFSETTO:-0500
TZNAME:CDT
DTSTART:20210314T080000
END:DAYLIGHT
BEGIN:STANDARD
TZOFFSETFROM:-0500
TZOFFSETTO:-0600
TZNAME:CST
DTSTART:20211107T070000
END:STANDARD
END:VTIMEZONE
BEGIN:VEVENT
DTSTART;TZID=America/Chicago:20201011T120000
DTEND;TZID=America/Chicago:20201011T170000
DTSTAMP:20260425T225612
CREATED:20200812T141722Z
LAST-MODIFIED:20200812T141722Z
UID:4454-1602417600-1602435600@alwaysraceday.com
SUMMARY:NASCAR Whelen Modified Series @ Thompson
DESCRIPTION:Thompson Speedway Motorsports Park | NBC TrackPass
URL:https://alwaysraceday.com/schedule/nascar-whelen-modified-series-thompson-2/
CATEGORIES:Asphalt
ATTACH;FMTTYPE=image/png:https://alwaysraceday.com/wp-content/uploads/2020/08/NWMT_RGB_PRT.png
END:VEVENT
BEGIN:VEVENT
DTSTART;TZID=America/Chicago:20201011T071000
DTEND;TZID=America/Chicago:20201011T090000
DTSTAMP:20260425T225612
CREATED:20200908T173124Z
LAST-MODIFIED:20200908T173124Z
UID:4856-1602400200-1602406800@alwaysraceday.com
SUMMARY:Formula 1 Eifel Grand Prix
DESCRIPTION:Nurburgring | ESPN
URL:https://alwaysraceday.com/schedule/formula-1-eifel-grand-prix/
CATEGORIES:Asphalt
ATTACH;FMTTYPE=image/png:https://alwaysraceday.com/wp-content/uploads/2020/06/Formula-1-Logo-PNG-File.png
END:VEVENT
BEGIN:VEVENT
DTSTART;TZID=America/Chicago:20201010T143000
DTEND;TZID=America/Chicago:20201010T170000
DTSTAMP:20260425T225612
CREATED:20200812T151202Z
LAST-MODIFIED:20200812T151202Z
UID:4490-1602340200-1602349200@alwaysraceday.com
SUMMARY:NASCAR Xfinity Playoffs @ The Roval
DESCRIPTION:The Roval at Charlotte | NBC
URL:https://alwaysraceday.com/schedule/nascar-xfinity-playoffs-the-roval/
CATEGORIES:Asphalt
ATTACH;FMTTYPE=image/png:https://alwaysraceday.com/wp-content/uploads/2020/06/NASCAR_Xfinity_Series_logo_2018.png
END:VEVENT
BEGIN:VEVENT
DTSTART;VALUE=DATE:20201010
DTEND;VALUE=DATE:20201011
DTSTAMP:20260425T225612
CREATED:20200908T164120Z
LAST-MODIFIED:20200908T164120Z
UID:4832-1602288000-1602374399@alwaysraceday.com
SUMMARY:ARCA West @ All American Speedway
DESCRIPTION:All American Speedway | NBC TrackPass
URL:https://alwaysraceday.com/schedule/arca-west-all-american-speedway/
CATEGORIES:Asphalt
ATTACH;FMTTYPE=image/png:https://alwaysraceday.com/wp-content/uploads/2020/06/1200px-ARCA_Menards_Series_Logo.svg.png
END:VEVENT
BEGIN:VEVENT
DTSTART;VALUE=DATE:20201010
DTEND;VALUE=DATE:20201011
DTSTAMP:20260425T225612
CREATED:20200908T162012Z
LAST-MODIFIED:20200908T162012Z
UID:4830-1602288000-1602374399@alwaysraceday.com
SUMMARY:ARCA East @ 5 Flags
DESCRIPTION:5 Flags Speedway | NBC TrackPass
URL:https://alwaysraceday.com/schedule/arca-east-5-flags/
CATEGORIES:Asphalt
ATTACH;FMTTYPE=image/png:https://alwaysraceday.com/wp-content/uploads/2020/06/1200px-ARCA_Menards_Series_Logo.svg.png
END:VEVENT
BEGIN:VEVENT
DTSTART;TZID=America/Chicago:20201004T180000
DTEND;TZID=America/Chicago:20201004T210000
DTSTAMP:20260425T225612
CREATED:20200908T171448Z
LAST-MODIFIED:20200908T171448Z
UID:4846-1601834400-1601845200@alwaysraceday.com
SUMMARY:NHRA Midwest Nationals @ Gateway
DESCRIPTION:World Wide Technologies Raceway at Gateway | Fox Sports 1
URL:https://alwaysraceday.com/schedule/nhra-midwest-nationals-gateway/
CATEGORIES:Asphalt
ATTACH;FMTTYPE=image/jpeg:https://alwaysraceday.com/wp-content/uploads/2020/06/NHRA_logo-678.jpg
END:VEVENT
BEGIN:VEVENT
DTSTART;TZID=America/Chicago:20201004T170000
DTEND;TZID=America/Chicago:20201004T210000
DTSTAMP:20260425T225612
CREATED:20200908T183634Z
LAST-MODIFIED:20200908T183634Z
UID:4878-1601830800-1601845200@alwaysraceday.com
SUMMARY:USAC Silver Crown Finale Race @ Toledo
DESCRIPTION:Toledo Speedway | FloRacing
URL:https://alwaysraceday.com/schedule/usac-silver-crown-finale-race-toledo/
CATEGORIES:Asphalt
ATTACH;FMTTYPE=image/png:https://alwaysraceday.com/wp-content/uploads/2020/08/2019_Silver_Crown_Black_200x145-1.png
END:VEVENT
BEGIN:VEVENT
DTSTART;TZID=America/Chicago:20201004T130000
DTEND;TZID=America/Chicago:20201004T170000
DTSTAMP:20260425T225612
CREATED:20200818T193945Z
LAST-MODIFIED:20200818T193945Z
UID:4566-1601816400-1601830800@alwaysraceday.com
SUMMARY:NASCAR Cup Series Playoffs @ Talladega
DESCRIPTION:Talladega Superspeedway | NBC
URL:https://alwaysraceday.com/schedule/nascar-cup-series-playoffs-talladega/
CATEGORIES:Asphalt
ATTACH;FMTTYPE=image/png:https://alwaysraceday.com/wp-content/uploads/2020/06/NASCAR_Cup_Series_logo.png
END:VEVENT
BEGIN:VEVENT
DTSTART;TZID=America/Chicago:20201003T153000
DTEND;TZID=America/Chicago:20201003T180000
DTSTAMP:20260425T225612
CREATED:20200812T151110Z
LAST-MODIFIED:20200812T151110Z
UID:4488-1601739000-1601748000@alwaysraceday.com
SUMMARY:NASCAR Xfinity Playoffs @ Talladega
DESCRIPTION:Talladega Superspeedway | NBCSN
URL:https://alwaysraceday.com/schedule/nascar-xfinity-playoffs-talladega/
CATEGORIES:Asphalt
ATTACH;FMTTYPE=image/png:https://alwaysraceday.com/wp-content/uploads/2020/06/NASCAR_Xfinity_Series_logo_2018.png
END:VEVENT
BEGIN:VEVENT
DTSTART;TZID=America/Chicago:20201003T145000
DTEND;TZID=America/Chicago:20201003T170000
DTSTAMP:20260425T225612
CREATED:20200616T071716Z
LAST-MODIFIED:20200616T071716Z
UID:2974-1601736600-1601744400@alwaysraceday.com
SUMMARY:IndyCar @ Indianapolis Road Course
DESCRIPTION:Indianapolis Motor Speedway Road Course | TV TBA
URL:https://alwaysraceday.com/schedule/indycar-indianapolis-road-course/
CATEGORIES:Asphalt
ATTACH;FMTTYPE=image/png:https://alwaysraceday.com/wp-content/uploads/2020/06/indycar.png
END:VEVENT
BEGIN:VEVENT
DTSTART;TZID=America/Chicago:20201003T120000
DTEND;TZID=America/Chicago:20201003T150000
DTSTAMP:20260425T225612
CREATED:20200812T144734Z
LAST-MODIFIED:20200812T144734Z
UID:4467-1601726400-1601737200@alwaysraceday.com
SUMMARY:NASCAR Truck Series @ Talladega
DESCRIPTION:Talladega Superspeedway | Fox Sports 1
URL:https://alwaysraceday.com/schedule/nascar-truck-series-talladega/
CATEGORIES:Asphalt
ATTACH;FMTTYPE=image/png:https://alwaysraceday.com/wp-content/uploads/2020/06/NASCAR_Gander_RV__Outdoors_Truck_Series_logo.png
END:VEVENT
BEGIN:VEVENT
DTSTART;TZID=America/Chicago:20200927T180000
DTEND;TZID=America/Chicago:20200927T210000
DTSTAMP:20260425T225612
CREATED:20200818T193732Z
LAST-MODIFIED:20200818T193732Z
UID:4564-1601229600-1601240400@alwaysraceday.com
SUMMARY:NASCAR Cup Series Playoffs @ Las Vegas
DESCRIPTION:Las Vegas Motor Speedway | NBCSN
URL:https://alwaysraceday.com/schedule/nascar-cup-series-playoffs-las-vegas/
CATEGORIES:Asphalt
ATTACH;FMTTYPE=image/png:https://alwaysraceday.com/wp-content/uploads/2020/06/NASCAR_Cup_Series_logo.png
END:VEVENT
BEGIN:VEVENT
DTSTART;TZID=America/Chicago:20200927T141500
DTEND;TZID=America/Chicago:20200927T170000
DTSTAMP:20260425T225612
CREATED:20200812T141433Z
LAST-MODIFIED:20200812T141433Z
UID:4452-1601216100-1601226000@alwaysraceday.com
SUMMARY:NASCAR Whelen Modified Series @ Stafford
DESCRIPTION:Stafford Motor Speedway | NBC TrackPass
URL:https://alwaysraceday.com/schedule/nascar-whelen-modified-series-stafford/
CATEGORIES:Asphalt
ATTACH;FMTTYPE=image/png:https://alwaysraceday.com/wp-content/uploads/2020/08/NWMT_RGB_PRT.png
END:VEVENT
BEGIN:VEVENT
DTSTART;TZID=America/Chicago:20200927T131000
DTEND;TZID=America/Chicago:20200927T150000
DTSTAMP:20260425T225612
CREATED:20200908T170216Z
LAST-MODIFIED:20200908T170216Z
UID:4839-1601212200-1601218800@alwaysraceday.com
SUMMARY:IMSA Acura Sports Car Challenge @ Mid-Ohio
DESCRIPTION:Mid-Ohio Sports Car Course | NBC TrackPass
URL:https://alwaysraceday.com/schedule/imsa-acura-sports-car-challenge-mid-ohio/
CATEGORIES:Asphalt
ATTACH;FMTTYPE=image/png:https://alwaysraceday.com/wp-content/uploads/2020/06/weathertech_championship.png
END:VEVENT
BEGIN:VEVENT
DTSTART;TZID=America/Chicago:20200927T130000
DTEND;TZID=America/Chicago:20200927T160000
DTSTAMP:20260425T225612
CREATED:20200908T171314Z
LAST-MODIFIED:20200908T171314Z
UID:4844-1601211600-1601222400@alwaysraceday.com
SUMMARY:NHRA GatorNationals
DESCRIPTION:Gainesville Raceway | Fox Sports 2
URL:https://alwaysraceday.com/schedule/nhra-gatornationals/
CATEGORIES:Asphalt
ATTACH;FMTTYPE=image/jpeg:https://alwaysraceday.com/wp-content/uploads/2020/06/NHRA_logo-678.jpg
END:VEVENT
BEGIN:VEVENT
DTSTART;TZID=America/Chicago:20200927T061000
DTEND;TZID=America/Chicago:20200927T080000
DTSTAMP:20260425T225612
CREATED:20200908T172031Z
LAST-MODIFIED:20200908T172031Z
UID:4850-1601187000-1601193600@alwaysraceday.com
SUMMARY:Formula 1 Russian Grand Prix
DESCRIPTION:Sochi Autodrom | ESPN2
URL:https://alwaysraceday.com/schedule/formula-1-russian-grand-prix/
CATEGORIES:Asphalt
ATTACH;FMTTYPE=image/png:https://alwaysraceday.com/wp-content/uploads/2020/06/Formula-1-Logo-PNG-File.png
END:VEVENT
BEGIN:VEVENT
DTSTART;TZID=America/Chicago:20200926T183000
DTEND;TZID=America/Chicago:20200926T213000
DTSTAMP:20260425T225612
CREATED:20200812T150855Z
LAST-MODIFIED:20200812T150855Z
UID:4486-1601145000-1601155800@alwaysraceday.com
SUMMARY:NASCAR Xfinity Playoffs @ Las Vegas
DESCRIPTION:Las Vegas Motor Speedway | NBCSN
URL:https://alwaysraceday.com/schedule/nascar-xfinity-playoffs-las-vegas/
CATEGORIES:Asphalt
ATTACH;FMTTYPE=image/png:https://alwaysraceday.com/wp-content/uploads/2020/06/NASCAR_Xfinity_Series_logo_2018.png
END:VEVENT
BEGIN:VEVENT
DTSTART;VALUE=DATE:20200926
DTEND;VALUE=DATE:20200927
DTSTAMP:20260425T225612
CREATED:20200908T160253Z
LAST-MODIFIED:20200908T160253Z
UID:4822-1601078400-1601164799@alwaysraceday.com
SUMMARY:ARCA Sioux Chief Showdown @ Memphis
DESCRIPTION:Memphis International Speedway | TBA
URL:https://alwaysraceday.com/schedule/arca-sioux-chief-showdown-memphis/
CATEGORIES:Asphalt
ATTACH;FMTTYPE=image/png:https://alwaysraceday.com/wp-content/uploads/2020/06/showdownarca.png
END:VEVENT
BEGIN:VEVENT
DTSTART;TZID=America/Chicago:20200925T200000
DTEND;TZID=America/Chicago:20200925T220000
DTSTAMP:20260425T225612
CREATED:20200812T144615Z
LAST-MODIFIED:20200812T144615Z
UID:4465-1601064000-1601071200@alwaysraceday.com
SUMMARY:NASCAR Truck Series @ Las Vegas
DESCRIPTION:Las Vegas Motor Speedway | Fox Sports 1
URL:https://alwaysraceday.com/schedule/nascar-truck-series-las-vegas/
CATEGORIES:Asphalt
ATTACH;FMTTYPE=image/png:https://alwaysraceday.com/wp-content/uploads/2020/06/NASCAR_Gander_RV__Outdoors_Truck_Series_logo.png
END:VEVENT
BEGIN:VEVENT
DTSTART;TZID=America/Chicago:20200920T142500
DTEND;TZID=America/Chicago:20200920T170000
DTSTAMP:20260425T225612
CREATED:20200616T071509Z
LAST-MODIFIED:20200616T071509Z
UID:2972-1600611900-1600621200@alwaysraceday.com
SUMMARY:IndyCar @ Laguna Seca
DESCRIPTION:Laguna Seca (Race 2 of 2) | TV TBA
URL:https://alwaysraceday.com/schedule/indycar-laguna-seca-2/
CATEGORIES:Asphalt
ATTACH;FMTTYPE=image/png:https://alwaysraceday.com/wp-content/uploads/2020/06/indycar.png
END:VEVENT
BEGIN:VEVENT
DTSTART;TZID=America/Chicago:20200919T190000
DTEND;TZID=America/Chicago:20200919T210000
DTSTAMP:20260425T225612
CREATED:20200812T141337Z
LAST-MODIFIED:20200812T141337Z
UID:4450-1600542000-1600549200@alwaysraceday.com
SUMMARY:NASCAR Whelen Modified Series @ Riverhead
DESCRIPTION:Riverhead Raceway | NBC TrackPass
URL:https://alwaysraceday.com/schedule/nascar-whelen-modified-series-riverhead/
CATEGORIES:Asphalt
ATTACH;FMTTYPE=image/png:https://alwaysraceday.com/wp-content/uploads/2020/08/NWMT_RGB_PRT.png
END:VEVENT
BEGIN:VEVENT
DTSTART;TZID=America/Chicago:20200919T183000
DTEND;TZID=America/Chicago:20200919T223000
DTSTAMP:20260425T225612
CREATED:20200818T191941Z
LAST-MODIFIED:20200818T191941Z
UID:4562-1600540200-1600554600@alwaysraceday.com
SUMMARY:NASCAR Cup Series Playoffs @ Bristol
DESCRIPTION:Bristol Motor Speedway | NBCSN
URL:https://alwaysraceday.com/schedule/nascar-cup-series-playoffs-bristol/
CATEGORIES:Asphalt
ATTACH;FMTTYPE=image/png:https://alwaysraceday.com/wp-content/uploads/2020/06/NASCAR_Cup_Series_logo.png
END:VEVENT
BEGIN:VEVENT
DTSTART;TZID=America/Chicago:20200919T142500
DTEND;TZID=America/Chicago:20200919T170000
DTSTAMP:20260425T225612
CREATED:20200616T071422Z
LAST-MODIFIED:20200616T071422Z
UID:2970-1600525500-1600534800@alwaysraceday.com
SUMMARY:IndyCar @ Laguna Seca
DESCRIPTION:Laguna Seca (Race 1 of 2) | TV TBA
URL:https://alwaysraceday.com/schedule/indycar-laguna-seca/
CATEGORIES:Asphalt
ATTACH;FMTTYPE=image/png:https://alwaysraceday.com/wp-content/uploads/2020/06/indycar.png
END:VEVENT
BEGIN:VEVENT
DTSTART;VALUE=DATE:20200919
DTEND;VALUE=DATE:20200920
DTSTAMP:20260425T225612
CREATED:20200908T161449Z
LAST-MODIFIED:20200908T161449Z
UID:4826-1600473600-1600559999@alwaysraceday.com
SUMMARY:ARCA Menards Series @ Winchester
DESCRIPTION:Winchester Speedway | NBC TrackPass
URL:https://alwaysraceday.com/schedule/arca-menards-series-winchester/
CATEGORIES:Asphalt
ATTACH;FMTTYPE=image/png:https://alwaysraceday.com/wp-content/uploads/2020/06/1200px-ARCA_Menards_Series_Logo.svg.png
END:VEVENT
BEGIN:VEVENT
DTSTART;TZID=America/Chicago:20200918T180000
DTEND;TZID=America/Chicago:20200918T210000
DTSTAMP:20260425T225612
CREATED:20200812T150445Z
LAST-MODIFIED:20200812T150445Z
UID:4484-1600452000-1600462800@alwaysraceday.com
SUMMARY:NASCAR Xfinity Series @ Bristol
DESCRIPTION:Bristol Motor Speedway | NBCSN
URL:https://alwaysraceday.com/schedule/nascar-xfinity-series-bristol/
CATEGORIES:Asphalt
ATTACH;FMTTYPE=image/png:https://alwaysraceday.com/wp-content/uploads/2020/06/NASCAR_Xfinity_Series_logo_2018.png
END:VEVENT
BEGIN:VEVENT
DTSTART;TZID=America/Chicago:20200917T183000
DTEND;TZID=America/Chicago:20200917T213000
DTSTAMP:20260425T225612
CREATED:20200812T144415Z
LAST-MODIFIED:20200812T144415Z
UID:4463-1600367400-1600378200@alwaysraceday.com
SUMMARY:NASCAR Truck Series @ Bristol
DESCRIPTION:Bristol Motor Speedway | Fox Sports 1
URL:https://alwaysraceday.com/schedule/nascar-truck-series-bristol/
CATEGORIES:Asphalt
ATTACH;FMTTYPE=image/png:https://alwaysraceday.com/wp-content/uploads/2020/06/NASCAR_Gander_RV__Outdoors_Truck_Series_logo.png
END:VEVENT
BEGIN:VEVENT
DTSTART;VALUE=DATE:20200917
DTEND;VALUE=DATE:20200918
DTSTAMP:20260425T225612
CREATED:20200902T205515Z
LAST-MODIFIED:20200902T205515Z
UID:4791-1600300800-1600387199@alwaysraceday.com
SUMMARY:ARCA Sioux Chief Showdown @ Bristol
DESCRIPTION:Bristol Motor Speedway | TBA
URL:https://alwaysraceday.com/schedule/arca-sioux-chief-showdown-bristol/
CATEGORIES:Asphalt
ATTACH;FMTTYPE=image/png:https://alwaysraceday.com/wp-content/uploads/2020/06/showdownarca.png
END:VEVENT
BEGIN:VEVENT
DTSTART;TZID=America/Chicago:20200913T144000
DTEND;TZID=America/Chicago:20200913T170000
DTSTAMP:20260425T225612
CREATED:20200616T071314Z
LAST-MODIFIED:20200616T071314Z
UID:2968-1600008000-1600016400@alwaysraceday.com
SUMMARY:IndyCar @ Portland
DESCRIPTION:Portland International Raceway
URL:https://alwaysraceday.com/schedule/indycar-portland/
CATEGORIES:Asphalt
ATTACH;FMTTYPE=image/png:https://alwaysraceday.com/wp-content/uploads/2020/06/indycar.png
END:VEVENT
BEGIN:VEVENT
DTSTART;TZID=America/Chicago:20200913T080000
DTEND;TZID=America/Chicago:20200913T100000
DTSTAMP:20260425T225612
CREATED:20200908T171831Z
LAST-MODIFIED:20200908T171831Z
UID:4848-1599984000-1599991200@alwaysraceday.com
SUMMARY:Formula 1 Tuscan Grand Prix
DESCRIPTION:Mugello Circuit | ESPN
URL:https://alwaysraceday.com/schedule/formula-1-tuscan-grand-prix/
CATEGORIES:Asphalt
ATTACH;FMTTYPE=image/png:https://alwaysraceday.com/wp-content/uploads/2020/06/Formula-1-Logo-PNG-File.png
END:VEVENT
BEGIN:VEVENT
DTSTART;TZID=America/Chicago:20200912T183000
DTEND;TZID=America/Chicago:20200912T213000
DTSTAMP:20260425T225612
CREATED:20200812T155848Z
LAST-MODIFIED:20200812T155904Z
UID:4503-1599935400-1599946200@alwaysraceday.com
SUMMARY:NASCAR Cup Series Playoffs @ Richmond
DESCRIPTION:Richmond Raceway | NBCSN
URL:https://alwaysraceday.com/schedule/nascar-cup-series-playoffs-richmond/
CATEGORIES:Asphalt
ATTACH;FMTTYPE=image/png:https://alwaysraceday.com/wp-content/uploads/2020/06/NASCAR_Cup_Series_logo.png
END:VEVENT
END:VCALENDAR