BEGIN:VCALENDAR
VERSION:2.0
PRODID:-//Always Race Day - ECPv6.15.20//NONSGML v1.0//EN
CALSCALE:GREGORIAN
METHOD:PUBLISH
X-ORIGINAL-URL:https://alwaysraceday.com
X-WR-CALDESC:Events for Always Race Day
REFRESH-INTERVAL;VALUE=DURATION:PT1H
X-Robots-Tag:noindex
X-PUBLISHED-TTL:PT1H
BEGIN:VTIMEZONE
TZID:America/Chicago
BEGIN:DAYLIGHT
TZOFFSETFROM:-0600
TZOFFSETTO:-0500
TZNAME:CDT
DTSTART:20220313T080000
END:DAYLIGHT
BEGIN:STANDARD
TZOFFSETFROM:-0500
TZOFFSETTO:-0600
TZNAME:CST
DTSTART:20221106T070000
END:STANDARD
BEGIN:DAYLIGHT
TZOFFSETFROM:-0600
TZOFFSETTO:-0500
TZNAME:CDT
DTSTART:20230312T080000
END:DAYLIGHT
BEGIN:STANDARD
TZOFFSETFROM:-0500
TZOFFSETTO:-0600
TZNAME:CST
DTSTART:20231105T070000
END:STANDARD
BEGIN:DAYLIGHT
TZOFFSETFROM:-0600
TZOFFSETTO:-0500
TZNAME:CDT
DTSTART:20240310T080000
END:DAYLIGHT
BEGIN:STANDARD
TZOFFSETFROM:-0500
TZOFFSETTO:-0600
TZNAME:CST
DTSTART:20241103T070000
END:STANDARD
END:VTIMEZONE
BEGIN:VEVENT
DTSTART;TZID=America/Chicago:20230827T150000
DTEND;TZID=America/Chicago:20230827T150000
DTSTAMP:20260423T044328
CREATED:20230307T233733Z
LAST-MODIFIED:20230307T233733Z
UID:15854-1693148400-1693148400@alwaysraceday.com
SUMMARY:NASCAR Truck Series @ Milwaukee (Round of 10\, Race 2)
DESCRIPTION:Milwaukee Mile | Fox Sports 1
URL:https://alwaysraceday.com/schedule/nascar-truck-series-milwaukee-round-of-10-race-2/
CATEGORIES:Asphalt
ATTACH;FMTTYPE=image/webp:https://alwaysraceday.com/wp-content/uploads/2023/02/nascar-craftsman-truck-series-logo-1.webp
END:VEVENT
BEGIN:VEVENT
DTSTART;TZID=America/Chicago:20230827T140000
DTEND;TZID=America/Chicago:20230827T140000
DTSTAMP:20260423T044328
CREATED:20221021T182333Z
LAST-MODIFIED:20221021T182333Z
UID:14051-1693144800-1693144800@alwaysraceday.com
SUMMARY:IndyCar @ Gateway
DESCRIPTION:World Wide Technology Raceway at Gateway | NBC
URL:https://alwaysraceday.com/schedule/indycar-gateway-3/
CATEGORIES:Asphalt
ATTACH;FMTTYPE=image/png:https://alwaysraceday.com/wp-content/uploads/2022/10/IndyCar_Series_logo.svg.png
END:VEVENT
BEGIN:VEVENT
DTSTART;TZID=America/Chicago:20230827T120000
DTEND;TZID=America/Chicago:20230827T120000
DTSTAMP:20260423T044328
CREATED:20230412T204246Z
LAST-MODIFIED:20230412T204246Z
UID:16173-1693137600-1693137600@alwaysraceday.com
SUMMARY:ARCA Menards / ARCA East @ Milwaukee Mile
DESCRIPTION:Milwaukee Mile | Fox Sports 1
URL:https://alwaysraceday.com/schedule/arca-menards-arca-east-milwaukee-mile/
CATEGORIES:Asphalt
ATTACH;FMTTYPE=image/png:https://alwaysraceday.com/wp-content/uploads/2023/04/ARCA_Menards_Series_Logo.svg.png
END:VEVENT
BEGIN:VEVENT
DTSTART;TZID=America/Chicago:20230826T180000
DTEND;TZID=America/Chicago:20230826T180000
DTSTAMP:20260423T044328
CREATED:20221214T214718Z
LAST-MODIFIED:20221214T214718Z
UID:14914-1693072800-1693072800@alwaysraceday.com
SUMMARY:NASCAR Cup Series Regular Season Finale @ Daytona
DESCRIPTION:Daytona International Speedway | NBC
URL:https://alwaysraceday.com/schedule/nascar-cup-series-regular-season-finale-daytona-3/
CATEGORIES:Asphalt
ATTACH;FMTTYPE=image/png:https://alwaysraceday.com/wp-content/uploads/2022/12/NASCAR_Cup_Series_logo.svg.png
END:VEVENT
BEGIN:VEVENT
DTSTART;TZID=America/Chicago:20230825T183000
DTEND;TZID=America/Chicago:20230825T183000
DTSTAMP:20260423T044328
CREATED:20230307T233519Z
LAST-MODIFIED:20230307T233519Z
UID:15852-1692988200-1692988200@alwaysraceday.com
SUMMARY:NASCAR Xfinity Series @ Daytona
DESCRIPTION:Daytona International Speedway | USA Network
URL:https://alwaysraceday.com/schedule/nascar-xfinity-series-daytona-5/
CATEGORIES:Asphalt
ATTACH;FMTTYPE=image/jpeg:https://alwaysraceday.com/wp-content/uploads/2023/02/NASCAR-Xfinity-Series-purple-logo-2022-NXS.jpg
END:VEVENT
BEGIN:VEVENT
DTSTART;TZID=America/Chicago:20230820T140000
DTEND;TZID=America/Chicago:20230820T140000
DTSTAMP:20260423T044328
CREATED:20221214T214531Z
LAST-MODIFIED:20221214T214531Z
UID:14912-1692540000-1692540000@alwaysraceday.com
SUMMARY:NASCAR Cup Series Go Bowling at The Glen
DESCRIPTION:Watkins Glen International | USA Network
URL:https://alwaysraceday.com/schedule/nascar-cup-series-go-bowling-at-the-glen/
CATEGORIES:Asphalt
ATTACH;FMTTYPE=image/png:https://alwaysraceday.com/wp-content/uploads/2022/12/NASCAR_Cup_Series_logo.svg.png
END:VEVENT
BEGIN:VEVENT
DTSTART;TZID=America/Chicago:20230820T130000
DTEND;TZID=America/Chicago:20230820T130000
DTSTAMP:20260423T044328
CREATED:20230412T204105Z
LAST-MODIFIED:20230412T204105Z
UID:16171-1692536400-1692536400@alwaysraceday.com
SUMMARY:ARCA Menards Series @ Illinois State Fairgrounds
DESCRIPTION:Springfield Mile at Illinois State Fairgrounds | Fox Sports 1
URL:https://alwaysraceday.com/schedule/arca-menards-series-illinois-state-fairgrounds/
CATEGORIES:Asphalt,Dirt
ATTACH;FMTTYPE=image/png:https://alwaysraceday.com/wp-content/uploads/2023/04/ARCA_Menards_Series_Logo.svg.png
END:VEVENT
BEGIN:VEVENT
DTSTART;TZID=America/Chicago:20230819T203000
DTEND;TZID=America/Chicago:20230819T203000
DTSTAMP:20260423T044328
CREATED:20230412T203253Z
LAST-MODIFIED:20230412T203253Z
UID:16169-1692477000-1692477000@alwaysraceday.com
SUMMARY:ARCA West @ Evergreen
DESCRIPTION:Evergreen Speedway | FloRacing
URL:https://alwaysraceday.com/schedule/arca-west-evergreen-2/
CATEGORIES:Asphalt
ATTACH;FMTTYPE=image/png:https://alwaysraceday.com/wp-content/uploads/2023/04/AMS_West_2020_Ver_1.png
END:VEVENT
BEGIN:VEVENT
DTSTART;TZID=America/Chicago:20230819T143000
DTEND;TZID=America/Chicago:20230819T143000
DTSTAMP:20260423T044328
CREATED:20230307T233305Z
LAST-MODIFIED:20230307T233305Z
UID:15850-1692455400-1692455400@alwaysraceday.com
SUMMARY:NASCAR Xfinity Series @ Watkins Glen
DESCRIPTION:Watkins Glen International | USA Network
URL:https://alwaysraceday.com/schedule/nascar-xfinity-series-watkins-glen-2/
CATEGORIES:Asphalt
ATTACH;FMTTYPE=image/jpeg:https://alwaysraceday.com/wp-content/uploads/2023/02/NASCAR-Xfinity-Series-purple-logo-2022-NXS.jpg
END:VEVENT
BEGIN:VEVENT
DTSTART;TZID=America/Chicago:20230818T170000
DTEND;TZID=America/Chicago:20230818T170000
DTSTAMP:20260423T044328
CREATED:20230412T203128Z
LAST-MODIFIED:20230412T203128Z
UID:16167-1692378000-1692378000@alwaysraceday.com
SUMMARY:ARCA Menards Series General Tire 100 at The Glen
DESCRIPTION:Watkins Glen International | Fox Sports 1
URL:https://alwaysraceday.com/schedule/arca-menards-series-general-tire-100-at-the-glen/
CATEGORIES:Asphalt
ATTACH;FMTTYPE=image/png:https://alwaysraceday.com/wp-content/uploads/2023/04/ARCA_Menards_Series_Logo.svg.png
END:VEVENT
BEGIN:VEVENT
DTSTART;TZID=America/Chicago:20230817T200000
DTEND;TZID=America/Chicago:20230817T200000
DTSTAMP:20260423T044328
CREATED:20221225T013916Z
LAST-MODIFIED:20221225T013916Z
UID:15207-1692302400-1692302400@alwaysraceday.com
SUMMARY:SRX season finale @ Lucas Oil Speedway
DESCRIPTION:Lucas Oil Speedway | ESPN
URL:https://alwaysraceday.com/schedule/srx-season-finale-lucas-oil-speedway/
CATEGORIES:Asphalt,Dirt
ATTACH;FMTTYPE=image/webp:https://alwaysraceday.com/wp-content/uploads/2022/12/CampingWorldShield.webp
END:VEVENT
BEGIN:VEVENT
DTSTART;TZID=America/Chicago:20230813T133000
DTEND;TZID=America/Chicago:20230813T133000
DTSTAMP:20260423T044328
CREATED:20221214T214405Z
LAST-MODIFIED:20221214T214405Z
UID:14910-1691933400-1691933400@alwaysraceday.com
SUMMARY:NASCAR Cup Series Verizon 200 @ The Brickyard
DESCRIPTION:Indianapolis Motor Speedway Road Course | NBC
URL:https://alwaysraceday.com/schedule/nascar-cup-series-verizon-200-the-brickyard/
CATEGORIES:Asphalt
ATTACH;FMTTYPE=image/png:https://alwaysraceday.com/wp-content/uploads/2022/12/NASCAR_Cup_Series_logo.svg.png
END:VEVENT
BEGIN:VEVENT
DTSTART;TZID=America/Chicago:20230812T163000
DTEND;TZID=America/Chicago:20230812T163000
DTSTAMP:20260423T044328
CREATED:20230301T164622Z
LAST-MODIFIED:20230301T164622Z
UID:15809-1691857800-1691857800@alwaysraceday.com
SUMMARY:NASCAR Xfinity Series @ Indianapolis Road Course
DESCRIPTION:Indianapolis Motor Speedway (Road Course) | USA Network
URL:https://alwaysraceday.com/schedule/nascar-xfinity-series-indianapolis-road-course-4/
CATEGORIES:Asphalt
ATTACH;FMTTYPE=image/jpeg:https://alwaysraceday.com/wp-content/uploads/2023/02/NASCAR-Xfinity-Series-purple-logo-2022-NXS.jpg
END:VEVENT
BEGIN:VEVENT
DTSTART;TZID=America/Chicago:20230812T110000
DTEND;TZID=America/Chicago:20230812T110000
DTSTAMP:20260423T044328
CREATED:20221021T182117Z
LAST-MODIFIED:20221021T182117Z
UID:14049-1691838000-1691838000@alwaysraceday.com
SUMMARY:IndyCar @ IMS Road Course
DESCRIPTION:Indianapolis Motor Speedway Road Course | USA Network
URL:https://alwaysraceday.com/schedule/indycar-ims-road-course-2/
CATEGORIES:Asphalt
ATTACH;FMTTYPE=image/png:https://alwaysraceday.com/wp-content/uploads/2022/10/IndyCar_Series_logo.svg.png
END:VEVENT
BEGIN:VEVENT
DTSTART;TZID=America/Chicago:20230811T200000
DTEND;TZID=America/Chicago:20230811T200000
DTSTAMP:20260423T044329
CREATED:20230301T164303Z
LAST-MODIFIED:20230301T164303Z
UID:15807-1691784000-1691784000@alwaysraceday.com
SUMMARY:NASCAR Truck Series @ Lucas Oil IRP (Round of 10\, Race 1)
DESCRIPTION:Lucas Oil Indianapolis Raceway Park | Fox Sports 1
URL:https://alwaysraceday.com/schedule/nascar-truck-series-lucas-oil-irp-round-of-10-race-1/
CATEGORIES:Asphalt
ATTACH;FMTTYPE=image/webp:https://alwaysraceday.com/wp-content/uploads/2023/02/nascar-craftsman-truck-series-logo-1.webp
END:VEVENT
BEGIN:VEVENT
DTSTART;TZID=America/Chicago:20230811T170000
DTEND;TZID=America/Chicago:20230811T170000
DTSTAMP:20260423T044329
CREATED:20230412T202005Z
LAST-MODIFIED:20230412T202005Z
UID:16165-1691773200-1691773200@alwaysraceday.com
SUMMARY:ARCA Menards / ARCA East @ Lucas Oil IRP
DESCRIPTION:Lucas Oil Indianapolis Raceway Park | Fox Sports 1
URL:https://alwaysraceday.com/schedule/arca-menards-arca-east-lucas-oil-irp/
CATEGORIES:Asphalt
ATTACH;FMTTYPE=image/png:https://alwaysraceday.com/wp-content/uploads/2023/04/ARCA_Menards_Series_Logo.svg.png
END:VEVENT
BEGIN:VEVENT
DTSTART;TZID=America/Chicago:20230810T200000
DTEND;TZID=America/Chicago:20230810T200000
DTSTAMP:20260423T044329
CREATED:20221225T013836Z
LAST-MODIFIED:20221225T013836Z
UID:15205-1691697600-1691697600@alwaysraceday.com
SUMMARY:SRX @ Eldora
DESCRIPTION:Eldora Speedway | ESPN
URL:https://alwaysraceday.com/schedule/srx-eldora-2/
CATEGORIES:Asphalt,Dirt
ATTACH;FMTTYPE=image/webp:https://alwaysraceday.com/wp-content/uploads/2022/12/CampingWorldShield.webp
END:VEVENT
BEGIN:VEVENT
DTSTART;TZID=America/Chicago:20230806T140000
DTEND;TZID=America/Chicago:20230806T140000
DTSTAMP:20260423T044329
CREATED:20221214T214227Z
LAST-MODIFIED:20221214T214227Z
UID:14908-1691330400-1691330400@alwaysraceday.com
SUMMARY:NASCAR Cup Series FireKeepers Casino 400 @ Michigan
DESCRIPTION:Michigan International Speedway | USA Network
URL:https://alwaysraceday.com/schedule/nascar-cup-series-firekeepers-casino-400-michigan/
CATEGORIES:Asphalt
ATTACH;FMTTYPE=image/png:https://alwaysraceday.com/wp-content/uploads/2022/12/NASCAR_Cup_Series_logo.svg.png
END:VEVENT
BEGIN:VEVENT
DTSTART;TZID=America/Chicago:20230806T140000
DTEND;TZID=America/Chicago:20230806T140000
DTSTAMP:20260423T044329
CREATED:20221021T181901Z
LAST-MODIFIED:20221021T181901Z
UID:14047-1691330400-1691330400@alwaysraceday.com
SUMMARY:IndyCar @ Streets of Nashville
DESCRIPTION:Streets of Nashville | NBC
URL:https://alwaysraceday.com/schedule/indycar-streets-of-nashville-2/
CATEGORIES:Asphalt
ATTACH;FMTTYPE=image/png:https://alwaysraceday.com/wp-content/uploads/2022/10/IndyCar_Series_logo.svg.png
END:VEVENT
BEGIN:VEVENT
DTSTART;TZID=America/Chicago:20230805T143000
DTEND;TZID=America/Chicago:20230805T143000
DTSTAMP:20260423T044329
CREATED:20230301T164053Z
LAST-MODIFIED:20230301T164053Z
UID:15805-1691245800-1691245800@alwaysraceday.com
SUMMARY:NASCAR Xfinity Series @ Michigan
DESCRIPTION:Michigan International Speedway | NBC
URL:https://alwaysraceday.com/schedule/nascar-xfinity-series-michigan-3/
CATEGORIES:Asphalt
ATTACH;FMTTYPE=image/jpeg:https://alwaysraceday.com/wp-content/uploads/2023/02/NASCAR-Xfinity-Series-purple-logo-2022-NXS.jpg
END:VEVENT
BEGIN:VEVENT
DTSTART;TZID=America/Chicago:20230804T170000
DTEND;TZID=America/Chicago:20230804T170000
DTSTAMP:20260423T044329
CREATED:20230412T201738Z
LAST-MODIFIED:20230412T201738Z
UID:16163-1691168400-1691168400@alwaysraceday.com
SUMMARY:ARCA Menards Series @ Michigan
DESCRIPTION:Michigan International Speedway | Fox Sports 1
URL:https://alwaysraceday.com/schedule/arca-menards-series-michigan-3/
CATEGORIES:Asphalt
ATTACH;FMTTYPE=image/png:https://alwaysraceday.com/wp-content/uploads/2023/04/ARCA_Menards_Series_Logo.svg.png
END:VEVENT
BEGIN:VEVENT
DTSTART;TZID=America/Chicago:20230803T200000
DTEND;TZID=America/Chicago:20230803T200000
DTSTAMP:20260423T044329
CREATED:20221225T013744Z
LAST-MODIFIED:20221225T013744Z
UID:15203-1691092800-1691092800@alwaysraceday.com
SUMMARY:SRX @ Berlin Raceway
DESCRIPTION:Berlin Raceway | ESPN
URL:https://alwaysraceday.com/schedule/srx-berlin-raceway/
CATEGORIES:Asphalt,Dirt
ATTACH;FMTTYPE=image/webp:https://alwaysraceday.com/wp-content/uploads/2022/12/CampingWorldShield.webp
END:VEVENT
BEGIN:VEVENT
DTSTART;TZID=America/Chicago:20230730T140000
DTEND;TZID=America/Chicago:20230730T140000
DTSTAMP:20260423T044329
CREATED:20221214T214036Z
LAST-MODIFIED:20221214T214036Z
UID:14906-1690725600-1690725600@alwaysraceday.com
SUMMARY:NASCAR Cup Series @ Richmond
DESCRIPTION:Richmond Raceway | USA Network
URL:https://alwaysraceday.com/schedule/nascar-cup-series-richmond-4/
CATEGORIES:Asphalt
ATTACH;FMTTYPE=image/png:https://alwaysraceday.com/wp-content/uploads/2022/12/NASCAR_Cup_Series_logo.svg.png
END:VEVENT
BEGIN:VEVENT
DTSTART;TZID=America/Chicago:20230729T223000
DTEND;TZID=America/Chicago:20230729T223000
DTSTAMP:20260423T044329
CREATED:20230412T194505Z
LAST-MODIFIED:20230412T194505Z
UID:16159-1690669800-1690669800@alwaysraceday.com
SUMMARY:ARCA West @ Shasta
DESCRIPTION:Shasta Speedway | FloRacing
URL:https://alwaysraceday.com/schedule/arca-west-shasta/
CATEGORIES:Asphalt
ATTACH;FMTTYPE=image/png:https://alwaysraceday.com/wp-content/uploads/2023/04/AMS_West_2020_Ver_1.png
END:VEVENT
BEGIN:VEVENT
DTSTART;TZID=America/Chicago:20230729T183000
DTEND;TZID=America/Chicago:20230729T183000
DTSTAMP:20260423T044329
CREATED:20230301T163809Z
LAST-MODIFIED:20230301T163809Z
UID:15803-1690655400-1690655400@alwaysraceday.com
SUMMARY:NASCAR Truck Series @ Richmond
DESCRIPTION:Richmond Raceway | Fox Sports 1
URL:https://alwaysraceday.com/schedule/nascar-truck-series-richmond-2/
CATEGORIES:Asphalt
ATTACH;FMTTYPE=image/webp:https://alwaysraceday.com/wp-content/uploads/2023/02/nascar-craftsman-truck-series-logo-1.webp
END:VEVENT
BEGIN:VEVENT
DTSTART;TZID=America/Chicago:20230729T140000
DTEND;TZID=America/Chicago:20230729T140000
DTSTAMP:20260423T044329
CREATED:20230301T163649Z
LAST-MODIFIED:20230301T163649Z
UID:15801-1690639200-1690639200@alwaysraceday.com
SUMMARY:NASCAR Xfinity Series @ Road America
DESCRIPTION:Road America | NBC
URL:https://alwaysraceday.com/schedule/nascar-xfinity-series-road-america-4/
CATEGORIES:Asphalt
ATTACH;FMTTYPE=image/jpeg:https://alwaysraceday.com/wp-content/uploads/2023/02/NASCAR-Xfinity-Series-purple-logo-2022-NXS.jpg
END:VEVENT
BEGIN:VEVENT
DTSTART;TZID=America/Chicago:20230727T200000
DTEND;TZID=America/Chicago:20230727T200000
DTSTAMP:20260423T044329
CREATED:20221225T013536Z
LAST-MODIFIED:20221225T013536Z
UID:15201-1690488000-1690488000@alwaysraceday.com
SUMMARY:SRX @ Motor Mile Speedway
DESCRIPTION:Motor Mile Speedway | ESPN
URL:https://alwaysraceday.com/schedule/srx-motor-mile-speedway/
CATEGORIES:Asphalt,Dirt
ATTACH;FMTTYPE=image/webp:https://alwaysraceday.com/wp-content/uploads/2022/12/CampingWorldShield.webp
END:VEVENT
BEGIN:VEVENT
DTSTART;TZID=America/Chicago:20230723T140000
DTEND;TZID=America/Chicago:20230723T140000
DTSTAMP:20260423T044329
CREATED:20221021T181716Z
LAST-MODIFIED:20221021T181716Z
UID:14045-1690120800-1690120800@alwaysraceday.com
SUMMARY:IndyCar Weekend @ Iowa Speedway Race 2
DESCRIPTION:Iowa Speedway | NBC
URL:https://alwaysraceday.com/schedule/indycar-weekend-iowa-speedway-race-2/
CATEGORIES:Asphalt
ATTACH;FMTTYPE=image/png:https://alwaysraceday.com/wp-content/uploads/2022/10/IndyCar_Series_logo.svg.png
END:VEVENT
BEGIN:VEVENT
DTSTART;TZID=America/Chicago:20230723T133000
DTEND;TZID=America/Chicago:20230723T133000
DTSTAMP:20260423T044329
CREATED:20221214T213908Z
LAST-MODIFIED:20221214T213908Z
UID:14904-1690119000-1690119000@alwaysraceday.com
SUMMARY:NASCAR Cup Series M&M's Fan Appreciation 400 @ Pocono
DESCRIPTION:Pocono Raceway | USA Network
URL:https://alwaysraceday.com/schedule/nascar-cup-series-mms-fan-appreciation-400-pocono/
CATEGORIES:Asphalt
ATTACH;FMTTYPE=image/png:https://alwaysraceday.com/wp-content/uploads/2022/12/NASCAR_Cup_Series_logo.svg.png
END:VEVENT
BEGIN:VEVENT
DTSTART;TZID=America/Chicago:20230722T163000
DTEND;TZID=America/Chicago:20230722T163000
DTSTAMP:20260423T044329
CREATED:20230301T163406Z
LAST-MODIFIED:20230301T163406Z
UID:15799-1690043400-1690043400@alwaysraceday.com
SUMMARY:NASCAR Xfinity Series @ Pocono
DESCRIPTION:Pocono Raceway | USA Network
URL:https://alwaysraceday.com/schedule/nascar-xfinity-series-pocono-4/
CATEGORIES:Asphalt
ATTACH;FMTTYPE=image/jpeg:https://alwaysraceday.com/wp-content/uploads/2023/02/NASCAR-Xfinity-Series-purple-logo-2022-NXS.jpg
END:VEVENT
END:VCALENDAR