BEGIN:VCALENDAR
VERSION:2.0
PRODID:-//Always Race Day - ECPv6.15.20//NONSGML v1.0//EN
CALSCALE:GREGORIAN
METHOD:PUBLISH
X-ORIGINAL-URL:https://alwaysraceday.com
X-WR-CALDESC:Events for Always Race Day
REFRESH-INTERVAL;VALUE=DURATION:PT1H
X-Robots-Tag:noindex
X-PUBLISHED-TTL:PT1H
BEGIN:VTIMEZONE
TZID:America/Chicago
BEGIN:DAYLIGHT
TZOFFSETFROM:-0600
TZOFFSETTO:-0500
TZNAME:CDT
DTSTART:20220313T080000
END:DAYLIGHT
BEGIN:STANDARD
TZOFFSETFROM:-0500
TZOFFSETTO:-0600
TZNAME:CST
DTSTART:20221106T070000
END:STANDARD
BEGIN:DAYLIGHT
TZOFFSETFROM:-0600
TZOFFSETTO:-0500
TZNAME:CDT
DTSTART:20230312T080000
END:DAYLIGHT
BEGIN:STANDARD
TZOFFSETFROM:-0500
TZOFFSETTO:-0600
TZNAME:CST
DTSTART:20231105T070000
END:STANDARD
BEGIN:DAYLIGHT
TZOFFSETFROM:-0600
TZOFFSETTO:-0500
TZNAME:CDT
DTSTART:20240310T080000
END:DAYLIGHT
BEGIN:STANDARD
TZOFFSETFROM:-0500
TZOFFSETTO:-0600
TZNAME:CST
DTSTART:20241103T070000
END:STANDARD
BEGIN:DAYLIGHT
TZOFFSETFROM:-0600
TZOFFSETTO:-0500
TZNAME:CDT
DTSTART:20250309T080000
END:DAYLIGHT
BEGIN:STANDARD
TZOFFSETFROM:-0500
TZOFFSETTO:-0600
TZNAME:CST
DTSTART:20251102T070000
END:STANDARD
END:VTIMEZONE
BEGIN:VEVENT
DTSTART;TZID=America/Chicago:20240810T184500
DTEND;TZID=America/Chicago:20240810T184500
DTSTAMP:20260423T014559
CREATED:20240117T210833Z
LAST-MODIFIED:20240117T210833Z
UID:17791-1723315500-1723315500@alwaysraceday.com
SUMMARY:63rd running of the Knoxville Nationals
DESCRIPTION:Knoxville Raceway | DirtVision
URL:https://alwaysraceday.com/schedule/63rd-running-of-the-knoxville-nationals/
CATEGORIES:Dirt,Iowa
ATTACH;FMTTYPE=image/png:https://alwaysraceday.com/wp-content/uploads/2024/01/img_16630.png
END:VEVENT
BEGIN:VEVENT
DTSTART;TZID=America/Chicago:20240809T080000
DTEND;TZID=America/Chicago:20240809T170000
DTSTAMP:20260423T014559
CREATED:20240117T210744Z
LAST-MODIFIED:20240117T210744Z
UID:17789-1723190400-1723222800@alwaysraceday.com
SUMMARY:Hard Knox Night at the 63rd Knoxville Nationals
DESCRIPTION:Knoxville Raceway | DirtVision
URL:https://alwaysraceday.com/schedule/hard-knox-night-at-the-63rd-knoxville-nationals/
CATEGORIES:Dirt,Iowa
ATTACH;FMTTYPE=image/png:https://alwaysraceday.com/wp-content/uploads/2024/01/img_16630.png
END:VEVENT
BEGIN:VEVENT
DTSTART;TZID=America/Chicago:20240808T184500
DTEND;TZID=America/Chicago:20240808T184500
DTSTAMP:20260423T014559
CREATED:20240117T210644Z
LAST-MODIFIED:20240117T210644Z
UID:17787-1723142700-1723142700@alwaysraceday.com
SUMMARY:Night 2 of the 63rd Knoxville Nationals
DESCRIPTION:Knoxville Raceway | DirtVision
URL:https://alwaysraceday.com/schedule/night-2-of-the-63rd-knoxville-nationals/
CATEGORIES:Dirt,Iowa
ATTACH;FMTTYPE=image/png:https://alwaysraceday.com/wp-content/uploads/2024/01/img_16630.png
END:VEVENT
BEGIN:VEVENT
DTSTART;TZID=America/Chicago:20240807T184500
DTEND;TZID=America/Chicago:20240807T184500
DTSTAMP:20260423T014559
CREATED:20240117T210313Z
LAST-MODIFIED:20240117T210313Z
UID:17785-1723056300-1723056300@alwaysraceday.com
SUMMARY:Night 1 of the 63rd Knoxville Nationals
DESCRIPTION:Knoxville Raceway | DirtVision
URL:https://alwaysraceday.com/schedule/night-1-of-the-63rd-knoxville-nationals/
CATEGORIES:Dirt,Iowa
ATTACH;FMTTYPE=image/png:https://alwaysraceday.com/wp-content/uploads/2024/01/img_16630.png
END:VEVENT
BEGIN:VEVENT
DTSTART;TZID=America/Chicago:20240805T180000
DTEND;TZID=America/Chicago:20240805T180000
DTSTAMP:20260423T014559
CREATED:20240117T205605Z
LAST-MODIFIED:20240117T205605Z
UID:17782-1722880800-1722880800@alwaysraceday.com
SUMMARY:29th annual Front Row Challenge @ Southern Iowa Speedway
DESCRIPTION:Southern Iowa Speedway (Oskaloosa) | FloRacing
URL:https://alwaysraceday.com/schedule/29th-annual-front-row-challenge-southern-iowa-speedway/
CATEGORIES:Dirt,Iowa
ATTACH;FMTTYPE=image/png:https://alwaysraceday.com/wp-content/uploads/2024/01/logo.png
END:VEVENT
BEGIN:VEVENT
DTSTART;TZID=America/Chicago:20240803T184500
DTEND;TZID=America/Chicago:20240803T184500
DTSTAMP:20260423T014559
CREATED:20240117T010810Z
LAST-MODIFIED:20240117T010810Z
UID:17778-1722710700-1722710700@alwaysraceday.com
SUMMARY:34th running of the Knoxville 360 Nationals
DESCRIPTION:Knoxville Raceway | DirtVision
URL:https://alwaysraceday.com/schedule/34th-running-of-the-knoxville-360-nationals/
CATEGORIES:Dirt,Iowa
ATTACH;FMTTYPE=image/png:https://alwaysraceday.com/wp-content/uploads/2024/01/img_17552.png
END:VEVENT
BEGIN:VEVENT
DTSTART;TZID=America/Chicago:20240802T184500
DTEND;TZID=America/Chicago:20240802T184500
DTSTAMP:20260423T014559
CREATED:20240117T010708Z
LAST-MODIFIED:20240117T010708Z
UID:17776-1722624300-1722624300@alwaysraceday.com
SUMMARY:Knoxville 360 Nationals prelim night 2
DESCRIPTION:Knoxville Raceway | DirtVision
URL:https://alwaysraceday.com/schedule/knoxville-360-nationals-prelim-night-2-2/
CATEGORIES:Dirt,Iowa
ATTACH;FMTTYPE=image/png:https://alwaysraceday.com/wp-content/uploads/2024/01/img_17552.png
END:VEVENT
BEGIN:VEVENT
DTSTART;TZID=America/Chicago:20240801T184500
DTEND;TZID=America/Chicago:20240801T184500
DTSTAMP:20260423T014559
CREATED:20240117T010316Z
LAST-MODIFIED:20240117T010316Z
UID:17770-1722537900-1722537900@alwaysraceday.com
SUMMARY:Knoxville 360 Nationals prelim night 1
DESCRIPTION:Knoxville Raceway | DirtVision
URL:https://alwaysraceday.com/schedule/knoxville-360-nationals-prelim-night-1-2/
CATEGORIES:Dirt,Iowa
ATTACH;FMTTYPE=image/png:https://alwaysraceday.com/wp-content/uploads/2024/01/img_17552.png
END:VEVENT
BEGIN:VEVENT
DTSTART;TZID=America/Chicago:20240625T180000
DTEND;TZID=America/Chicago:20240625T180000
DTSTAMP:20260423T014559
CREATED:20240426T213319Z
LAST-MODIFIED:20240426T213319Z
UID:18353-1719338400-1719338400@alwaysraceday.com
SUMMARY:World of Outlaws Late Models @ Hamilton County
DESCRIPTION:Hamilton County Speedway | DirtVision
URL:https://alwaysraceday.com/schedule/world-of-outlaws-late-models-hamilton-county/
CATEGORIES:Dirt,Iowa
ATTACH;FMTTYPE=image/jpeg:https://alwaysraceday.com/wp-content/uploads/2024/04/YYbHiMj1_400x400.jpg
END:VEVENT
BEGIN:VEVENT
DTSTART;TZID=America/Chicago:20240624T180000
DTEND;TZID=America/Chicago:20240624T180000
DTSTAMP:20260423T014559
CREATED:20240426T213110Z
LAST-MODIFIED:20240426T213110Z
UID:18351-1719252000-1719252000@alwaysraceday.com
SUMMARY:World of Outlaws Late Models @ Independence (Iowa)
DESCRIPTION:Independence Motor Speedway | DirtVision
URL:https://alwaysraceday.com/schedule/world-of-outlaws-late-models-independence-iowa/
CATEGORIES:Dirt,Iowa
ATTACH;FMTTYPE=image/jpeg:https://alwaysraceday.com/wp-content/uploads/2024/04/YYbHiMj1_400x400.jpg
END:VEVENT
BEGIN:VEVENT
DTSTART;TZID=America/Chicago:20240615T184500
DTEND;TZID=America/Chicago:20240615T184500
DTSTAMP:20260423T014559
CREATED:20240104T201443Z
LAST-MODIFIED:20240104T201443Z
UID:17681-1718477100-1718477100@alwaysraceday.com
SUMMARY:World of Outlaws Sprint Cars Eclipse Showdown @ Knoxville
DESCRIPTION:Knoxville Raceway | DirtVision
URL:https://alwaysraceday.com/schedule/world-of-outlaws-sprint-cars-eclipse-showdown-knoxville-2/
CATEGORIES:Dirt,Iowa
ATTACH;FMTTYPE=image/png:https://alwaysraceday.com/wp-content/uploads/2023/12/Cotton-Bowl-Speedway-World-Of-Outlaws-NOS.png
END:VEVENT
BEGIN:VEVENT
DTSTART;TZID=America/Chicago:20240614T184500
DTEND;TZID=America/Chicago:20240614T184500
DTSTAMP:20260423T014559
CREATED:20240104T201349Z
LAST-MODIFIED:20240104T201600Z
UID:17679-1718390700-1718390700@alwaysraceday.com
SUMMARY:World of Outlaws Sprint Cars Eclipse Showdown @ Knoxville
DESCRIPTION:Knoxville Raceway | DirtVision
URL:https://alwaysraceday.com/schedule/world-of-outlaws-sprint-cars-eclipse-showdown-knoxville/
CATEGORIES:Dirt,Iowa
ATTACH;FMTTYPE=image/png:https://alwaysraceday.com/wp-content/uploads/2023/12/Cotton-Bowl-Speedway-World-Of-Outlaws-NOS.png
END:VEVENT
BEGIN:VEVENT
DTSTART;TZID=America/Chicago:20240604T180000
DTEND;TZID=America/Chicago:20240604T180000
DTSTAMP:20260423T014559
CREATED:20240416T155427Z
LAST-MODIFIED:20240416T155427Z
UID:18209-1717524000-1717524000@alwaysraceday.com
SUMMARY:High Limit Sprint Cars @ Davenport Speedway
DESCRIPTION:Davenport Speedway | FloRacing\n$ – Midweek Money Series
URL:https://alwaysraceday.com/schedule/high-limit-sprint-cars-davenport-speedway/
CATEGORIES:Dirt,Iowa
ATTACH;FMTTYPE=image/jpeg:https://alwaysraceday.com/wp-content/uploads/2024/04/profile-sH3C4yzT87gRM6x920008.jpg
END:VEVENT
BEGIN:VEVENT
DTSTART;TZID=America/Chicago:20240510T180000
DTEND;TZID=America/Chicago:20240510T180000
DTSTAMP:20260423T014559
CREATED:20240416T010411Z
LAST-MODIFIED:20240416T010411Z
UID:18187-1715364000-1715364000@alwaysraceday.com
SUMMARY:High Limit Sprint Cars @ Burlington (Iowa)
DESCRIPTION:34 Raceway | FloRacing
URL:https://alwaysraceday.com/schedule/high-limit-sprint-cars-burlington-iowa/
CATEGORIES:Dirt,Iowa
ATTACH;FMTTYPE=image/jpeg:https://alwaysraceday.com/wp-content/uploads/2024/04/profile-sH3C4yzT87gRM6x920008.jpg
END:VEVENT
BEGIN:VEVENT
DTSTART;TZID=America/Chicago:20231006T183000
DTEND;TZID=America/Chicago:20231006T183000
DTSTAMP:20260423T014559
CREATED:20221111T154554Z
LAST-MODIFIED:20221111T154554Z
UID:14363-1696617000-1696617000@alwaysraceday.com
SUMMARY:World of Outlaws West Burlington Showdown
DESCRIPTION:34 Raceway | DirtVision
URL:https://alwaysraceday.com/schedule/world-of-outlaws-west-burlington-showdown/
CATEGORIES:Dirt,Iowa
ATTACH;FMTTYPE=image/webp:https://alwaysraceday.com/wp-content/uploads/2022/11/2022_CASE_LMS_LOGO_SMALL.webp
END:VEVENT
BEGIN:VEVENT
DTSTART;TZID=America/Chicago:20230916T184500
DTEND;TZID=America/Chicago:20230916T184500
DTSTAMP:20260423T014559
CREATED:20221114T043156Z
LAST-MODIFIED:20221114T043156Z
UID:14517-1694889900-1694889900@alwaysraceday.com
SUMMARY:Lucas Dirt Late Models Knoxville Late Model Nationals
DESCRIPTION:Knoxville Raceway | FloRacing
URL:https://alwaysraceday.com/schedule/lucas-dirt-late-models-knoxville-late-model-nationals/
CATEGORIES:Dirt,Iowa
ATTACH;FMTTYPE=image/png:https://alwaysraceday.com/wp-content/uploads/2022/11/img_16632.png
END:VEVENT
BEGIN:VEVENT
DTSTART;TZID=America/Chicago:20230915T184500
DTEND;TZID=America/Chicago:20230915T184500
DTSTAMP:20260423T014559
CREATED:20221114T043105Z
LAST-MODIFIED:20221114T043105Z
UID:14515-1694803500-1694803500@alwaysraceday.com
SUMMARY:Lucas Dirt Late Models Knoxville Late Model Nationals Night 2
DESCRIPTION:Knoxville Raceway | FloRacing
URL:https://alwaysraceday.com/schedule/lucas-dirt-late-models-knoxville-late-model-nationals-night-2/
CATEGORIES:Dirt,Iowa
ATTACH;FMTTYPE=image/png:https://alwaysraceday.com/wp-content/uploads/2022/11/img_16632.png
END:VEVENT
BEGIN:VEVENT
DTSTART;TZID=America/Chicago:20230914T184500
DTEND;TZID=America/Chicago:20230914T184500
DTSTAMP:20260423T014559
CREATED:20221114T042943Z
LAST-MODIFIED:20221114T042943Z
UID:14512-1694717100-1694717100@alwaysraceday.com
SUMMARY:Lucas Dirt Late Models Knoxville Late Model Nationals Night 1
DESCRIPTION:Knoxville Raceway | FloRacing
URL:https://alwaysraceday.com/schedule/lucas-dirt-late-models-knoxville-late-model-nationals-night-1/
CATEGORIES:Dirt,Iowa
ATTACH;FMTTYPE=image/png:https://alwaysraceday.com/wp-content/uploads/2022/11/img_16632.png
END:VEVENT
BEGIN:VEVENT
DTSTART;TZID=America/Chicago:20230901T180000
DTEND;TZID=America/Chicago:20230901T180000
DTSTAMP:20260423T014559
CREATED:20230411T173347Z
LAST-MODIFIED:20230411T173347Z
UID:16128-1693591200-1693591200@alwaysraceday.com
SUMMARY:Karl Chevrolet Dirt Trucks season finale @ Marshalltown
DESCRIPTION:Marshalltown Speedway
URL:https://alwaysraceday.com/schedule/karl-chevrolet-dirt-trucks-season-finale-marshalltown/
CATEGORIES:Dirt,Iowa
ATTACH;FMTTYPE=image/jpeg:https://alwaysraceday.com/wp-content/uploads/2023/04/Screenshot-2023-04-11-114838.jpg
END:VEVENT
BEGIN:VEVENT
DTSTART;TZID=America/Chicago:20230826T184500
DTEND;TZID=America/Chicago:20230826T184500
DTSTAMP:20260423T014559
CREATED:20221223T135925Z
LAST-MODIFIED:20221223T135925Z
UID:15190-1693075500-1693075500@alwaysraceday.com
SUMMARY:Knoxville Weekly Racing track championship night
DESCRIPTION:Knoxville Raceway | DirtVision
URL:https://alwaysraceday.com/schedule/knoxville-weekly-racing-track-championship-night/
CATEGORIES:Dirt,Iowa
ATTACH;FMTTYPE=image/png:https://alwaysraceday.com/wp-content/uploads/2022/12/logo.png
END:VEVENT
BEGIN:VEVENT
DTSTART;TZID=America/Chicago:20230826T180000
DTEND;TZID=America/Chicago:20230826T180000
DTSTAMP:20260423T014559
CREATED:20221111T153038Z
LAST-MODIFIED:20221111T153038Z
UID:14356-1693072800-1693072800@alwaysraceday.com
SUMMARY:World of Outlaws Late Models Quad Cities 150 finale
DESCRIPTION:Davenport Speedway | DirtVision
URL:https://alwaysraceday.com/schedule/world-of-outlaws-late-models-quad-cities-150-finale/
CATEGORIES:Dirt,Iowa
ATTACH;FMTTYPE=image/webp:https://alwaysraceday.com/wp-content/uploads/2022/11/2021_QUAD_CITY_SHOWDOWN_FINAL-1200px.webp
END:VEVENT
BEGIN:VEVENT
DTSTART;TZID=America/Chicago:20230825T180000
DTEND;TZID=America/Chicago:20230825T180000
DTSTAMP:20260423T014559
CREATED:20230411T173036Z
LAST-MODIFIED:20230411T173036Z
UID:16126-1692986400-1692986400@alwaysraceday.com
SUMMARY:Karl Chevrolet Dirt Trucks @ Crawford County
DESCRIPTION:Crawford County Speedway
URL:https://alwaysraceday.com/schedule/karl-chevrolet-dirt-trucks-crawford-county/
CATEGORIES:Dirt,Iowa
ATTACH;FMTTYPE=image/jpeg:https://alwaysraceday.com/wp-content/uploads/2023/04/Screenshot-2023-04-11-114838.jpg
END:VEVENT
BEGIN:VEVENT
DTSTART;TZID=America/Chicago:20230825T180000
DTEND;TZID=America/Chicago:20230825T180000
DTSTAMP:20260423T014559
CREATED:20221111T152848Z
LAST-MODIFIED:20221111T152848Z
UID:14354-1692986400-1692986400@alwaysraceday.com
SUMMARY:World of Outlaws Late Models Quad Cities 150 night 2
DESCRIPTION:Davenport Speedway | DirtVision
URL:https://alwaysraceday.com/schedule/world-of-outlaws-late-models-quad-cities-150-night-2/
CATEGORIES:Dirt,Iowa
ATTACH;FMTTYPE=image/webp:https://alwaysraceday.com/wp-content/uploads/2022/11/2021_QUAD_CITY_SHOWDOWN_FINAL-1200px.webp
END:VEVENT
BEGIN:VEVENT
DTSTART;TZID=America/Chicago:20230824T180000
DTEND;TZID=America/Chicago:20230824T180000
DTSTAMP:20260423T014559
CREATED:20221111T152223Z
LAST-MODIFIED:20221111T152223Z
UID:14352-1692900000-1692900000@alwaysraceday.com
SUMMARY:World of Outlaws Late Models Quad Cities 150 night 1
DESCRIPTION:Davenport Speedway | DirtVision
URL:https://alwaysraceday.com/schedule/world-of-outlaws-late-models-quad-cities-150-night-1/
CATEGORIES:Dirt,Iowa
ATTACH;FMTTYPE=image/webp:https://alwaysraceday.com/wp-content/uploads/2022/11/2021_QUAD_CITY_SHOWDOWN_FINAL-1200px.webp
END:VEVENT
BEGIN:VEVENT
DTSTART;TZID=America/Chicago:20230812T184500
DTEND;TZID=America/Chicago:20230812T184500
DTSTAMP:20260423T014559
CREATED:20221210T235459Z
LAST-MODIFIED:20221210T235459Z
UID:14776-1691865900-1691865900@alwaysraceday.com
SUMMARY:The 62nd running of the Knoxville Nationals
DESCRIPTION:Knoxville Raceway | DirtVision
URL:https://alwaysraceday.com/schedule/the-62nd-running-of-the-knoxville-nationals/
CATEGORIES:Dirt,Iowa
ATTACH;FMTTYPE=image/webp:https://alwaysraceday.com/wp-content/uploads/2022/12/kxl-nationals-NOS-2022-logo-png-1.webp
END:VEVENT
BEGIN:VEVENT
DTSTART;TZID=America/Chicago:20230811T184500
DTEND;TZID=America/Chicago:20230811T184500
DTSTAMP:20260423T014559
CREATED:20221210T235356Z
LAST-MODIFIED:20221210T235356Z
UID:14774-1691779500-1691779500@alwaysraceday.com
SUMMARY:Hard Knox Night at the Knoxville Nationals
DESCRIPTION:Knoxville Raceway | DirtVision
URL:https://alwaysraceday.com/schedule/hard-knox-night-at-the-knoxville-nationals/
CATEGORIES:Dirt,Iowa
ATTACH;FMTTYPE=image/webp:https://alwaysraceday.com/wp-content/uploads/2022/12/kxl-nationals-NOS-2022-logo-png-1.webp
END:VEVENT
BEGIN:VEVENT
DTSTART;TZID=America/Chicago:20230810T184500
DTEND;TZID=America/Chicago:20230810T184500
DTSTAMP:20260423T014559
CREATED:20221210T235312Z
LAST-MODIFIED:20221210T235312Z
UID:14772-1691693100-1691693100@alwaysraceday.com
SUMMARY:Knoxville Nationals Night 2
DESCRIPTION:Knoxville Raceway | DirtVision
URL:https://alwaysraceday.com/schedule/knoxville-nationals-night-2/
CATEGORIES:Dirt,Iowa
ATTACH;FMTTYPE=image/webp:https://alwaysraceday.com/wp-content/uploads/2022/12/kxl-nationals-NOS-2022-logo-png-1.webp
END:VEVENT
BEGIN:VEVENT
DTSTART;TZID=America/Chicago:20230809T184500
DTEND;TZID=America/Chicago:20230809T184500
DTSTAMP:20260423T014559
CREATED:20221210T235225Z
LAST-MODIFIED:20221210T235225Z
UID:14769-1691606700-1691606700@alwaysraceday.com
SUMMARY:Knoxville Nationals Night 1
DESCRIPTION:Knoxville Raceway | DirtVision
URL:https://alwaysraceday.com/schedule/knoxville-nationals-night-1/
CATEGORIES:Dirt,Iowa
ATTACH;FMTTYPE=image/webp:https://alwaysraceday.com/wp-content/uploads/2022/12/kxl-nationals-NOS-2022-logo-png-1.webp
END:VEVENT
BEGIN:VEVENT
DTSTART;TZID=America/Chicago:20230807T180000
DTEND;TZID=America/Chicago:20230807T180000
DTSTAMP:20260423T014559
CREATED:20221223T135805Z
LAST-MODIFIED:20221223T135805Z
UID:15188-1691431200-1691431200@alwaysraceday.com
SUMMARY:27th Osky Challenges @ Southern Iowa Speedway
DESCRIPTION:Southern Iowa Speedway | FloRacing
URL:https://alwaysraceday.com/schedule/27th-osky-challenges-southern-iowa-speedway/
CATEGORIES:Dirt,Iowa
ATTACH;FMTTYPE=image/jpeg:https://alwaysraceday.com/wp-content/uploads/2022/12/7PJro_5-_400x400.jpg
END:VEVENT
BEGIN:VEVENT
DTSTART;TZID=America/Chicago:20230806T184500
DTEND;TZID=America/Chicago:20230806T184500
DTSTAMP:20260423T014559
CREATED:20221223T135659Z
LAST-MODIFIED:20221223T135659Z
UID:15186-1691347500-1691347500@alwaysraceday.com
SUMMARY:12th annual Capitani Classic @ Knoxville Raceway
DESCRIPTION:Knoxville Raceway | DirtVision
URL:https://alwaysraceday.com/schedule/12th-annual-capitani-classic-knoxville-raceway/
CATEGORIES:Dirt,Iowa
ATTACH;FMTTYPE=image/png:https://alwaysraceday.com/wp-content/uploads/2022/12/img_16988.png
END:VEVENT
END:VCALENDAR