BEGIN:VCALENDAR
VERSION:2.0
PRODID:-//Always Race Day - ECPv6.15.20//NONSGML v1.0//EN
CALSCALE:GREGORIAN
METHOD:PUBLISH
X-ORIGINAL-URL:https://alwaysraceday.com
X-WR-CALDESC:Events for Always Race Day
REFRESH-INTERVAL;VALUE=DURATION:PT1H
X-Robots-Tag:noindex
X-PUBLISHED-TTL:PT1H
BEGIN:VTIMEZONE
TZID:America/Chicago
BEGIN:DAYLIGHT
TZOFFSETFROM:-0600
TZOFFSETTO:-0500
TZNAME:CDT
DTSTART:20220313T080000
END:DAYLIGHT
BEGIN:STANDARD
TZOFFSETFROM:-0500
TZOFFSETTO:-0600
TZNAME:CST
DTSTART:20221106T070000
END:STANDARD
BEGIN:DAYLIGHT
TZOFFSETFROM:-0600
TZOFFSETTO:-0500
TZNAME:CDT
DTSTART:20230312T080000
END:DAYLIGHT
BEGIN:STANDARD
TZOFFSETFROM:-0500
TZOFFSETTO:-0600
TZNAME:CST
DTSTART:20231105T070000
END:STANDARD
BEGIN:DAYLIGHT
TZOFFSETFROM:-0600
TZOFFSETTO:-0500
TZNAME:CDT
DTSTART:20240310T080000
END:DAYLIGHT
BEGIN:STANDARD
TZOFFSETFROM:-0500
TZOFFSETTO:-0600
TZNAME:CST
DTSTART:20241103T070000
END:STANDARD
END:VTIMEZONE
BEGIN:VEVENT
DTSTART;TZID=America/Chicago:20230812T184500
DTEND;TZID=America/Chicago:20230812T184500
DTSTAMP:20260423T045514
CREATED:20221210T235459Z
LAST-MODIFIED:20221210T235459Z
UID:14776-1691865900-1691865900@alwaysraceday.com
SUMMARY:The 62nd running of the Knoxville Nationals
DESCRIPTION:Knoxville Raceway | DirtVision
URL:https://alwaysraceday.com/schedule/the-62nd-running-of-the-knoxville-nationals/
CATEGORIES:Dirt,Iowa
ATTACH;FMTTYPE=image/webp:https://alwaysraceday.com/wp-content/uploads/2022/12/kxl-nationals-NOS-2022-logo-png-1.webp
END:VEVENT
BEGIN:VEVENT
DTSTART;TZID=America/Chicago:20230811T184500
DTEND;TZID=America/Chicago:20230811T184500
DTSTAMP:20260423T045514
CREATED:20221210T235356Z
LAST-MODIFIED:20221210T235356Z
UID:14774-1691779500-1691779500@alwaysraceday.com
SUMMARY:Hard Knox Night at the Knoxville Nationals
DESCRIPTION:Knoxville Raceway | DirtVision
URL:https://alwaysraceday.com/schedule/hard-knox-night-at-the-knoxville-nationals/
CATEGORIES:Dirt,Iowa
ATTACH;FMTTYPE=image/webp:https://alwaysraceday.com/wp-content/uploads/2022/12/kxl-nationals-NOS-2022-logo-png-1.webp
END:VEVENT
BEGIN:VEVENT
DTSTART;TZID=America/Chicago:20230810T184500
DTEND;TZID=America/Chicago:20230810T184500
DTSTAMP:20260423T045514
CREATED:20221210T235312Z
LAST-MODIFIED:20221210T235312Z
UID:14772-1691693100-1691693100@alwaysraceday.com
SUMMARY:Knoxville Nationals Night 2
DESCRIPTION:Knoxville Raceway | DirtVision
URL:https://alwaysraceday.com/schedule/knoxville-nationals-night-2/
CATEGORIES:Dirt,Iowa
ATTACH;FMTTYPE=image/webp:https://alwaysraceday.com/wp-content/uploads/2022/12/kxl-nationals-NOS-2022-logo-png-1.webp
END:VEVENT
BEGIN:VEVENT
DTSTART;TZID=America/Chicago:20230809T184500
DTEND;TZID=America/Chicago:20230809T184500
DTSTAMP:20260423T045514
CREATED:20221210T235225Z
LAST-MODIFIED:20221210T235225Z
UID:14769-1691606700-1691606700@alwaysraceday.com
SUMMARY:Knoxville Nationals Night 1
DESCRIPTION:Knoxville Raceway | DirtVision
URL:https://alwaysraceday.com/schedule/knoxville-nationals-night-1/
CATEGORIES:Dirt,Iowa
ATTACH;FMTTYPE=image/webp:https://alwaysraceday.com/wp-content/uploads/2022/12/kxl-nationals-NOS-2022-logo-png-1.webp
END:VEVENT
BEGIN:VEVENT
DTSTART;TZID=America/Chicago:20230807T180000
DTEND;TZID=America/Chicago:20230807T180000
DTSTAMP:20260423T045514
CREATED:20221223T135805Z
LAST-MODIFIED:20221223T135805Z
UID:15188-1691431200-1691431200@alwaysraceday.com
SUMMARY:27th Osky Challenges @ Southern Iowa Speedway
DESCRIPTION:Southern Iowa Speedway | FloRacing
URL:https://alwaysraceday.com/schedule/27th-osky-challenges-southern-iowa-speedway/
CATEGORIES:Dirt,Iowa
ATTACH;FMTTYPE=image/jpeg:https://alwaysraceday.com/wp-content/uploads/2022/12/7PJro_5-_400x400.jpg
END:VEVENT
BEGIN:VEVENT
DTSTART;TZID=America/Chicago:20230806T184500
DTEND;TZID=America/Chicago:20230806T184500
DTSTAMP:20260423T045514
CREATED:20221223T135659Z
LAST-MODIFIED:20221223T135659Z
UID:15186-1691347500-1691347500@alwaysraceday.com
SUMMARY:12th annual Capitani Classic @ Knoxville Raceway
DESCRIPTION:Knoxville Raceway | DirtVision
URL:https://alwaysraceday.com/schedule/12th-annual-capitani-classic-knoxville-raceway/
CATEGORIES:Dirt,Iowa
ATTACH;FMTTYPE=image/png:https://alwaysraceday.com/wp-content/uploads/2022/12/img_16988.png
END:VEVENT
BEGIN:VEVENT
DTSTART;TZID=America/Chicago:20230805T184500
DTEND;TZID=America/Chicago:20230805T184500
DTSTAMP:20260423T045514
CREATED:20221223T135457Z
LAST-MODIFIED:20221223T135457Z
UID:15183-1691261100-1691261100@alwaysraceday.com
SUMMARY:33rd running of the Knoxville 360 Nationals
DESCRIPTION:Knoxville Raceway | DirtVision
URL:https://alwaysraceday.com/schedule/33rd-running-of-the-knoxville-360-nationals/
CATEGORIES:Dirt,Iowa
ATTACH;FMTTYPE=image/png:https://alwaysraceday.com/wp-content/uploads/2022/12/img_16631.png
END:VEVENT
BEGIN:VEVENT
DTSTART;TZID=America/Chicago:20230805T180000
DTEND;TZID=America/Chicago:20230805T180000
DTSTAMP:20260423T045514
CREATED:20230411T172901Z
LAST-MODIFIED:20230411T172901Z
UID:16124-1691258400-1691258400@alwaysraceday.com
SUMMARY:Karl Chevrolet Dirt Trucks @ Hamilton County
DESCRIPTION:Hamilton County Speedway
URL:https://alwaysraceday.com/schedule/karl-chevrolet-dirt-trucks-hamilton-county-3/
CATEGORIES:Dirt,Iowa
ATTACH;FMTTYPE=image/jpeg:https://alwaysraceday.com/wp-content/uploads/2023/04/Screenshot-2023-04-11-114838.jpg
END:VEVENT
BEGIN:VEVENT
DTSTART;TZID=America/Chicago:20230804T184500
DTEND;TZID=America/Chicago:20230804T184500
DTSTAMP:20260423T045514
CREATED:20221223T135254Z
LAST-MODIFIED:20221223T135254Z
UID:15181-1691174700-1691174700@alwaysraceday.com
SUMMARY:Knoxville 360 Nationals prelim night 2
DESCRIPTION:Knoxville Raceway | DirtVision
URL:https://alwaysraceday.com/schedule/knoxville-360-nationals-prelim-night-2/
CATEGORIES:Dirt,Iowa
ATTACH;FMTTYPE=image/png:https://alwaysraceday.com/wp-content/uploads/2022/12/img_16631.png
END:VEVENT
BEGIN:VEVENT
DTSTART;TZID=America/Chicago:20230803T184500
DTEND;TZID=America/Chicago:20230803T184500
DTSTAMP:20260423T045514
CREATED:20221223T135025Z
LAST-MODIFIED:20221223T135025Z
UID:15177-1691088300-1691088300@alwaysraceday.com
SUMMARY:Knoxville 360 Nationals prelim night 1
DESCRIPTION:Knoxville Raceway | DirtVision
URL:https://alwaysraceday.com/schedule/knoxville-360-nationals-prelim-night-1/
CATEGORIES:Dirt,Iowa
ATTACH;FMTTYPE=image/png:https://alwaysraceday.com/wp-content/uploads/2022/12/img_16631.png
END:VEVENT
BEGIN:VEVENT
DTSTART;TZID=America/Chicago:20230801T180000
DTEND;TZID=America/Chicago:20230801T180000
DTSTAMP:20260423T045514
CREATED:20221111T054118Z
LAST-MODIFIED:20221111T054118Z
UID:14339-1690912800-1690912800@alwaysraceday.com
SUMMARY:World of Outlaws Late Models Hawkeye 50
DESCRIPTION:Boone Speedway | DirtVision
URL:https://alwaysraceday.com/schedule/world-of-outlaws-late-models-hawkeye-50/
CATEGORIES:Dirt,Iowa
ATTACH;FMTTYPE=image/webp:https://alwaysraceday.com/wp-content/uploads/2022/11/2022_Hawkeye_50_Logo-J2178_SMALL.webp
END:VEVENT
BEGIN:VEVENT
DTSTART;TZID=America/Chicago:20230729T184500
DTEND;TZID=America/Chicago:20230729T184500
DTSTAMP:20260423T045514
CREATED:20221217T142142Z
LAST-MODIFIED:20221217T142142Z
UID:15030-1690656300-1690656300@alwaysraceday.com
SUMMARY:ASCoC @ Knoxville Raceway
DESCRIPTION:Knoxville Raceway | FloRacing
URL:https://alwaysraceday.com/schedule/ascoc-knoxville-raceway/
CATEGORIES:Dirt,Iowa
ATTACH;FMTTYPE=image/jpeg:https://alwaysraceday.com/wp-content/uploads/2022/12/JeedhuXR_400x400.jpg
END:VEVENT
BEGIN:VEVENT
DTSTART;TZID=America/Chicago:20230728T180000
DTEND;TZID=America/Chicago:20230728T180000
DTSTAMP:20260423T045514
CREATED:20230411T172737Z
LAST-MODIFIED:20230411T172737Z
UID:16122-1690567200-1690567200@alwaysraceday.com
SUMMARY:Karl Chevrolet Dirt Trucks @ Sports Park Raceway
DESCRIPTION:Sports Park Raceway
URL:https://alwaysraceday.com/schedule/karl-chevrolet-dirt-trucks-sports-park-raceway-2/
CATEGORIES:Dirt,Iowa
ATTACH;FMTTYPE=image/jpeg:https://alwaysraceday.com/wp-content/uploads/2023/04/Screenshot-2023-04-11-114838.jpg
END:VEVENT
BEGIN:VEVENT
DTSTART;TZID=America/Chicago:20230722T184500
DTEND;TZID=America/Chicago:20230722T184500
DTSTAMP:20260423T045514
CREATED:20221223T132812Z
LAST-MODIFIED:20221223T132812Z
UID:15159-1690051500-1690051500@alwaysraceday.com
SUMMARY:Knoxville Raceway weekly racing
DESCRIPTION:Knoxville Raceway | DirtVision
URL:https://alwaysraceday.com/schedule/knoxville-raceway-weekly-racing-9/
CATEGORIES:Dirt,Iowa
ATTACH;FMTTYPE=image/png:https://alwaysraceday.com/wp-content/uploads/2022/12/logo.png
END:VEVENT
BEGIN:VEVENT
DTSTART;TZID=America/Chicago:20230721T180000
DTEND;TZID=America/Chicago:20230721T180000
DTSTAMP:20260423T045514
CREATED:20221217T141108Z
LAST-MODIFIED:20221217T142657Z
UID:15018-1689962400-1689962400@alwaysraceday.com
SUMMARY:ASCoC @ Burlington
DESCRIPTION:34 Raceway | FloRacing
URL:https://alwaysraceday.com/schedule/ascoc-burlington/
CATEGORIES:Dirt,Iowa
ATTACH;FMTTYPE=image/jpeg:https://alwaysraceday.com/wp-content/uploads/2022/12/JeedhuXR_400x400.jpg
END:VEVENT
BEGIN:VEVENT
DTSTART;TZID=America/Chicago:20230715T190000
DTEND;TZID=America/Chicago:20230715T190000
DTSTAMP:20260423T045514
CREATED:20230412T193634Z
LAST-MODIFIED:20230412T193634Z
UID:16155-1689447600-1689447600@alwaysraceday.com
SUMMARY:ARCA Menards / ARCA East @ Iowa Speedway
DESCRIPTION:Iowa Speedway | Fox Sports 2
URL:https://alwaysraceday.com/schedule/arca-menards-arca-east-iowa-speedway/
CATEGORIES:Asphalt,Iowa
ATTACH;FMTTYPE=image/png:https://alwaysraceday.com/wp-content/uploads/2023/04/ARCA_Menards_Series_Logo.svg.png
END:VEVENT
BEGIN:VEVENT
DTSTART;TZID=America/Chicago:20230715T184500
DTEND;TZID=America/Chicago:20230715T184500
DTSTAMP:20260423T045514
CREATED:20221223T131842Z
LAST-MODIFIED:20221223T131842Z
UID:15155-1689446700-1689446700@alwaysraceday.com
SUMMARY:Knoxville Raceway weekly racing
DESCRIPTION:Knoxville Raceway | DirtVision
URL:https://alwaysraceday.com/schedule/knoxville-raceway-weekly-racing-8/
CATEGORIES:Dirt,Iowa
ATTACH;FMTTYPE=image/png:https://alwaysraceday.com/wp-content/uploads/2022/12/logo.png
END:VEVENT
BEGIN:VEVENT
DTSTART;TZID=America/Chicago:20230715T180000
DTEND;TZID=America/Chicago:20230715T180000
DTSTAMP:20260423T045514
CREATED:20230411T172547Z
LAST-MODIFIED:20230411T172645Z
UID:16120-1689444000-1689444000@alwaysraceday.com
SUMMARY:Karl Chevrolet Dirt Trucks @ Knoxville Raceway
DESCRIPTION:Knoxville Raceway
URL:https://alwaysraceday.com/schedule/karl-chevrolet-dirt-trucks-knoxville-raceway/
CATEGORIES:Dirt,Iowa
ATTACH;FMTTYPE=image/jpeg:https://alwaysraceday.com/wp-content/uploads/2023/04/Screenshot-2023-04-11-114838.jpg
END:VEVENT
BEGIN:VEVENT
DTSTART;TZID=America/Chicago:20230708T184500
DTEND;TZID=America/Chicago:20230708T184500
DTSTAMP:20260423T045514
CREATED:20221223T131117Z
LAST-MODIFIED:20221223T131117Z
UID:15145-1688841900-1688841900@alwaysraceday.com
SUMMARY:Knoxville Raceway Weekly Racing
DESCRIPTION:Knoxville Raceway | DirtVision
URL:https://alwaysraceday.com/schedule/knoxville-raceway-weekly-racing-7/
CATEGORIES:Dirt,Iowa
ATTACH;FMTTYPE=image/png:https://alwaysraceday.com/wp-content/uploads/2022/12/logo.png
END:VEVENT
BEGIN:VEVENT
DTSTART;TZID=America/Chicago:20230708T180000
DTEND;TZID=America/Chicago:20230708T180000
DTSTAMP:20260423T045514
CREATED:20230411T172432Z
LAST-MODIFIED:20230411T172432Z
UID:16117-1688839200-1688839200@alwaysraceday.com
SUMMARY:Karl Chevrolet Dirt Trucks @ Hamilton County
DESCRIPTION:Hamilton County Speedway
URL:https://alwaysraceday.com/schedule/karl-chevrolet-dirt-trucks-hamilton-county-2/
CATEGORIES:Dirt,Iowa
ATTACH;FMTTYPE=image/jpeg:https://alwaysraceday.com/wp-content/uploads/2023/04/Screenshot-2023-04-11-114838.jpg
END:VEVENT
BEGIN:VEVENT
DTSTART;TZID=America/Chicago:20230707T180000
DTEND;TZID=America/Chicago:20230707T180000
DTSTAMP:20260423T045514
CREATED:20221209T002321Z
LAST-MODIFIED:20221209T002321Z
UID:14726-1688752800-1688752800@alwaysraceday.com
SUMMARY:World of Outlaws Sprint Cars West Burlington Sprint Car Showdown
DESCRIPTION:34 Raceway | DirtVision
URL:https://alwaysraceday.com/schedule/world-of-outlaws-sprint-cars-west-burlington-sprint-car-showdown/
CATEGORIES:Dirt,Iowa
ATTACH;FMTTYPE=image/webp:https://alwaysraceday.com/wp-content/uploads/2022/12/WoOSprint.webp
END:VEVENT
BEGIN:VEVENT
DTSTART;TZID=America/Chicago:20230701T184500
DTEND;TZID=America/Chicago:20230701T184500
DTSTAMP:20260423T045514
CREATED:20221218T192648Z
LAST-MODIFIED:20221218T192648Z
UID:15130-1688237100-1688237100@alwaysraceday.com
SUMMARY:Knoxville Raceway weekly racing
DESCRIPTION:Knoxville Raceway | DirtVision
URL:https://alwaysraceday.com/schedule/knoxville-raceway-weekly-racing-6/
CATEGORIES:Dirt,Iowa
ATTACH;FMTTYPE=image/png:https://alwaysraceday.com/wp-content/uploads/2022/12/logo.png
END:VEVENT
BEGIN:VEVENT
DTSTART;TZID=America/Chicago:20230630T180000
DTEND;TZID=America/Chicago:20230630T180000
DTSTAMP:20260423T045514
CREATED:20230411T172226Z
LAST-MODIFIED:20230411T172226Z
UID:16115-1688148000-1688148000@alwaysraceday.com
SUMMARY:Karl Chevrolet Dirt Trucks @ Sports Park Raceway
DESCRIPTION:Sports Park Raceway
URL:https://alwaysraceday.com/schedule/karl-chevrolet-dirt-trucks-sports-park-raceway/
CATEGORIES:Dirt,Iowa
ATTACH;FMTTYPE=image/jpeg:https://alwaysraceday.com/wp-content/uploads/2023/04/Screenshot-2023-04-11-114838.jpg
END:VEVENT
BEGIN:VEVENT
DTSTART;TZID=America/Chicago:20230627T180000
DTEND;TZID=America/Chicago:20230627T180000
DTSTAMP:20260423T045514
CREATED:20221111T043857Z
LAST-MODIFIED:20221111T043857Z
UID:14323-1687888800-1687888800@alwaysraceday.com
SUMMARY:World of Outlaws Late Models Mason City Showdown
DESCRIPTION:Mason City Motor Speedway | DirtVision
URL:https://alwaysraceday.com/schedule/world-of-outlaws-late-models-mason-city-showdown/
CATEGORIES:Dirt,Iowa
ATTACH;FMTTYPE=image/webp:https://alwaysraceday.com/wp-content/uploads/2022/11/2022_CASE_LMS_LOGO_SMALL.webp
END:VEVENT
BEGIN:VEVENT
DTSTART;TZID=America/Chicago:20230624T180000
DTEND;TZID=America/Chicago:20230624T180000
DTSTAMP:20260423T045514
CREATED:20230411T172053Z
LAST-MODIFIED:20230411T172053Z
UID:16112-1687629600-1687629600@alwaysraceday.com
SUMMARY:Karl Chevrolet Dirt Trucks @ Hamilton County
DESCRIPTION:Hamilton County Speedway
URL:https://alwaysraceday.com/schedule/karl-chevrolet-dirt-trucks-hamilton-county/
CATEGORIES:Dirt,Iowa
ATTACH;FMTTYPE=image/jpeg:https://alwaysraceday.com/wp-content/uploads/2023/04/Screenshot-2023-04-11-114838.jpg
END:VEVENT
BEGIN:VEVENT
DTSTART;TZID=America/Chicago:20230617T184500
DTEND;TZID=America/Chicago:20230617T184500
DTSTAMP:20260423T045514
CREATED:20221218T183559Z
LAST-MODIFIED:20221218T183559Z
UID:15111-1687027500-1687027500@alwaysraceday.com
SUMMARY:Knoxville Raceway weekly racing
DESCRIPTION:Knoxville Raceway | DirtVision
URL:https://alwaysraceday.com/schedule/knoxville-raceway-weekly-racing-5/
CATEGORIES:Dirt,Iowa
ATTACH;FMTTYPE=image/png:https://alwaysraceday.com/wp-content/uploads/2022/12/logo.png
END:VEVENT
BEGIN:VEVENT
DTSTART;TZID=America/Chicago:20230614T180000
DTEND;TZID=America/Chicago:20230614T180000
DTSTAMP:20260423T045514
CREATED:20230411T171846Z
LAST-MODIFIED:20230411T171846Z
UID:16110-1686765600-1686765600@alwaysraceday.com
SUMMARY:Karl Chevrolet Dirt Trucks @ Stuart
DESCRIPTION:Stuart Speedway
URL:https://alwaysraceday.com/schedule/karl-chevrolet-dirt-trucks-stuart-3/
CATEGORIES:Dirt,Iowa
ATTACH;FMTTYPE=image/jpeg:https://alwaysraceday.com/wp-content/uploads/2023/04/Screenshot-2023-04-11-114838.jpg
END:VEVENT
BEGIN:VEVENT
DTSTART;TZID=America/Chicago:20230610T184500
DTEND;TZID=America/Chicago:20230610T184500
DTSTAMP:20260423T045514
CREATED:20221208T215437Z
LAST-MODIFIED:20221208T215437Z
UID:14706-1686422700-1686422700@alwaysraceday.com
SUMMARY:World of Outlaws Sprint Cars Brownells Big Guns Bash @ Knoxville
DESCRIPTION:Knoxville Raceway | DirtVision
URL:https://alwaysraceday.com/schedule/world-of-outlaws-sprint-cars-brownells-big-guns-bash-knoxville-2/
CATEGORIES:Dirt,Iowa
ATTACH;FMTTYPE=image/webp:https://alwaysraceday.com/wp-content/uploads/2022/12/Brownells-Big-Guns-Bash-Logo-Knoxville-Raceway-WoO.webp
END:VEVENT
BEGIN:VEVENT
DTSTART;TZID=America/Chicago:20230609T184500
DTEND;TZID=America/Chicago:20230609T184500
DTSTAMP:20260423T045514
CREATED:20221208T215354Z
LAST-MODIFIED:20221208T215354Z
UID:14703-1686336300-1686336300@alwaysraceday.com
SUMMARY:World of Outlaws Sprint Cars Brownells Big Guns Bash @ Knoxville
DESCRIPTION:Knoxville Raceway | DirtVision
URL:https://alwaysraceday.com/schedule/world-of-outlaws-sprint-cars-brownells-big-guns-bash-knoxville/
CATEGORIES:Dirt,Iowa
ATTACH;FMTTYPE=image/webp:https://alwaysraceday.com/wp-content/uploads/2022/12/Brownells-Big-Guns-Bash-Logo-Knoxville-Raceway-WoO.webp
END:VEVENT
BEGIN:VEVENT
DTSTART;TZID=America/Chicago:20230609T180000
DTEND;TZID=America/Chicago:20230609T180000
DTSTAMP:20260423T045514
CREATED:20230411T170927Z
LAST-MODIFIED:20230411T170927Z
UID:16108-1686333600-1686333600@alwaysraceday.com
SUMMARY:Karl Chevrolet Dirt Trucks @ Marshalltown
DESCRIPTION:Marshalltown Speedway
URL:https://alwaysraceday.com/schedule/karl-chevrolet-dirt-trucks-marshalltown/
CATEGORIES:Dirt,Iowa
ATTACH;FMTTYPE=image/jpeg:https://alwaysraceday.com/wp-content/uploads/2023/04/Screenshot-2023-04-11-114838.jpg
END:VEVENT
END:VCALENDAR