BEGIN:VCALENDAR
VERSION:2.0
PRODID:-//Always Race Day - ECPv6.15.20//NONSGML v1.0//EN
CALSCALE:GREGORIAN
METHOD:PUBLISH
X-ORIGINAL-URL:https://alwaysraceday.com
X-WR-CALDESC:Events for Always Race Day
REFRESH-INTERVAL;VALUE=DURATION:PT1H
X-Robots-Tag:noindex
X-PUBLISHED-TTL:PT1H
BEGIN:VTIMEZONE
TZID:America/Chicago
BEGIN:DAYLIGHT
TZOFFSETFROM:-0600
TZOFFSETTO:-0500
TZNAME:CDT
DTSTART:20210314T080000
END:DAYLIGHT
BEGIN:STANDARD
TZOFFSETFROM:-0500
TZOFFSETTO:-0600
TZNAME:CST
DTSTART:20211107T070000
END:STANDARD
BEGIN:DAYLIGHT
TZOFFSETFROM:-0600
TZOFFSETTO:-0500
TZNAME:CDT
DTSTART:20220313T080000
END:DAYLIGHT
BEGIN:STANDARD
TZOFFSETFROM:-0500
TZOFFSETTO:-0600
TZNAME:CST
DTSTART:20221106T070000
END:STANDARD
BEGIN:DAYLIGHT
TZOFFSETFROM:-0600
TZOFFSETTO:-0500
TZNAME:CDT
DTSTART:20230312T080000
END:DAYLIGHT
BEGIN:STANDARD
TZOFFSETFROM:-0500
TZOFFSETTO:-0600
TZNAME:CST
DTSTART:20231105T070000
END:STANDARD
BEGIN:DAYLIGHT
TZOFFSETFROM:-0600
TZOFFSETTO:-0500
TZNAME:CDT
DTSTART:20240310T080000
END:DAYLIGHT
BEGIN:STANDARD
TZOFFSETFROM:-0500
TZOFFSETTO:-0600
TZNAME:CST
DTSTART:20241103T070000
END:STANDARD
END:VTIMEZONE
BEGIN:VEVENT
DTSTART;TZID=America/Chicago:20230513T184500
DTEND;TZID=America/Chicago:20230513T184500
DTSTAMP:20260423T095029
CREATED:20221217T154607Z
LAST-MODIFIED:20221217T154607Z
UID:15086-1684003500-1684003500@alwaysraceday.com
SUMMARY:Knoxville Raceway weekly racing
DESCRIPTION:Knoxville Raceway | DirtVision
URL:https://alwaysraceday.com/schedule/knoxville-raceway-weekly-racing-2/
CATEGORIES:Dirt,Iowa
ATTACH;FMTTYPE=image/png:https://alwaysraceday.com/wp-content/uploads/2022/12/logo.png
END:VEVENT
BEGIN:VEVENT
DTSTART;TZID=America/Chicago:20230513T180000
DTEND;TZID=America/Chicago:20230513T180000
DTSTAMP:20260423T095029
CREATED:20230411T170032Z
LAST-MODIFIED:20230411T170032Z
UID:16100-1684000800-1684000800@alwaysraceday.com
SUMMARY:Karl Chevrolet Dirt Trucks @ Boone
DESCRIPTION:Boone Speedway
URL:https://alwaysraceday.com/schedule/karl-chevrolet-dirt-trucks-boone/
CATEGORIES:Dirt,Iowa
ATTACH;FMTTYPE=image/jpeg:https://alwaysraceday.com/wp-content/uploads/2023/04/Screenshot-2023-04-11-114838.jpg
END:VEVENT
BEGIN:VEVENT
DTSTART;TZID=America/Chicago:20230510T180000
DTEND;TZID=America/Chicago:20230510T180000
DTSTAMP:20260423T095029
CREATED:20230411T165900Z
LAST-MODIFIED:20230411T165900Z
UID:16098-1683741600-1683741600@alwaysraceday.com
SUMMARY:Karl Chevrolet Dirt Trucks @ Stuart
DESCRIPTION:Stuart Speedway
URL:https://alwaysraceday.com/schedule/karl-chevrolet-dirt-trucks-stuart-2/
CATEGORIES:Dirt,Iowa
ATTACH;FMTTYPE=image/jpeg:https://alwaysraceday.com/wp-content/uploads/2023/04/Screenshot-2023-04-11-114838.jpg
END:VEVENT
BEGIN:VEVENT
DTSTART;TZID=America/Chicago:20230506T184500
DTEND;TZID=America/Chicago:20230506T184500
DTSTAMP:20260423T095029
CREATED:20221217T154228Z
LAST-MODIFIED:20221217T154228Z
UID:15080-1683398700-1683398700@alwaysraceday.com
SUMMARY:Knoxville Raceway weekly racing
DESCRIPTION:Knoxville Raceway | DirtVision
URL:https://alwaysraceday.com/schedule/knoxville-raceway-weekly-racing/
CATEGORIES:Dirt,Iowa
ATTACH;FMTTYPE=image/png:https://alwaysraceday.com/wp-content/uploads/2022/12/logo.png
END:VEVENT
BEGIN:VEVENT
DTSTART;TZID=America/Chicago:20230429T184500
DTEND;TZID=America/Chicago:20230429T184500
DTSTAMP:20260423T095029
CREATED:20221217T153024Z
LAST-MODIFIED:20221217T154134Z
UID:15074-1682793900-1682793900@alwaysraceday.com
SUMMARY:Knoxville Raceway weekly racing
DESCRIPTION:Knoxville Raceway | DirtVision
URL:https://alwaysraceday.com/schedule/knoxville-raceway-weekly/
CATEGORIES:Dirt,Iowa
ATTACH;FMTTYPE=image/png:https://alwaysraceday.com/wp-content/uploads/2022/12/logo.png
END:VEVENT
BEGIN:VEVENT
DTSTART;TZID=America/Chicago:20230425T180000
DTEND;TZID=America/Chicago:20230425T180000
DTSTAMP:20260423T095029
CREATED:20221213T221510Z
LAST-MODIFIED:20221213T221510Z
UID:14875-1682445600-1682445600@alwaysraceday.com
SUMMARY:High Limit Sprint Car Series @ Burlington
DESCRIPTION:34 Raceway | FloRacing
URL:https://alwaysraceday.com/schedule/high-limit-sprint-car-series-burlington/
CATEGORIES:Dirt,Iowa
ATTACH;FMTTYPE=image/png:https://alwaysraceday.com/wp-content/uploads/2022/12/HighLimit-2-1.png
END:VEVENT
BEGIN:VEVENT
DTSTART;TZID=America/Chicago:20230423T180000
DTEND;TZID=America/Chicago:20230423T180000
DTSTAMP:20260423T095029
CREATED:20230413T161456Z
LAST-MODIFIED:20230413T161456Z
UID:16202-1682272800-1682272800@alwaysraceday.com
SUMMARY:SLMR West @ Stuart
DESCRIPTION:Stuart Speedway
URL:https://alwaysraceday.com/schedule/slmr-west-stuart/
CATEGORIES:Dirt,Iowa
ATTACH;FMTTYPE=image/png:https://alwaysraceday.com/wp-content/uploads/2023/04/west-1-1.png
END:VEVENT
BEGIN:VEVENT
DTSTART;TZID=America/Chicago:20230422T184500
DTEND;TZID=America/Chicago:20230422T184500
DTSTAMP:20260423T095029
CREATED:20221208T212359Z
LAST-MODIFIED:20221208T212359Z
UID:14673-1682189100-1682189100@alwaysraceday.com
SUMMARY:World of Outlaws Sprint Cars @ Knoxville Raceway
DESCRIPTION:Knoxville Raceway | DirtVision
URL:https://alwaysraceday.com/schedule/world-of-outlaws-sprint-cars-knoxville-raceway-2/
CATEGORIES:Dirt,Iowa
ATTACH;FMTTYPE=image/webp:https://alwaysraceday.com/wp-content/uploads/2022/12/WoOSprint.webp
END:VEVENT
BEGIN:VEVENT
DTSTART;TZID=America/Chicago:20230421T184500
DTEND;TZID=America/Chicago:20230421T184500
DTSTAMP:20260423T095029
CREATED:20221208T212302Z
LAST-MODIFIED:20221208T212302Z
UID:14671-1682102700-1682102700@alwaysraceday.com
SUMMARY:World of Outlaws Sprint Cars @ Knoxville Raceway
DESCRIPTION:Knoxville Raceway | DirtVision
URL:https://alwaysraceday.com/schedule/world-of-outlaws-sprint-cars-knoxville-raceway/
CATEGORIES:Dirt,Iowa
ATTACH;FMTTYPE=image/webp:https://alwaysraceday.com/wp-content/uploads/2022/12/WoOSprint.webp
END:VEVENT
BEGIN:VEVENT
DTSTART;TZID=America/Chicago:20230419T180000
DTEND;TZID=America/Chicago:20230419T180000
DTSTAMP:20260423T095029
CREATED:20230411T165424Z
LAST-MODIFIED:20230411T165929Z
UID:16096-1681927200-1681927200@alwaysraceday.com
SUMMARY:Karl Chevrolet Dirt Trucks @ Stuart
DESCRIPTION:Stuart Speedway
URL:https://alwaysraceday.com/schedule/karl-chevrolet-dirt-trucks-stuart/
CATEGORIES:Dirt,Iowa
ATTACH;FMTTYPE=image/jpeg:https://alwaysraceday.com/wp-content/uploads/2023/04/Screenshot-2023-04-11-114838.jpg
END:VEVENT
BEGIN:VEVENT
DTSTART;TZID=America/Chicago:20230415T184500
DTEND;TZID=America/Chicago:20230415T184500
DTSTAMP:20260423T095029
CREATED:20221217T152428Z
LAST-MODIFIED:20221217T152428Z
UID:15072-1681584300-1681584300@alwaysraceday.com
SUMMARY:Knoxville Raceway weekly season opener
DESCRIPTION:Knoxville Raceway | DirtVision
URL:https://alwaysraceday.com/schedule/knoxville-raceway-weekly-season-opener/
CATEGORIES:Dirt,Iowa
ATTACH;FMTTYPE=image/png:https://alwaysraceday.com/wp-content/uploads/2022/12/logo.png
END:VEVENT
BEGIN:VEVENT
DTSTART;TZID=America/Chicago:20230414T180000
DTEND;TZID=America/Chicago:20230414T180000
DTSTAMP:20260423T095029
CREATED:20230411T165209Z
LAST-MODIFIED:20230411T165923Z
UID:16093-1681495200-1681495200@alwaysraceday.com
SUMMARY:Karl Chevrolet Dirt Trucks season opener @ Marshalltown
DESCRIPTION:Marshalltown Speedway
URL:https://alwaysraceday.com/schedule/karl-chevrolet-dirt-trucks-season-opener-marshalltown/
CATEGORIES:Dirt,Iowa
ATTACH;FMTTYPE=image/jpeg:https://alwaysraceday.com/wp-content/uploads/2023/04/Screenshot-2023-04-11-114838.jpg
END:VEVENT
BEGIN:VEVENT
DTSTART;TZID=America/Chicago:20220917T184500
DTEND;TZID=America/Chicago:20220917T224500
DTSTAMP:20260423T095029
CREATED:20211015T224007Z
LAST-MODIFIED:20211015T224007Z
UID:9425-1663440300-1663454700@alwaysraceday.com
SUMMARY:Knoxville Late Model Nationals Finale
DESCRIPTION:Knoxville Raceway | MAV TV Plus
URL:https://alwaysraceday.com/schedule/knoxville-late-model-nationals-finale/
CATEGORIES:Dirt,Iowa
ATTACH;FMTTYPE=image/png:https://alwaysraceday.com/wp-content/uploads/2021/10/LucasOilLateModelDirtSeries_Logo-2.png
END:VEVENT
BEGIN:VEVENT
DTSTART;TZID=America/Chicago:20220916T184500
DTEND;TZID=America/Chicago:20220916T224500
DTSTAMP:20260423T095029
CREATED:20211015T223836Z
LAST-MODIFIED:20211015T223836Z
UID:9423-1663353900-1663368300@alwaysraceday.com
SUMMARY:Knoxville Late Model Nationals Night 2
DESCRIPTION:Knoxville Raceway | MAV TV Plus
URL:https://alwaysraceday.com/schedule/knoxville-late-model-nationals-night-2/
CATEGORIES:Dirt,Iowa
ATTACH;FMTTYPE=image/png:https://alwaysraceday.com/wp-content/uploads/2021/10/LucasOilLateModelDirtSeries_Logo-2.png
END:VEVENT
BEGIN:VEVENT
DTSTART;TZID=America/Chicago:20220915T184500
DTEND;TZID=America/Chicago:20220915T224500
DTSTAMP:20260423T095029
CREATED:20211015T223730Z
LAST-MODIFIED:20211015T223730Z
UID:9421-1663267500-1663281900@alwaysraceday.com
SUMMARY:Knoxville Late Model Nationals Night 1
DESCRIPTION:Knoxville Raceway | MAV TV Plus
URL:https://alwaysraceday.com/schedule/knoxville-late-model-nationals-night-1/
CATEGORIES:Dirt,Iowa
ATTACH;FMTTYPE=image/png:https://alwaysraceday.com/wp-content/uploads/2021/10/LucasOilLateModelDirtSeries_Logo-2.png
END:VEVENT
BEGIN:VEVENT
DTSTART;TZID=America/Chicago:20220904T180000
DTEND;TZID=America/Chicago:20220904T180000
DTSTAMP:20260423T095029
CREATED:20211225T180224Z
LAST-MODIFIED:20211225T180224Z
UID:10667-1662314400-1662314400@alwaysraceday.com
SUMMARY:USMTS War in West Union @ Fayette County
DESCRIPTION:Fayette County Speedway | RacinDirt
URL:https://alwaysraceday.com/schedule/usmts-war-in-west-union-fayette-county/
CATEGORIES:Dirt,Iowa
ATTACH;FMTTYPE=image/jpeg:https://alwaysraceday.com/wp-content/uploads/2021/12/usmts-logo-1.jpg
END:VEVENT
BEGIN:VEVENT
DTSTART;TZID=America/Chicago:20220827T184500
DTEND;TZID=America/Chicago:20220827T184500
DTSTAMP:20260423T095029
CREATED:20211223T225333Z
LAST-MODIFIED:20211223T225333Z
UID:10358-1661625900-1661625900@alwaysraceday.com
SUMMARY:Knoxville Weekly Racing Season Championship Night
DESCRIPTION:Knoxville Raceway | DirtVision
URL:https://alwaysraceday.com/schedule/knoxville-weekly-racing-season-championship-night/
CATEGORIES:Dirt,Iowa
ATTACH;FMTTYPE=image/png:https://alwaysraceday.com/wp-content/uploads/2021/12/logo-2.png
END:VEVENT
BEGIN:VEVENT
DTSTART;TZID=America/Chicago:20220813T184500
DTEND;TZID=America/Chicago:20220813T184500
DTSTAMP:20260423T095029
CREATED:20211222T202839Z
LAST-MODIFIED:20211222T202839Z
UID:10233-1660416300-1660416300@alwaysraceday.com
SUMMARY:The 61st running of the Knoxville Nationals
DESCRIPTION:Knoxville Raceway | DirtVision
URL:https://alwaysraceday.com/schedule/the-61st-running-of-the-knoxville-nationals/
CATEGORIES:Dirt,Iowa
ATTACH;FMTTYPE=image/png:https://alwaysraceday.com/wp-content/uploads/2021/12/unnamed-1.png
END:VEVENT
BEGIN:VEVENT
DTSTART;TZID=America/Chicago:20220812T184500
DTEND;TZID=America/Chicago:20220812T184500
DTSTAMP:20260423T095029
CREATED:20211222T202757Z
LAST-MODIFIED:20211222T202926Z
UID:10230-1660329900-1660329900@alwaysraceday.com
SUMMARY:61st Knoxville Nationals Hard Knox Night
DESCRIPTION:Knoxville Raceway | DirtVision
URL:https://alwaysraceday.com/schedule/61st-knoxville-nationals-hard-knox-night/
CATEGORIES:Dirt,Iowa
ATTACH;FMTTYPE=image/png:https://alwaysraceday.com/wp-content/uploads/2021/12/unnamed-1.png
END:VEVENT
BEGIN:VEVENT
DTSTART;TZID=America/Chicago:20220811T184500
DTEND;TZID=America/Chicago:20220811T184500
DTSTAMP:20260423T095029
CREATED:20211222T202636Z
LAST-MODIFIED:20211222T202922Z
UID:10228-1660243500-1660243500@alwaysraceday.com
SUMMARY:61st Knoxville Nationals Prelim Night 2
DESCRIPTION:Knoxville Raceway | DirtVision
URL:https://alwaysraceday.com/schedule/61st-knoxville-nationals-prelim-night-2/
CATEGORIES:Dirt,Iowa
ATTACH;FMTTYPE=image/png:https://alwaysraceday.com/wp-content/uploads/2021/12/unnamed-1.png
END:VEVENT
BEGIN:VEVENT
DTSTART;TZID=America/Chicago:20220810T184500
DTEND;TZID=America/Chicago:20220810T184500
DTSTAMP:20260423T095029
CREATED:20211222T202108Z
LAST-MODIFIED:20211222T202917Z
UID:10225-1660157100-1660157100@alwaysraceday.com
SUMMARY:61st Knoxville Nationals Prelim Night 1
DESCRIPTION:Knoxville Raceway | DirtVision
URL:https://alwaysraceday.com/schedule/61st-knoxville-nationals-prelim-night-1/
CATEGORIES:Dirt,Iowa
ATTACH;FMTTYPE=image/png:https://alwaysraceday.com/wp-content/uploads/2021/12/unnamed-1.png
END:VEVENT
BEGIN:VEVENT
DTSTART;TZID=America/Chicago:20220807T184500
DTEND;TZID=America/Chicago:20220807T184500
DTSTAMP:20260423T095029
CREATED:20211223T231330Z
LAST-MODIFIED:20211223T231330Z
UID:10372-1659897900-1659897900@alwaysraceday.com
SUMMARY:11th running of the Capitani Classic @ Knoxville Raceway
DESCRIPTION:Knoxville Raceway | DirtVision
URL:https://alwaysraceday.com/schedule/11th-running-of-the-capitani-classic-knoxville-raceway/
CATEGORIES:Dirt,Iowa
ATTACH;FMTTYPE=image/png:https://alwaysraceday.com/wp-content/uploads/2021/12/img_16633.png
END:VEVENT
BEGIN:VEVENT
DTSTART;TZID=America/Chicago:20220806T184500
DTEND;TZID=America/Chicago:20220806T184500
DTSTAMP:20260423T095029
CREATED:20211223T231036Z
LAST-MODIFIED:20211223T231036Z
UID:10370-1659811500-1659811500@alwaysraceday.com
SUMMARY:32nd Running of the Knoxville 360 Nationals
DESCRIPTION:Knoxville Raceway | DirtVision
URL:https://alwaysraceday.com/schedule/32nd-running-of-the-knoxville-360-nationals/
CATEGORIES:Dirt,Iowa
ATTACH;FMTTYPE=image/png:https://alwaysraceday.com/wp-content/uploads/2021/12/img_16631.png
END:VEVENT
BEGIN:VEVENT
DTSTART;TZID=America/Chicago:20220805T184500
DTEND;TZID=America/Chicago:20220805T184500
DTSTAMP:20260423T095029
CREATED:20211223T230726Z
LAST-MODIFIED:20211223T230726Z
UID:10368-1659725100-1659725100@alwaysraceday.com
SUMMARY:Knoxville 360 Nationals Night 2
DESCRIPTION:Knoxville Raceway | DirtVision
URL:https://alwaysraceday.com/schedule/knoxville-360-nationals-night-2-2/
CATEGORIES:Dirt,Iowa
ATTACH;FMTTYPE=image/png:https://alwaysraceday.com/wp-content/uploads/2021/12/img_16631.png
END:VEVENT
BEGIN:VEVENT
DTSTART;TZID=America/Chicago:20220804T184500
DTEND;TZID=America/Chicago:20220804T184500
DTSTAMP:20260423T095029
CREATED:20211223T230520Z
LAST-MODIFIED:20211223T230520Z
UID:10365-1659638700-1659638700@alwaysraceday.com
SUMMARY:Knoxville 360 Nationals Night 1
DESCRIPTION:Knoxville Raceway | DirtVision
URL:https://alwaysraceday.com/schedule/knoxville-360-nationals-night-1-2/
CATEGORIES:Dirt,Iowa
ATTACH;FMTTYPE=image/png:https://alwaysraceday.com/wp-content/uploads/2021/12/img_16631.png
END:VEVENT
BEGIN:VEVENT
DTSTART;TZID=America/Chicago:20220730T184500
DTEND;TZID=America/Chicago:20220730T184500
DTSTAMP:20260423T095029
CREATED:20211223T230034Z
LAST-MODIFIED:20211223T230324Z
UID:10360-1659206700-1659206700@alwaysraceday.com
SUMMARY:ASCoC Nationals Warmup @ Knoxville
DESCRIPTION:Knoxville Raceway | FloRacing
URL:https://alwaysraceday.com/schedule/ascoc-nationals-warmup-knoxville/
CATEGORIES:Dirt,Iowa
ATTACH;FMTTYPE=image/jpeg:https://alwaysraceday.com/wp-content/uploads/2021/12/All_Star_Graphic_JPG_10597_480x480.jpg
END:VEVENT
BEGIN:VEVENT
DTSTART;TZID=America/Chicago:20220724T140000
DTEND;TZID=America/Chicago:20220724T140000
DTSTAMP:20260423T095029
CREATED:20220114T222221Z
LAST-MODIFIED:20220114T222221Z
UID:11075-1658671200-1658671200@alwaysraceday.com
SUMMARY:IndyCar Iowa Speedway Doubleheader Race 2
DESCRIPTION:Iowa Speedway | NBC
URL:https://alwaysraceday.com/schedule/indycar-iowa-speedway-doubleheader-race-2/
CATEGORIES:Asphalt,Iowa
ATTACH;FMTTYPE=image/png:https://alwaysraceday.com/wp-content/uploads/2022/01/logo-4.png
END:VEVENT
BEGIN:VEVENT
DTSTART;TZID=America/Chicago:20220723T184500
DTEND;TZID=America/Chicago:20220723T184500
DTSTAMP:20260423T095029
CREATED:20211223T225119Z
LAST-MODIFIED:20211223T225119Z
UID:10356-1658601900-1658601900@alwaysraceday.com
SUMMARY:Knoxville Weekly Racing
DESCRIPTION:Knoxville Raceway | DirtVision
URL:https://alwaysraceday.com/schedule/knoxville-weekly-racing-21/
CATEGORIES:Dirt,Iowa
ATTACH;FMTTYPE=image/png:https://alwaysraceday.com/wp-content/uploads/2021/12/logo-2.png
END:VEVENT
BEGIN:VEVENT
DTSTART;TZID=America/Chicago:20220723T150000
DTEND;TZID=America/Chicago:20220723T150000
DTSTAMP:20260423T095029
CREATED:20220114T222126Z
LAST-MODIFIED:20220114T222319Z
UID:11073-1658588400-1658588400@alwaysraceday.com
SUMMARY:IndyCar Iowa Speedway Doubleheader Race 1
DESCRIPTION:Iowa Speedway | NBC
URL:https://alwaysraceday.com/schedule/indycar-iowa-speedway-doubleheader-race-1/
CATEGORIES:Asphalt,Iowa
ATTACH;FMTTYPE=image/png:https://alwaysraceday.com/wp-content/uploads/2022/01/logo-4.png
END:VEVENT
BEGIN:VEVENT
DTSTART;TZID=America/Chicago:20220717T180000
DTEND;TZID=America/Chicago:20220717T180000
DTSTAMP:20260423T095029
CREATED:20211225T174637Z
LAST-MODIFIED:20211225T174637Z
UID:10649-1658080800-1658080800@alwaysraceday.com
SUMMARY:USMTS Double Down Showdown @ Mason City
DESCRIPTION:Mason City Motor Speedway | RacinDirt
URL:https://alwaysraceday.com/schedule/usmts-double-down-showdown-mason-city/
CATEGORIES:Dirt,Iowa
ATTACH;FMTTYPE=image/jpeg:https://alwaysraceday.com/wp-content/uploads/2021/12/usmts-logo-1.jpg
END:VEVENT
END:VCALENDAR