BEGIN:VCALENDAR
VERSION:2.0
PRODID:-//Always Race Day - ECPv6.15.20//NONSGML v1.0//EN
CALSCALE:GREGORIAN
METHOD:PUBLISH
X-WR-CALNAME:Always Race Day
X-ORIGINAL-URL:https://alwaysraceday.com
X-WR-CALDESC:Events for Always Race Day
REFRESH-INTERVAL;VALUE=DURATION:PT1H
X-Robots-Tag:noindex
X-PUBLISHED-TTL:PT1H
BEGIN:VTIMEZONE
TZID:America/Chicago
BEGIN:DAYLIGHT
TZOFFSETFROM:-0600
TZOFFSETTO:-0500
TZNAME:CDT
DTSTART:20200308T080000
END:DAYLIGHT
BEGIN:STANDARD
TZOFFSETFROM:-0500
TZOFFSETTO:-0600
TZNAME:CST
DTSTART:20201101T070000
END:STANDARD
BEGIN:DAYLIGHT
TZOFFSETFROM:-0600
TZOFFSETTO:-0500
TZNAME:CDT
DTSTART:20210314T080000
END:DAYLIGHT
BEGIN:STANDARD
TZOFFSETFROM:-0500
TZOFFSETTO:-0600
TZNAME:CST
DTSTART:20211107T070000
END:STANDARD
BEGIN:DAYLIGHT
TZOFFSETFROM:-0600
TZOFFSETTO:-0500
TZNAME:CDT
DTSTART:20220313T080000
END:DAYLIGHT
BEGIN:STANDARD
TZOFFSETFROM:-0500
TZOFFSETTO:-0600
TZNAME:CST
DTSTART:20221106T070000
END:STANDARD
BEGIN:DAYLIGHT
TZOFFSETFROM:-0600
TZOFFSETTO:-0500
TZNAME:CDT
DTSTART:20230312T080000
END:DAYLIGHT
BEGIN:STANDARD
TZOFFSETFROM:-0500
TZOFFSETTO:-0600
TZNAME:CST
DTSTART:20231105T070000
END:STANDARD
END:VTIMEZONE
BEGIN:VEVENT
DTSTART;TZID=America/Chicago:20220706T180000
DTEND;TZID=America/Chicago:20220706T220000
DTSTAMP:20260423T142127
CREATED:20211015T204638Z
LAST-MODIFIED:20211015T204638Z
UID:9381-1657130400-1657144800@alwaysraceday.com
SUMMARY:LucasDirt Late Models @ Davenport
DESCRIPTION:Davenport Speedway | MAV TV Plus
URL:https://alwaysraceday.com/schedule/lucasdirt-late-models-davenport/
CATEGORIES:Dirt,Iowa
ATTACH;FMTTYPE=image/png:https://alwaysraceday.com/wp-content/uploads/2021/10/LucasOilLateModelDirtSeries_Logo-2.png
END:VEVENT
BEGIN:VEVENT
DTSTART;TZID=America/Chicago:20220702T184500
DTEND;TZID=America/Chicago:20220702T184500
DTSTAMP:20260423T142127
CREATED:20211223T223751Z
LAST-MODIFIED:20211223T224738Z
UID:10350-1656787500-1656787500@alwaysraceday.com
SUMMARY:Knoxville Weekly Racing
DESCRIPTION:Knoxville Raceway | DirtVision
URL:https://alwaysraceday.com/schedule/knoxville-weekly-racing-18/
CATEGORIES:Dirt,Iowa
ATTACH;FMTTYPE=image/png:https://alwaysraceday.com/wp-content/uploads/2021/12/logo-2.png
END:VEVENT
BEGIN:VEVENT
DTSTART;TZID=America/Chicago:20220618T200000
DTEND;TZID=America/Chicago:20220618T200000
DTSTAMP:20260423T142127
CREATED:20211226T191717Z
LAST-MODIFIED:20211226T191717Z
UID:10894-1655582400-1655582400@alwaysraceday.com
SUMMARY:NASCAR Truck Series @ Knoxville
DESCRIPTION:Knoxville Raceway | Fox Sports 1
URL:https://alwaysraceday.com/schedule/nascar-truck-series-knoxville/
CATEGORIES:Asphalt,Dirt,Iowa
ATTACH;FMTTYPE=image/jpeg:https://alwaysraceday.com/wp-content/uploads/2021/12/2020-sep15-camping-world-main-image-625x340-1.jpg
END:VEVENT
BEGIN:VEVENT
DTSTART;TZID=America/Chicago:20220617T180000
DTEND;TZID=America/Chicago:20220617T180000
DTSTAMP:20260423T142127
CREATED:20211226T191608Z
LAST-MODIFIED:20211226T191608Z
UID:10892-1655488800-1655488800@alwaysraceday.com
SUMMARY:NASCAR Truck Series Practice Day at Knoxville
DESCRIPTION:Knoxville Raceway
URL:https://alwaysraceday.com/schedule/nascar-truck-series-practice-day-at-knoxville/
CATEGORIES:Asphalt,Dirt,Iowa
ATTACH;FMTTYPE=image/png:https://alwaysraceday.com/wp-content/uploads/2021/12/logo-2.png
END:VEVENT
BEGIN:VEVENT
DTSTART;TZID=America/Chicago:20220616T173000
DTEND;TZID=America/Chicago:20220616T173000
DTSTAMP:20260423T142127
CREATED:20211225T202152Z
LAST-MODIFIED:20211225T202925Z
UID:10686-1655400600-1655400600@alwaysraceday.com
SUMMARY:Hell Tour @ Davenport Speedway (Late Models only)
DESCRIPTION:Davenport Speedway | DirtVision
URL:https://alwaysraceday.com/schedule/hell-tour-davenport-speedway-late-models-only/
CATEGORIES:Dirt,Iowa
ATTACH;FMTTYPE=image/jpeg:https://alwaysraceday.com/wp-content/uploads/2021/12/SummerNationals1.jpg
END:VEVENT
BEGIN:VEVENT
DTSTART;TZID=America/Chicago:20220611T200000
DTEND;TZID=America/Chicago:20220611T200000
DTSTAMP:20260423T142127
CREATED:20211225T010557Z
LAST-MODIFIED:20211225T011607Z
UID:10550-1654977600-1654977600@alwaysraceday.com
SUMMARY:ARCA Menards Series Iowa 150
DESCRIPTION:Iowa Speedway | MAVTV/FloRacing
URL:https://alwaysraceday.com/schedule/arca-menards-series-iowa-150/
CATEGORIES:Asphalt,Iowa
ATTACH;FMTTYPE=image/png:https://alwaysraceday.com/wp-content/uploads/2021/12/1200px-ARCA_Menards_Series_Logo.svg-1.png
END:VEVENT
BEGIN:VEVENT
DTSTART;TZID=America/Chicago:20220611T184500
DTEND;TZID=America/Chicago:20220611T184500
DTSTAMP:20260423T142127
CREATED:20211222T031356Z
LAST-MODIFIED:20211222T192416Z
UID:10177-1654973100-1654973100@alwaysraceday.com
SUMMARY:World of Outlaws Sprint Cars Brownells Big Guns Bash @ Knoxville Night 2
DESCRIPTION:Knoxville Raceway | DirtVision
URL:https://alwaysraceday.com/schedule/world-of-outlaws-sprint-cars-brownells-big-guns-bash-knoxville-night-2/
CATEGORIES:Dirt,Iowa
ATTACH;FMTTYPE=image/png:https://alwaysraceday.com/wp-content/uploads/2021/12/WoOSprint-2.png
END:VEVENT
BEGIN:VEVENT
DTSTART;TZID=America/Chicago:20220610T184500
DTEND;TZID=America/Chicago:20220610T184500
DTSTAMP:20260423T142127
CREATED:20211222T031123Z
LAST-MODIFIED:20211222T192425Z
UID:10175-1654886700-1654886700@alwaysraceday.com
SUMMARY:World of Outlaws Sprint Cars Brownells Big Guns Bash @ Knoxville Night 1
DESCRIPTION:Knoxville Raceway | DirtVision
URL:https://alwaysraceday.com/schedule/world-of-outlaws-sprint-cars-brownells-big-guns-bash-knoxville-night-1/
CATEGORIES:Dirt,Iowa
ATTACH;FMTTYPE=image/png:https://alwaysraceday.com/wp-content/uploads/2021/12/WoOSprint-2.png
END:VEVENT
BEGIN:VEVENT
DTSTART;TZID=America/Chicago:20220604T184500
DTEND;TZID=America/Chicago:20220604T184500
DTSTAMP:20260423T142127
CREATED:20211223T223427Z
LAST-MODIFIED:20211223T223427Z
UID:10348-1654368300-1654368300@alwaysraceday.com
SUMMARY:Knoxville Weekly Racing
DESCRIPTION:Knoxville Raceway | DirtVision
URL:https://alwaysraceday.com/schedule/knoxville-weekly-racing-17/
CATEGORIES:Dirt,Iowa
ATTACH;FMTTYPE=image/png:https://alwaysraceday.com/wp-content/uploads/2021/12/logo-2.png
END:VEVENT
BEGIN:VEVENT
DTSTART;TZID=America/Chicago:20220528T184500
DTEND;TZID=America/Chicago:20220528T184500
DTSTAMP:20260423T142127
CREATED:20211223T223135Z
LAST-MODIFIED:20211223T225032Z
UID:10344-1653763500-1653763500@alwaysraceday.com
SUMMARY:Knoxville Weekly Racing
DESCRIPTION:Knoxville Raceway | DirtVision
URL:https://alwaysraceday.com/schedule/knoxville-weekly-racing-15/
CATEGORIES:Dirt,Iowa
ATTACH;FMTTYPE=image/png:https://alwaysraceday.com/wp-content/uploads/2021/12/logo-2.png
END:VEVENT
BEGIN:VEVENT
DTSTART;TZID=America/Chicago:20220527T183000
DTEND;TZID=America/Chicago:20220527T183000
DTSTAMP:20260423T142127
CREATED:20211225T172824Z
LAST-MODIFIED:20211225T172824Z
UID:10627-1653676200-1653676200@alwaysraceday.com
SUMMARY:USMTS Mod Mania @ Mason City
DESCRIPTION:Mason City Motor Speedway | RacinDirt
URL:https://alwaysraceday.com/schedule/usmts-mod-mania-mason-city/
CATEGORIES:Dirt,Iowa
ATTACH;FMTTYPE=image/jpeg:https://alwaysraceday.com/wp-content/uploads/2021/12/usmts-logo-1.jpg
END:VEVENT
BEGIN:VEVENT
DTSTART;TZID=America/Chicago:20220521T184500
DTEND;TZID=America/Chicago:20220521T184500
DTSTAMP:20260423T142127
CREATED:20211223T223317Z
LAST-MODIFIED:20211223T223317Z
UID:10346-1653158700-1653158700@alwaysraceday.com
SUMMARY:Knoxville Weekly Racing
DESCRIPTION:Knoxville Raceway | DirtVision
URL:https://alwaysraceday.com/schedule/knoxville-weekly-racing-16/
CATEGORIES:Dirt,Iowa
ATTACH;FMTTYPE=image/png:https://alwaysraceday.com/wp-content/uploads/2021/12/logo-2.png
END:VEVENT
BEGIN:VEVENT
DTSTART;TZID=America/Chicago:20220521T180000
DTEND;TZID=America/Chicago:20220521T220000
DTSTAMP:20260423T142127
CREATED:20211014T212254Z
LAST-MODIFIED:20211014T212254Z
UID:9351-1653156000-1653170400@alwaysraceday.com
SUMMARY:LucasDirt Late Models CRST\, The Transportation 50 @ Burlington
DESCRIPTION:34 Raceway | MAVTV Plus
URL:https://alwaysraceday.com/schedule/lucasdirt-late-models-crst-the-transportation-50-burlington/
CATEGORIES:Dirt,Iowa
ATTACH;FMTTYPE=image/png:https://alwaysraceday.com/wp-content/uploads/2021/10/LucasOilLateModelDirtSeries_Logo-2.png
END:VEVENT
BEGIN:VEVENT
DTSTART;TZID=America/Chicago:20220520T180000
DTEND;TZID=America/Chicago:20220520T220000
DTSTAMP:20260423T142127
CREATED:20211014T212114Z
LAST-MODIFIED:20211014T212114Z
UID:9349-1653069600-1653084000@alwaysraceday.com
SUMMARY:LucasDirt Late Models Truck Country 50 @ 300 Raceway
DESCRIPTION:300 Raceway | MAV TV Plus
URL:https://alwaysraceday.com/schedule/lucasdirt-late-models-truck-country-50-300-raceway/
CATEGORIES:Dirt,Iowa
ATTACH;FMTTYPE=image/png:https://alwaysraceday.com/wp-content/uploads/2021/10/LucasOilLateModelDirtSeries_Logo-2.png
END:VEVENT
BEGIN:VEVENT
DTSTART;TZID=America/Chicago:20220518T180000
DTEND;TZID=America/Chicago:20220518T180000
DTSTAMP:20260423T142127
CREATED:20211225T032938Z
LAST-MODIFIED:20211225T032938Z
UID:10590-1652896800-1652896800@alwaysraceday.com
SUMMARY:Castrol FloRacing Night in America @ Marshalltown
DESCRIPTION:Marshalltown Speedway | FloRacing
URL:https://alwaysraceday.com/schedule/castrol-floracing-night-in-america-marshalltown-2/
CATEGORIES:Dirt,Iowa
ATTACH;FMTTYPE=image/jpeg:https://alwaysraceday.com/wp-content/uploads/2021/12/flo_racing.jpg
END:VEVENT
BEGIN:VEVENT
DTSTART;TZID=America/Chicago:20220514T184500
DTEND;TZID=America/Chicago:20220514T184500
DTSTAMP:20260423T142127
CREATED:20211223T222916Z
LAST-MODIFIED:20211223T222916Z
UID:10342-1652553900-1652553900@alwaysraceday.com
SUMMARY:Knoxville Weekly Racing
DESCRIPTION:Knoxville Raceway | DirtVision
URL:https://alwaysraceday.com/schedule/knoxville-weekly-racing-14/
CATEGORIES:Dirt,Iowa
ATTACH;FMTTYPE=image/png:https://alwaysraceday.com/wp-content/uploads/2021/12/logo-2.png
END:VEVENT
BEGIN:VEVENT
DTSTART;TZID=America/Chicago:20220507T184500
DTEND;TZID=America/Chicago:20220507T184500
DTSTAMP:20260423T142127
CREATED:20211223T222818Z
LAST-MODIFIED:20211223T225005Z
UID:10340-1651949100-1651949100@alwaysraceday.com
SUMMARY:Knoxville Weekly Racing
DESCRIPTION:Knoxville Raceway | DirtVision
URL:https://alwaysraceday.com/schedule/knoxville-weekly-racing-13/
CATEGORIES:Dirt,Iowa
ATTACH;FMTTYPE=image/png:https://alwaysraceday.com/wp-content/uploads/2021/12/logo-2.png
END:VEVENT
BEGIN:VEVENT
DTSTART;TZID=America/Chicago:20220430T184500
DTEND;TZID=America/Chicago:20220430T184500
DTSTAMP:20260423T142127
CREATED:20211223T222621Z
LAST-MODIFIED:20211223T222621Z
UID:10338-1651344300-1651344300@alwaysraceday.com
SUMMARY:Knoxville Weekly Racing
DESCRIPTION:Knoxville Raceway | DirtVision
URL:https://alwaysraceday.com/schedule/knoxville-weekly-racing-12/
CATEGORIES:Dirt,Iowa
ATTACH;FMTTYPE=image/png:https://alwaysraceday.com/wp-content/uploads/2021/12/logo-2.png
END:VEVENT
BEGIN:VEVENT
DTSTART;TZID=America/Chicago:20220423T184500
DTEND;TZID=America/Chicago:20220423T184500
DTSTAMP:20260423T142127
CREATED:20211223T222408Z
LAST-MODIFIED:20211223T225018Z
UID:10336-1650739500-1650739500@alwaysraceday.com
SUMMARY:Knoxville Weekly Racing
DESCRIPTION:Knoxville Raceway | DirtVision
URL:https://alwaysraceday.com/schedule/knoxville-weekly-racing-11/
CATEGORIES:Dirt,Iowa
ATTACH;FMTTYPE=image/png:https://alwaysraceday.com/wp-content/uploads/2021/12/logo-2.png
END:VEVENT
BEGIN:VEVENT
DTSTART;TZID=America/Chicago:20220416T184500
DTEND;TZID=America/Chicago:20220416T184500
DTSTAMP:20260423T142127
CREATED:20211223T221213Z
LAST-MODIFIED:20211223T225014Z
UID:10333-1650134700-1650134700@alwaysraceday.com
SUMMARY:Knoxville Weekly Racing Season Opener
DESCRIPTION:Knoxville Raceway | DirtVision
URL:https://alwaysraceday.com/schedule/knoxville-weekly-racing-season-opener/
CATEGORIES:Dirt,Iowa
ATTACH;FMTTYPE=image/png:https://alwaysraceday.com/wp-content/uploads/2021/12/logo-2.png
END:VEVENT
BEGIN:VEVENT
DTSTART;TZID=America/Chicago:20220401T183000
DTEND;TZID=America/Chicago:20220401T183000
DTSTAMP:20260423T142127
CREATED:20211225T171118Z
LAST-MODIFIED:20211225T171118Z
UID:10621-1648837800-1648837800@alwaysraceday.com
SUMMARY:USMTS 16th Spring Nationals @ Webster City
DESCRIPTION:Hamilton County Speedway | RacinDirt
URL:https://alwaysraceday.com/schedule/usmts-16th-spring-nationals-webster-city/
CATEGORIES:Dirt,Iowa
ATTACH;FMTTYPE=image/jpeg:https://alwaysraceday.com/wp-content/uploads/2021/12/usmts-logo-1.jpg
END:VEVENT
BEGIN:VEVENT
DTSTART;TZID=America/Chicago:20210918T184500
DTEND;TZID=America/Chicago:20210918T224500
DTSTAMP:20260423T142127
CREATED:20210125T155945Z
LAST-MODIFIED:20210125T155945Z
UID:5845-1631990700-1632005100@alwaysraceday.com
SUMMARY:2021 Knoxville Late Model Nationals
DESCRIPTION:Knoxville Raceway | DirtVision
URL:https://alwaysraceday.com/schedule/2021-knoxville-late-model-nationals/
CATEGORIES:Dirt,Iowa
ATTACH;FMTTYPE=image/png:https://alwaysraceday.com/wp-content/uploads/2021/01/img_14520-1.png
END:VEVENT
BEGIN:VEVENT
DTSTART;TZID=America/Chicago:20210917T184500
DTEND;TZID=America/Chicago:20210917T214500
DTSTAMP:20260423T142127
CREATED:20210125T155844Z
LAST-MODIFIED:20210125T155844Z
UID:5844-1631904300-1631915100@alwaysraceday.com
SUMMARY:LOLMDS Knoxville Late Model Nationals Night 2
DESCRIPTION:Knoxville Raceway | DirtVision
URL:https://alwaysraceday.com/schedule/lolmds-knoxville-late-model-nationals-night-2/
CATEGORIES:Dirt,Iowa
ATTACH;FMTTYPE=image/png:https://alwaysraceday.com/wp-content/uploads/2021/01/img_14520-1.png
END:VEVENT
BEGIN:VEVENT
DTSTART;TZID=America/Chicago:20210916T184500
DTEND;TZID=America/Chicago:20210916T224500
DTSTAMP:20260423T142127
CREATED:20210125T155752Z
LAST-MODIFIED:20210125T155752Z
UID:5843-1631817900-1631832300@alwaysraceday.com
SUMMARY:LOLMDS Knoxville Late Model Nationals Night 1
DESCRIPTION:Knoxville Raceway | DirtVision
URL:https://alwaysraceday.com/schedule/lolmds-knoxville-late-model-nationals-night-1/
CATEGORIES:Dirt,Iowa
ATTACH;FMTTYPE=image/png:https://alwaysraceday.com/wp-content/uploads/2021/01/img_14520-1.png
END:VEVENT
BEGIN:VEVENT
DTSTART;TZID=America/Chicago:20210828T184500
DTEND;TZID=America/Chicago:20210828T214500
DTSTAMP:20260423T142127
CREATED:20210125T155639Z
LAST-MODIFIED:20210125T155639Z
UID:5840-1630176300-1630187100@alwaysraceday.com
SUMMARY:Knoxville Weekly Racing Championship Night
DESCRIPTION:Knoxville Raceway | DirtVision
URL:https://alwaysraceday.com/schedule/knoxville-weekly-racing-championship-night/
CATEGORIES:Dirt,Iowa
ATTACH;FMTTYPE=image/png:https://alwaysraceday.com/wp-content/uploads/2021/01/knoxvlogo.png
END:VEVENT
BEGIN:VEVENT
DTSTART;TZID=America/Chicago:20210814T184500
DTEND;TZID=America/Chicago:20210814T224500
DTSTAMP:20260423T142127
CREATED:20200902T153020Z
LAST-MODIFIED:20200902T153020Z
UID:4786-1628966700-1628981100@alwaysraceday.com
SUMMARY:The 60th Annual Knoxville Nationals
DESCRIPTION:Knoxville Raceway | DirtVision
URL:https://alwaysraceday.com/schedule/the-60th-annual-knoxville-nationals/
CATEGORIES:Dirt,Iowa
ATTACH;FMTTYPE=image/png:https://alwaysraceday.com/wp-content/uploads/2020/09/Knoxville-Nationals-60-Years-Logo-Transparent-PNG.png
END:VEVENT
BEGIN:VEVENT
DTSTART;TZID=America/Chicago:20210813T184500
DTEND;TZID=America/Chicago:20210813T224500
DTSTAMP:20260423T142127
CREATED:20200902T152840Z
LAST-MODIFIED:20200902T152840Z
UID:4784-1628880300-1628894700@alwaysraceday.com
SUMMARY:60th Annual Knoxville Nationals Hard Knox Night
DESCRIPTION:Knoxville Raceway | DirtVision
URL:https://alwaysraceday.com/schedule/60th-annual-knoxville-nationals-hard-knox-night/
CATEGORIES:Dirt,Iowa
ATTACH;FMTTYPE=image/png:https://alwaysraceday.com/wp-content/uploads/2020/09/Knoxville-Nationals-60-Years-Logo-Transparent-PNG.png
END:VEVENT
BEGIN:VEVENT
DTSTART;TZID=America/Chicago:20210811T184500
DTEND;TZID=America/Chicago:20210811T224500
DTSTAMP:20260423T142127
CREATED:20200902T150412Z
LAST-MODIFIED:20200902T150412Z
UID:4778-1628707500-1628721900@alwaysraceday.com
SUMMARY:60th Annual Knoxville Nationals Prelim Night 1
DESCRIPTION:Knoxville Raceway | DirtVision
URL:https://alwaysraceday.com/schedule/60th-annual-knoxville-nationals-prelim-night-1/
CATEGORIES:Dirt,Iowa
ATTACH;FMTTYPE=image/png:https://alwaysraceday.com/wp-content/uploads/2020/09/Knoxville-Nationals-60-Years-Logo-Transparent-PNG.png
END:VEVENT
BEGIN:VEVENT
DTSTART;TZID=America/Chicago:20210808T184500
DTEND;TZID=America/Chicago:20210808T224500
DTSTAMP:20260423T142127
CREATED:20210125T155311Z
LAST-MODIFIED:20210125T155311Z
UID:5837-1628448300-1628462700@alwaysraceday.com
SUMMARY:2021 Capitani Classic
DESCRIPTION:Knoxville Raceway | DirtVision
URL:https://alwaysraceday.com/schedule/2021-capitani-classic/
CATEGORIES:Dirt,Iowa
ATTACH;FMTTYPE=image/png:https://alwaysraceday.com/wp-content/uploads/2021/01/img_15690.png
END:VEVENT
BEGIN:VEVENT
DTSTART;TZID=America/Chicago:20210807T184500
DTEND;TZID=America/Chicago:20210807T214500
DTSTAMP:20260423T142127
CREATED:20210125T155141Z
LAST-MODIFIED:20210125T155141Z
UID:5835-1628361900-1628372700@alwaysraceday.com
SUMMARY:2021 Knoxville 360 Nationals
DESCRIPTION:Knoxville Raceway | DirtVision
URL:https://alwaysraceday.com/schedule/2021-knoxville-360-nationals/
CATEGORIES:Dirt,Iowa
ATTACH;FMTTYPE=image/png:https://alwaysraceday.com/wp-content/uploads/2021/01/img_14276-1.png
END:VEVENT
END:VCALENDAR